BEGIN:VCALENDAR
PRODID:-//WikiCFP//ahmsalism 1.0//EN
VERSION:2.0
CALSCALE:GREGORIAN
BEGIN:VEVENT
DTSTAMP:20260422T224219Z
DTSTART;VALUE=DATE:20140707
DTEND;VALUE=DATE:20140710
SUMMARY:ICALIP 2014
DESCRIPTION:International Conference on Audio\, Language and Image Proces
 sing
URL:http://www.wikicfp.com/cfp/servlet/event.showcfp?eventid=35348&copyow
 nerid=62315
UID:cfp431022-E@wikicfp.com
END:VEVENT
BEGIN:VEVENT
DTSTAMP:20260422T224219Z
DTSTART;VALUE=DATE:20140425
SUMMARY:ICALIP 2014 Deadline
DESCRIPTION:International Conference on Audio\, Language and Image Proces
 sing
URL:http://www.wikicfp.com/cfp/servlet/event.showcfp?eventid=35348&copyow
 nerid=62315
UID:cfp431022-D@wikicfp.com
END:VEVENT
BEGIN:VEVENT
DTSTAMP:20260422T224219Z
DTSTART;VALUE=DATE:20140510
SUMMARY:ICALIP 2014 Notification Due
DESCRIPTION:International Conference on Audio\, Language and Image Proces
 sing
URL:http://www.wikicfp.com/cfp/servlet/event.showcfp?eventid=35348&copyow
 nerid=62315
UID:cfp431022-N@wikicfp.com
END:VEVENT
BEGIN:VEVENT
DTSTAMP:20260422T224219Z
DTSTART;VALUE=DATE:20140530
SUMMARY:ICALIP 2014 Final Version Due
DESCRIPTION:International Conference on Audio\, Language and Image Proces
 sing
URL:http://www.wikicfp.com/cfp/servlet/event.showcfp?eventid=35348&copyow
 nerid=62315
UID:cfp431022-N@wikicfp.com
END:VEVENT
END:VCALENDAR
