BEGIN:VCALENDAR
PRODID:-//WikiCFP//jhkwon 1.0//EN
VERSION:2.0
CALSCALE:GREGORIAN
BEGIN:VEVENT
DTSTAMP:20260421T105504Z
DTSTART;VALUE=DATE:20170917
DTEND;VALUE=DATE:20170924
SUMMARY:ICSME 2017
DESCRIPTION:IEEE International Conference on Software Maintenance and Evo
 lution
URL:http://www.wikicfp.com/cfp/servlet/event.showcfp?eventid=59294&copyow
 nerid=60998
UID:cfp690467-E@wikicfp.com
END:VEVENT
BEGIN:VEVENT
DTSTAMP:20260421T105504Z
DTSTART;VALUE=DATE:20170520
DTEND;VALUE=DATE:20170529
SUMMARY:ICSE 2017
DESCRIPTION:39th International Conference on Software Engineering
URL:http://www.wikicfp.com/cfp/servlet/event.showcfp?eventid=54445&copyow
 nerid=60998
UID:cfp606884-E@wikicfp.com
END:VEVENT
BEGIN:VEVENT
DTSTAMP:20260421T105504Z
DTSTART;VALUE=DATE:20160826
SUMMARY:ICSE 2017 Deadline
DESCRIPTION:39th International Conference on Software Engineering
URL:http://www.wikicfp.com/cfp/servlet/event.showcfp?eventid=54445&copyow
 nerid=60998
UID:cfp606884-D@wikicfp.com
END:VEVENT
BEGIN:VEVENT
DTSTAMP:20260421T105504Z
DTSTART;VALUE=DATE:20161212
SUMMARY:ICSE 2017 Notification Due
DESCRIPTION:39th International Conference on Software Engineering
URL:http://www.wikicfp.com/cfp/servlet/event.showcfp?eventid=54445&copyow
 nerid=60998
UID:cfp606884-N@wikicfp.com
END:VEVENT
BEGIN:VEVENT
DTSTAMP:20260421T105504Z
DTSTART;VALUE=DATE:20170213
SUMMARY:ICSE 2017 Final Version Due
DESCRIPTION:39th International Conference on Software Engineering
URL:http://www.wikicfp.com/cfp/servlet/event.showcfp?eventid=54445&copyow
 nerid=60998
UID:cfp606884-N@wikicfp.com
END:VEVENT
BEGIN:VEVENT
DTSTAMP:20260421T105504Z
DTSTART;VALUE=DATE:20170605
DTEND;VALUE=DATE:20170609
SUMMARY:ICWE 2017
DESCRIPTION:17th International Conference on Web Engineering
URL:http://www.wikicfp.com/cfp/servlet/event.showcfp?eventid=59151&copyow
 nerid=60998
UID:cfp696756-E@wikicfp.com
END:VEVENT
BEGIN:VEVENT
DTSTAMP:20260421T105504Z
DTSTART;VALUE=DATE:20170122
SUMMARY:ICWE 2017 Deadline
DESCRIPTION:17th International Conference on Web Engineering
URL:http://www.wikicfp.com/cfp/servlet/event.showcfp?eventid=59151&copyow
 nerid=60998
UID:cfp696756-D@wikicfp.com
END:VEVENT
BEGIN:VEVENT
DTSTAMP:20260421T105504Z
DTSTART;VALUE=DATE:20170303
SUMMARY:ICWE 2017 Notification Due
DESCRIPTION:17th International Conference on Web Engineering
URL:http://www.wikicfp.com/cfp/servlet/event.showcfp?eventid=59151&copyow
 nerid=60998
UID:cfp696756-N@wikicfp.com
END:VEVENT
BEGIN:VEVENT
DTSTAMP:20260421T105504Z
DTSTART;VALUE=DATE:20170324
SUMMARY:ICWE 2017 Final Version Due
DESCRIPTION:17th International Conference on Web Engineering
URL:http://www.wikicfp.com/cfp/servlet/event.showcfp?eventid=59151&copyow
 nerid=60998
UID:cfp696756-N@wikicfp.com
END:VEVENT
BEGIN:VEVENT
DTSTAMP:20260421T105504Z
DTSTART;VALUE=DATE:20170520
DTEND;VALUE=DATE:20170522
SUMMARY:MSR 2017
DESCRIPTION:Mining Software Repositories
URL:http://www.wikicfp.com/cfp/servlet/event.showcfp?eventid=58263&copyow
 nerid=60998
UID:cfp696743-E@wikicfp.com
END:VEVENT
BEGIN:VEVENT
DTSTAMP:20260421T105504Z
DTSTART;VALUE=DATE:20170203
SUMMARY:MSR 2017 Abstract Due
DESCRIPTION:Mining Software Repositories
URL:http://www.wikicfp.com/cfp/servlet/event.showcfp?eventid=58263&copyow
 nerid=60998
UID:cfp696743-A@wikicfp.com
END:VEVENT
BEGIN:VEVENT
DTSTAMP:20260421T105504Z
DTSTART;VALUE=DATE:20170210
SUMMARY:MSR 2017 Deadline
DESCRIPTION:Mining Software Repositories
URL:http://www.wikicfp.com/cfp/servlet/event.showcfp?eventid=58263&copyow
 nerid=60998
UID:cfp696743-D@wikicfp.com
END:VEVENT
BEGIN:VEVENT
DTSTAMP:20260421T105504Z
DTSTART;VALUE=DATE:20170315
SUMMARY:MSR 2017 Notification Due
DESCRIPTION:Mining Software Repositories
URL:http://www.wikicfp.com/cfp/servlet/event.showcfp?eventid=58263&copyow
 nerid=60998
UID:cfp696743-N@wikicfp.com
END:VEVENT
BEGIN:VEVENT
DTSTAMP:20260421T105504Z
DTSTART;VALUE=DATE:20170330
SUMMARY:MSR 2017 Final Version Due
DESCRIPTION:Mining Software Repositories
URL:http://www.wikicfp.com/cfp/servlet/event.showcfp?eventid=58263&copyow
 nerid=60998
UID:cfp696743-N@wikicfp.com
END:VEVENT
BEGIN:VEVENT
DTSTAMP:20260421T105504Z
DTSTART;VALUE=DATE:20170904
DTEND;VALUE=DATE:20170909
SUMMARY:ESEC/FSE 2017
DESCRIPTION:11th Joint Meeting of the European Software Engineering Confe
 rence and the ACM SIGSOFT Symposium on the Foundations of Software Engin
 eering 
URL:http://www.wikicfp.com/cfp/servlet/event.showcfp?eventid=58264&copyow
 nerid=60998
UID:cfp690468-E@wikicfp.com
END:VEVENT
BEGIN:VEVENT
DTSTAMP:20260421T105504Z
DTSTART;VALUE=DATE:20170227
SUMMARY:ESEC/FSE 2017 Deadline
DESCRIPTION:11th Joint Meeting of the European Software Engineering Confe
 rence and the ACM SIGSOFT Symposium on the Foundations of Software Engin
 eering 
URL:http://www.wikicfp.com/cfp/servlet/event.showcfp?eventid=58264&copyow
 nerid=60998
UID:cfp690468-D@wikicfp.com
END:VEVENT
BEGIN:VEVENT
DTSTAMP:20260421T105504Z
DTSTART;VALUE=DATE:20170602
SUMMARY:ESEC/FSE 2017 Notification Due
DESCRIPTION:11th Joint Meeting of the European Software Engineering Confe
 rence and the ACM SIGSOFT Symposium on the Foundations of Software Engin
 eering 
URL:http://www.wikicfp.com/cfp/servlet/event.showcfp?eventid=58264&copyow
 nerid=60998
UID:cfp690468-N@wikicfp.com
END:VEVENT
BEGIN:VEVENT
DTSTAMP:20260421T105504Z
DTSTART;VALUE=DATE:20170714
SUMMARY:ESEC/FSE 2017 Final Version Due
DESCRIPTION:11th Joint Meeting of the European Software Engineering Confe
 rence and the ACM SIGSOFT Symposium on the Foundations of Software Engin
 eering 
URL:http://www.wikicfp.com/cfp/servlet/event.showcfp?eventid=58264&copyow
 nerid=60998
UID:cfp690468-N@wikicfp.com
END:VEVENT
BEGIN:VEVENT
DTSTAMP:20260421T105504Z
DTSTART;VALUE=DATE:20171109
DTEND;VALUE=DATE:20171111
SUMMARY:ESEM 2017
DESCRIPTION:Empirical Software Engineering and Measurement
URL:http://www.wikicfp.com/cfp/servlet/event.showcfp?eventid=61214&copyow
 nerid=60998
UID:cfp696741-E@wikicfp.com
END:VEVENT
BEGIN:VEVENT
DTSTAMP:20260421T105504Z
DTSTART;VALUE=DATE:20170331
SUMMARY:ESEM 2017 Abstract Due
DESCRIPTION:Empirical Software Engineering and Measurement
URL:http://www.wikicfp.com/cfp/servlet/event.showcfp?eventid=61214&copyow
 nerid=60998
UID:cfp696741-A@wikicfp.com
END:VEVENT
BEGIN:VEVENT
DTSTAMP:20260421T105504Z
DTSTART;VALUE=DATE:20170407
SUMMARY:ESEM 2017 Deadline
DESCRIPTION:Empirical Software Engineering and Measurement
URL:http://www.wikicfp.com/cfp/servlet/event.showcfp?eventid=61214&copyow
 nerid=60998
UID:cfp696741-D@wikicfp.com
END:VEVENT
BEGIN:VEVENT
DTSTAMP:20260421T105504Z
DTSTART;VALUE=DATE:20170605
SUMMARY:ESEM 2017 Notification Due
DESCRIPTION:Empirical Software Engineering and Measurement
URL:http://www.wikicfp.com/cfp/servlet/event.showcfp?eventid=61214&copyow
 nerid=60998
UID:cfp696741-N@wikicfp.com
END:VEVENT
BEGIN:VEVENT
DTSTAMP:20260421T105504Z
DTSTART;VALUE=DATE:20170714
SUMMARY:ESEM 2017 Final Version Due
DESCRIPTION:Empirical Software Engineering and Measurement
URL:http://www.wikicfp.com/cfp/servlet/event.showcfp?eventid=61214&copyow
 nerid=60998
UID:cfp696741-N@wikicfp.com
END:VEVENT
BEGIN:VEVENT
DTSTAMP:20260421T105504Z
DTSTART;VALUE=DATE:20171023
DTEND;VALUE=DATE:20171027
SUMMARY:ISSRE 2017
DESCRIPTION:International Symposium on Software Reliability Engineering
URL:http://www.wikicfp.com/cfp/servlet/event.showcfp?eventid=62340&copyow
 nerid=60998
UID:cfp690466-E@wikicfp.com
END:VEVENT
BEGIN:VEVENT
DTSTAMP:20260421T105504Z
DTSTART;VALUE=DATE:20170428
SUMMARY:ISSRE 2017 Abstract Due
DESCRIPTION:International Symposium on Software Reliability Engineering
URL:http://www.wikicfp.com/cfp/servlet/event.showcfp?eventid=62340&copyow
 nerid=60998
UID:cfp690466-A@wikicfp.com
END:VEVENT
BEGIN:VEVENT
DTSTAMP:20260421T105504Z
DTSTART;VALUE=DATE:20170505
SUMMARY:ISSRE 2017 Deadline
DESCRIPTION:International Symposium on Software Reliability Engineering
URL:http://www.wikicfp.com/cfp/servlet/event.showcfp?eventid=62340&copyow
 nerid=60998
UID:cfp690466-D@wikicfp.com
END:VEVENT
BEGIN:VEVENT
DTSTAMP:20260421T105504Z
DTSTART;VALUE=DATE:20170713
SUMMARY:ISSRE 2017 Notification Due
DESCRIPTION:International Symposium on Software Reliability Engineering
URL:http://www.wikicfp.com/cfp/servlet/event.showcfp?eventid=62340&copyow
 nerid=60998
UID:cfp690466-N@wikicfp.com
END:VEVENT
BEGIN:VEVENT
DTSTAMP:20260421T105504Z
DTSTART;VALUE=DATE:20170813
SUMMARY:ISSRE 2017 Final Version Due
DESCRIPTION:International Symposium on Software Reliability Engineering
URL:http://www.wikicfp.com/cfp/servlet/event.showcfp?eventid=62340&copyow
 nerid=60998
UID:cfp690466-N@wikicfp.com
END:VEVENT
BEGIN:VEVENT
DTSTAMP:20260421T105504Z
DTSTART;VALUE=DATE:20171030
DTEND;VALUE=DATE:20171104
SUMMARY:ASE 2017
DESCRIPTION:The 32nd IEEE/ACM International Conference on Automated Softw
 are Engineering
URL:http://www.wikicfp.com/cfp/servlet/event.showcfp?eventid=59738&copyow
 nerid=60998
UID:cfp690469-E@wikicfp.com
END:VEVENT
BEGIN:VEVENT
DTSTAMP:20260421T105504Z
DTSTART;VALUE=DATE:20170505
SUMMARY:ASE 2017 Abstract Due
DESCRIPTION:The 32nd IEEE/ACM International Conference on Automated Softw
 are Engineering
URL:http://www.wikicfp.com/cfp/servlet/event.showcfp?eventid=59738&copyow
 nerid=60998
UID:cfp690469-A@wikicfp.com
END:VEVENT
BEGIN:VEVENT
DTSTAMP:20260421T105504Z
DTSTART;VALUE=DATE:20170512
SUMMARY:ASE 2017 Deadline
DESCRIPTION:The 32nd IEEE/ACM International Conference on Automated Softw
 are Engineering
URL:http://www.wikicfp.com/cfp/servlet/event.showcfp?eventid=59738&copyow
 nerid=60998
UID:cfp690469-D@wikicfp.com
END:VEVENT
BEGIN:VEVENT
DTSTAMP:20260421T105504Z
DTSTART;VALUE=DATE:20170721
SUMMARY:ASE 2017 Notification Due
DESCRIPTION:The 32nd IEEE/ACM International Conference on Automated Softw
 are Engineering
URL:http://www.wikicfp.com/cfp/servlet/event.showcfp?eventid=59738&copyow
 nerid=60998
UID:cfp690469-N@wikicfp.com
END:VEVENT
BEGIN:VEVENT
DTSTAMP:20260421T105504Z
DTSTART;VALUE=DATE:20180409
DTEND;VALUE=DATE:20180414
SUMMARY:ICST 2018
DESCRIPTION:The 11th IEEE International Conference on Software Testing\, 
 Verification\, and Validation (ICST 2018)
URL:http://www.wikicfp.com/cfp/servlet/event.showcfp?eventid=65910&copyow
 nerid=60998
UID:cfp690471-E@wikicfp.com
END:VEVENT
BEGIN:VEVENT
DTSTAMP:20260421T105504Z
DTSTART;VALUE=DATE:20171005
SUMMARY:ICST 2018 Abstract Due
DESCRIPTION:The 11th IEEE International Conference on Software Testing\, 
 Verification\, and Validation (ICST 2018)
URL:http://www.wikicfp.com/cfp/servlet/event.showcfp?eventid=65910&copyow
 nerid=60998
UID:cfp690471-A@wikicfp.com
END:VEVENT
BEGIN:VEVENT
DTSTAMP:20260421T105504Z
DTSTART;VALUE=DATE:20171012
SUMMARY:ICST 2018 Deadline
DESCRIPTION:The 11th IEEE International Conference on Software Testing\, 
 Verification\, and Validation (ICST 2018)
URL:http://www.wikicfp.com/cfp/servlet/event.showcfp?eventid=65910&copyow
 nerid=60998
UID:cfp690471-D@wikicfp.com
END:VEVENT
BEGIN:VEVENT
DTSTAMP:20260421T105504Z
DTSTART;VALUE=DATE:20171218
SUMMARY:ICST 2018 Notification Due
DESCRIPTION:The 11th IEEE International Conference on Software Testing\, 
 Verification\, and Validation (ICST 2018)
URL:http://www.wikicfp.com/cfp/servlet/event.showcfp?eventid=65910&copyow
 nerid=60998
UID:cfp690471-N@wikicfp.com
END:VEVENT
BEGIN:VEVENT
DTSTAMP:20260421T105504Z
DTSTART;VALUE=DATE:20180716
DTEND;VALUE=DATE:20180723
SUMMARY:ISSTA 2018
DESCRIPTION:International Symposium on Software Testing and Analysis
URL:http://www.wikicfp.com/cfp/servlet/event.showcfp?eventid=66465&copyow
 nerid=60998
UID:cfp690470-E@wikicfp.com
END:VEVENT
BEGIN:VEVENT
DTSTAMP:20260421T105504Z
DTSTART;VALUE=DATE:20180129
SUMMARY:ISSTA 2018 Deadline
DESCRIPTION:International Symposium on Software Testing and Analysis
URL:http://www.wikicfp.com/cfp/servlet/event.showcfp?eventid=66465&copyow
 nerid=60998
UID:cfp690470-D@wikicfp.com
END:VEVENT
BEGIN:VEVENT
DTSTAMP:20260421T105504Z
DTSTART;VALUE=DATE:20180502
SUMMARY:ISSTA 2018 Notification Due
DESCRIPTION:International Symposium on Software Testing and Analysis
URL:http://www.wikicfp.com/cfp/servlet/event.showcfp?eventid=66465&copyow
 nerid=60998
UID:cfp690470-N@wikicfp.com
END:VEVENT
BEGIN:VEVENT
DTSTAMP:20260421T105504Z
DTSTART;VALUE=DATE:20180608
SUMMARY:ISSTA 2018 Final Version Due
DESCRIPTION:International Symposium on Software Testing and Analysis
URL:http://www.wikicfp.com/cfp/servlet/event.showcfp?eventid=66465&copyow
 nerid=60998
UID:cfp690470-N@wikicfp.com
END:VEVENT
END:VCALENDAR
