BEGIN:VCALENDAR
PRODID:-//WikiCFP//martinxu9 1.0//EN
VERSION:2.0
CALSCALE:GREGORIAN
BEGIN:VEVENT
DTSTAMP:20260421T202512Z
DTSTART;VALUE=DATE:20101117
DTEND;VALUE=DATE:20101120
SUMMARY:QShine 2010
DESCRIPTION:7th International ICST Conference on Heterogeneous Networking
  for Quality\, Reliability\, Security\, and Robustness
URL:http://www.wikicfp.com/cfp/servlet/event.showcfp?eventid=10847&copyow
 nerid=6071
UID:cfp101202-E@wikicfp.com
END:VEVENT
BEGIN:VEVENT
DTSTAMP:20260421T202512Z
DTSTART;VALUE=DATE:20100820
SUMMARY:QShine 2010 Deadline
DESCRIPTION:7th International ICST Conference on Heterogeneous Networking
  for Quality\, Reliability\, Security\, and Robustness
URL:http://www.wikicfp.com/cfp/servlet/event.showcfp?eventid=10847&copyow
 nerid=6071
UID:cfp101202-D@wikicfp.com
END:VEVENT
BEGIN:VEVENT
DTSTAMP:20260421T202512Z
DTSTART;VALUE=DATE:20101008
SUMMARY:QShine 2010 Notification Due
DESCRIPTION:7th International ICST Conference on Heterogeneous Networking
  for Quality\, Reliability\, Security\, and Robustness
URL:http://www.wikicfp.com/cfp/servlet/event.showcfp?eventid=10847&copyow
 nerid=6071
UID:cfp101202-N@wikicfp.com
END:VEVENT
BEGIN:VEVENT
DTSTAMP:20260421T202512Z
DTSTART;VALUE=DATE:20101020
SUMMARY:QShine 2010 Final Version Due
DESCRIPTION:7th International ICST Conference on Heterogeneous Networking
  for Quality\, Reliability\, Security\, and Robustness
URL:http://www.wikicfp.com/cfp/servlet/event.showcfp?eventid=10847&copyow
 nerid=6071
UID:cfp101202-N@wikicfp.com
END:VEVENT
BEGIN:VEVENT
DTSTAMP:20260421T202512Z
DTSTART;VALUE=DATE:20110321
DTEND;VALUE=DATE:20110326
SUMMARY:ACM DADS 2011
DESCRIPTION:Dependable and Adaptive Distributed Systems Track at ACM SAC 
 2011
URL:http://www.wikicfp.com/cfp/servlet/event.showcfp?eventid=10513&copyow
 nerid=6071
UID:cfp93378-E@wikicfp.com
END:VEVENT
BEGIN:VEVENT
DTSTAMP:20260421T202512Z
DTSTART;VALUE=DATE:20100824
SUMMARY:ACM DADS 2011 Deadline
DESCRIPTION:Dependable and Adaptive Distributed Systems Track at ACM SAC 
 2011
URL:http://www.wikicfp.com/cfp/servlet/event.showcfp?eventid=10513&copyow
 nerid=6071
UID:cfp93378-D@wikicfp.com
END:VEVENT
BEGIN:VEVENT
DTSTAMP:20260421T202512Z
DTSTART;VALUE=DATE:20101012
SUMMARY:ACM DADS 2011 Notification Due
DESCRIPTION:Dependable and Adaptive Distributed Systems Track at ACM SAC 
 2011
URL:http://www.wikicfp.com/cfp/servlet/event.showcfp?eventid=10513&copyow
 nerid=6071
UID:cfp93378-N@wikicfp.com
END:VEVENT
BEGIN:VEVENT
DTSTAMP:20260421T202512Z
DTSTART;VALUE=DATE:20101102
SUMMARY:ACM DADS 2011 Final Version Due
DESCRIPTION:Dependable and Adaptive Distributed Systems Track at ACM SAC 
 2011
URL:http://www.wikicfp.com/cfp/servlet/event.showcfp?eventid=10513&copyow
 nerid=6071
UID:cfp93378-N@wikicfp.com
END:VEVENT
BEGIN:VEVENT
DTSTAMP:20260421T202512Z
DTSTART;VALUE=DATE:20110627
DTEND;VALUE=DATE:20110630
SUMMARY:ACC 2011
DESCRIPTION:American Control Conference
URL:http://www.wikicfp.com/cfp/servlet/event.showcfp?eventid=10389&copyow
 nerid=6071
UID:cfp92336-E@wikicfp.com
END:VEVENT
BEGIN:VEVENT
DTSTAMP:20260421T202512Z
DTSTART;VALUE=DATE:20100915
SUMMARY:ACC 2011 Deadline
DESCRIPTION:American Control Conference
URL:http://www.wikicfp.com/cfp/servlet/event.showcfp?eventid=10389&copyow
 nerid=6071
UID:cfp92336-D@wikicfp.com
END:VEVENT
BEGIN:VEVENT
DTSTAMP:20260421T202512Z
DTSTART;VALUE=DATE:20110131
SUMMARY:ACC 2011 Notification Due
DESCRIPTION:American Control Conference
URL:http://www.wikicfp.com/cfp/servlet/event.showcfp?eventid=10389&copyow
 nerid=6071
UID:cfp92336-N@wikicfp.com
END:VEVENT
BEGIN:VEVENT
DTSTAMP:20260421T202512Z
DTSTART;VALUE=DATE:20110406
SUMMARY:ACC 2011 Final Version Due
DESCRIPTION:American Control Conference
URL:http://www.wikicfp.com/cfp/servlet/event.showcfp?eventid=10389&copyow
 nerid=6071
UID:cfp92336-N@wikicfp.com
END:VEVENT
BEGIN:VEVENT
DTSTAMP:20260421T202512Z
DTSTART;VALUE=DATE:20110605
DTEND;VALUE=DATE:20110610
SUMMARY:ICC 2011
DESCRIPTION:IEEE International Conference on Communications
URL:http://www.wikicfp.com/cfp/servlet/event.showcfp?eventid=8676&copyown
 erid=6071
UID:cfp84439-E@wikicfp.com
END:VEVENT
BEGIN:VEVENT
DTSTAMP:20260421T202512Z
DTSTART;VALUE=DATE:20100920
SUMMARY:ICC 2011 Deadline
DESCRIPTION:IEEE International Conference on Communications
URL:http://www.wikicfp.com/cfp/servlet/event.showcfp?eventid=8676&copyown
 erid=6071
UID:cfp84439-D@wikicfp.com
END:VEVENT
BEGIN:VEVENT
DTSTAMP:20260421T202512Z
DTSTART;VALUE=DATE:20110111
SUMMARY:ICC 2011 Notification Due
DESCRIPTION:IEEE International Conference on Communications
URL:http://www.wikicfp.com/cfp/servlet/event.showcfp?eventid=8676&copyown
 erid=6071
UID:cfp84439-N@wikicfp.com
END:VEVENT
BEGIN:VEVENT
DTSTAMP:20260421T202512Z
DTSTART;VALUE=DATE:20110211
SUMMARY:ICC 2011 Final Version Due
DESCRIPTION:IEEE International Conference on Communications
URL:http://www.wikicfp.com/cfp/servlet/event.showcfp?eventid=8676&copyown
 erid=6071
UID:cfp84439-N@wikicfp.com
END:VEVENT
BEGIN:VEVENT
DTSTAMP:20260421T202512Z
DTSTART;VALUE=DATE:20110321
DTEND;VALUE=DATE:20110326
SUMMARY:PerCom 2011
DESCRIPTION:IEEE International Conference on Pervasive Computing and Comm
 unications
URL:http://www.wikicfp.com/cfp/servlet/event.showcfp?eventid=9491&copyown
 erid=6071
UID:cfp83095-E@wikicfp.com
END:VEVENT
BEGIN:VEVENT
DTSTAMP:20260421T202512Z
DTSTART;VALUE=DATE:20100927
SUMMARY:PerCom 2011 Deadline
DESCRIPTION:IEEE International Conference on Pervasive Computing and Comm
 unications
URL:http://www.wikicfp.com/cfp/servlet/event.showcfp?eventid=9491&copyown
 erid=6071
UID:cfp83095-D@wikicfp.com
END:VEVENT
BEGIN:VEVENT
DTSTAMP:20260421T202512Z
DTSTART;VALUE=DATE:20101221
SUMMARY:PerCom 2011 Notification Due
DESCRIPTION:IEEE International Conference on Pervasive Computing and Comm
 unications
URL:http://www.wikicfp.com/cfp/servlet/event.showcfp?eventid=9491&copyown
 erid=6071
UID:cfp83095-N@wikicfp.com
END:VEVENT
BEGIN:VEVENT
DTSTAMP:20260421T202512Z
DTSTART;VALUE=DATE:20110128
SUMMARY:PerCom 2011 Final Version Due
DESCRIPTION:IEEE International Conference on Pervasive Computing and Comm
 unications
URL:http://www.wikicfp.com/cfp/servlet/event.showcfp?eventid=9491&copyown
 erid=6071
UID:cfp83095-N@wikicfp.com
END:VEVENT
BEGIN:VEVENT
DTSTAMP:20260421T202512Z
DTSTART;VALUE=DATE:20110411
DTEND;VALUE=DATE:20110414
SUMMARY:ICNSC 2011
DESCRIPTION:8th IEEE International Conference on Networking\, Sensing and
  Control
URL:http://www.wikicfp.com/cfp/servlet/event.showcfp?eventid=8628&copyown
 erid=6071
UID:cfp93856-E@wikicfp.com
END:VEVENT
BEGIN:VEVENT
DTSTAMP:20260421T202512Z
DTSTART;VALUE=DATE:20101001
SUMMARY:ICNSC 2011 Deadline
DESCRIPTION:8th IEEE International Conference on Networking\, Sensing and
  Control
URL:http://www.wikicfp.com/cfp/servlet/event.showcfp?eventid=8628&copyown
 erid=6071
UID:cfp93856-D@wikicfp.com
END:VEVENT
BEGIN:VEVENT
DTSTAMP:20260421T202512Z
DTSTART;VALUE=DATE:20101115
SUMMARY:ICNSC 2011 Notification Due
DESCRIPTION:8th IEEE International Conference on Networking\, Sensing and
  Control
URL:http://www.wikicfp.com/cfp/servlet/event.showcfp?eventid=8628&copyown
 erid=6071
UID:cfp93856-N@wikicfp.com
END:VEVENT
BEGIN:VEVENT
DTSTAMP:20260421T202512Z
DTSTART;VALUE=DATE:20101215
SUMMARY:ICNSC 2011 Final Version Due
DESCRIPTION:8th IEEE International Conference on Networking\, Sensing and
  Control
URL:http://www.wikicfp.com/cfp/servlet/event.showcfp?eventid=8628&copyown
 erid=6071
UID:cfp93856-N@wikicfp.com
END:VEVENT
BEGIN:VEVENT
DTSTAMP:20260421T202512Z
DTSTART;VALUE=DATE:20101215
DTEND;VALUE=DATE:20101218
SUMMARY:ANTS 2010
DESCRIPTION:IEEE 4th International Symposium on Advanced Networks and Tel
 ecommunication Systems
URL:http://www.wikicfp.com/cfp/servlet/event.showcfp?eventid=9655&copyown
 erid=6071
UID:cfp84607-E@wikicfp.com
END:VEVENT
BEGIN:VEVENT
DTSTAMP:20260421T202512Z
DTSTART;VALUE=DATE:20101001
SUMMARY:ANTS 2010 Deadline
DESCRIPTION:IEEE 4th International Symposium on Advanced Networks and Tel
 ecommunication Systems
URL:http://www.wikicfp.com/cfp/servlet/event.showcfp?eventid=9655&copyown
 erid=6071
UID:cfp84607-D@wikicfp.com
END:VEVENT
BEGIN:VEVENT
DTSTAMP:20260421T202512Z
DTSTART;VALUE=DATE:20100219
DTEND;VALUE=DATE:20100222
SUMMARY:ICCSN 2011
DESCRIPTION:2011 3rd International Conference on Communication Software a
 nd Networks (ICCSN 2011)
URL:http://www.wikicfp.com/cfp/servlet/event.showcfp?eventid=9822&copyown
 erid=6071
UID:cfp85911-E@wikicfp.com
END:VEVENT
BEGIN:VEVENT
DTSTAMP:20260421T202512Z
DTSTART;VALUE=DATE:20101130
SUMMARY:ICCSN 2011 Abstract Due
DESCRIPTION:2011 3rd International Conference on Communication Software a
 nd Networks (ICCSN 2011)
URL:http://www.wikicfp.com/cfp/servlet/event.showcfp?eventid=9822&copyown
 erid=6071
UID:cfp85911-A@wikicfp.com
END:VEVENT
BEGIN:VEVENT
DTSTAMP:20260421T202512Z
DTSTART;VALUE=DATE:20101015
SUMMARY:ICCSN 2011 Deadline
DESCRIPTION:2011 3rd International Conference on Communication Software a
 nd Networks (ICCSN 2011)
URL:http://www.wikicfp.com/cfp/servlet/event.showcfp?eventid=9822&copyown
 erid=6071
UID:cfp85911-D@wikicfp.com
END:VEVENT
BEGIN:VEVENT
DTSTAMP:20260421T202512Z
DTSTART;VALUE=DATE:20101115
SUMMARY:ICCSN 2011 Notification Due
DESCRIPTION:2011 3rd International Conference on Communication Software a
 nd Networks (ICCSN 2011)
URL:http://www.wikicfp.com/cfp/servlet/event.showcfp?eventid=9822&copyown
 erid=6071
UID:cfp85911-N@wikicfp.com
END:VEVENT
BEGIN:VEVENT
DTSTAMP:20260421T202512Z
DTSTART;VALUE=DATE:20101130
SUMMARY:ICCSN 2011 Final Version Due
DESCRIPTION:2011 3rd International Conference on Communication Software a
 nd Networks (ICCSN 2011)
URL:http://www.wikicfp.com/cfp/servlet/event.showcfp?eventid=9822&copyown
 erid=6071
UID:cfp85911-N@wikicfp.com
END:VEVENT
BEGIN:VEVENT
DTSTAMP:20260421T202512Z
DTSTART;VALUE=DATE:20110503
DTEND;VALUE=DATE:20110507
SUMMARY:IWT 2011
DESCRIPTION:International Workshop on Telecommunications
URL:http://www.wikicfp.com/cfp/servlet/event.showcfp?eventid=10370&copyow
 nerid=6071
UID:cfp92433-E@wikicfp.com
END:VEVENT
BEGIN:VEVENT
DTSTAMP:20260421T202512Z
DTSTART;VALUE=DATE:20101015
SUMMARY:IWT 2011 Deadline
DESCRIPTION:International Workshop on Telecommunications
URL:http://www.wikicfp.com/cfp/servlet/event.showcfp?eventid=10370&copyow
 nerid=6071
UID:cfp92433-D@wikicfp.com
END:VEVENT
BEGIN:VEVENT
DTSTAMP:20260421T202512Z
DTSTART;VALUE=DATE:20101215
SUMMARY:IWT 2011 Notification Due
DESCRIPTION:International Workshop on Telecommunications
URL:http://www.wikicfp.com/cfp/servlet/event.showcfp?eventid=10370&copyow
 nerid=6071
UID:cfp92433-N@wikicfp.com
END:VEVENT
BEGIN:VEVENT
DTSTAMP:20260421T202512Z
DTSTART;VALUE=DATE:20110301
SUMMARY:IWT 2011 Final Version Due
DESCRIPTION:International Workshop on Telecommunications
URL:http://www.wikicfp.com/cfp/servlet/event.showcfp?eventid=10370&copyow
 nerid=6071
UID:cfp92433-N@wikicfp.com
END:VEVENT
BEGIN:VEVENT
DTSTAMP:20260421T202512Z
DTSTART;VALUE=DATE:20110222
DTEND;VALUE=DATE:20110225
SUMMARY:SensorApps 2011
DESCRIPTION:IEEE Sensors Applications Symposium
URL:http://www.wikicfp.com/cfp/servlet/event.showcfp?eventid=10885&copyow
 nerid=6071
UID:cfp102121-E@wikicfp.com
END:VEVENT
BEGIN:VEVENT
DTSTAMP:20260421T202512Z
DTSTART;VALUE=DATE:20101015
SUMMARY:SensorApps 2011 Deadline
DESCRIPTION:IEEE Sensors Applications Symposium
URL:http://www.wikicfp.com/cfp/servlet/event.showcfp?eventid=10885&copyow
 nerid=6071
UID:cfp102121-D@wikicfp.com
END:VEVENT
BEGIN:VEVENT
DTSTAMP:20260421T202512Z
DTSTART;VALUE=DATE:20101115
SUMMARY:SensorApps 2011 Notification Due
DESCRIPTION:IEEE Sensors Applications Symposium
URL:http://www.wikicfp.com/cfp/servlet/event.showcfp?eventid=10885&copyow
 nerid=6071
UID:cfp102121-N@wikicfp.com
END:VEVENT
BEGIN:VEVENT
DTSTAMP:20260421T202512Z
DTSTART;VALUE=DATE:20110301
DTEND;VALUE=DATE:20110303
SUMMARY:HotMobile 2011
DESCRIPTION:Eleventh Workshop on Mobile Computing Systems and Application
 s
URL:http://www.wikicfp.com/cfp/servlet/event.showcfp?eventid=10556&copyow
 nerid=6071
UID:cfp93857-E@wikicfp.com
END:VEVENT
BEGIN:VEVENT
DTSTAMP:20260421T202512Z
DTSTART;VALUE=DATE:20101022
SUMMARY:HotMobile 2011 Deadline
DESCRIPTION:Eleventh Workshop on Mobile Computing Systems and Application
 s
URL:http://www.wikicfp.com/cfp/servlet/event.showcfp?eventid=10556&copyow
 nerid=6071
UID:cfp93857-D@wikicfp.com
END:VEVENT
BEGIN:VEVENT
DTSTAMP:20260421T202512Z
DTSTART;VALUE=DATE:20101216
SUMMARY:HotMobile 2011 Notification Due
DESCRIPTION:Eleventh Workshop on Mobile Computing Systems and Application
 s
URL:http://www.wikicfp.com/cfp/servlet/event.showcfp?eventid=10556&copyow
 nerid=6071
UID:cfp93857-N@wikicfp.com
END:VEVENT
BEGIN:VEVENT
DTSTAMP:20260421T202512Z
DTSTART;VALUE=DATE:20110121
SUMMARY:HotMobile 2011 Final Version Due
DESCRIPTION:Eleventh Workshop on Mobile Computing Systems and Application
 s
URL:http://www.wikicfp.com/cfp/servlet/event.showcfp?eventid=10556&copyow
 nerid=6071
UID:cfp93857-N@wikicfp.com
END:VEVENT
BEGIN:VEVENT
DTSTAMP:20260421T202512Z
DTSTART;VALUE=DATE:20110412
DTEND;VALUE=DATE:20110415
SUMMARY:IPSN 2011
DESCRIPTION:The 10th International Conference on Information Processing i
 n Sensor Networks 
URL:http://www.wikicfp.com/cfp/servlet/event.showcfp?eventid=10824&copyow
 nerid=6071
UID:cfp97859-E@wikicfp.com
END:VEVENT
BEGIN:VEVENT
DTSTAMP:20260421T202512Z
DTSTART;VALUE=DATE:20101022
SUMMARY:IPSN 2011 Abstract Due
DESCRIPTION:The 10th International Conference on Information Processing i
 n Sensor Networks 
URL:http://www.wikicfp.com/cfp/servlet/event.showcfp?eventid=10824&copyow
 nerid=6071
UID:cfp97859-A@wikicfp.com
END:VEVENT
BEGIN:VEVENT
DTSTAMP:20260421T202512Z
DTSTART;VALUE=DATE:20101029
SUMMARY:IPSN 2011 Deadline
DESCRIPTION:The 10th International Conference on Information Processing i
 n Sensor Networks 
URL:http://www.wikicfp.com/cfp/servlet/event.showcfp?eventid=10824&copyow
 nerid=6071
UID:cfp97859-D@wikicfp.com
END:VEVENT
BEGIN:VEVENT
DTSTAMP:20260421T202512Z
DTSTART;VALUE=DATE:20110121
SUMMARY:IPSN 2011 Notification Due
DESCRIPTION:The 10th International Conference on Information Processing i
 n Sensor Networks 
URL:http://www.wikicfp.com/cfp/servlet/event.showcfp?eventid=10824&copyow
 nerid=6071
UID:cfp97859-N@wikicfp.com
END:VEVENT
BEGIN:VEVENT
DTSTAMP:20260421T202512Z
DTSTART;VALUE=DATE:20110221
DTEND;VALUE=DATE:20110224
SUMMARY:ICUIMC 2011
DESCRIPTION:The 5th International Conference on Ubiquitous Information Ma
 nagement and Communication
URL:http://www.wikicfp.com/cfp/servlet/event.showcfp?eventid=10509&copyow
 nerid=6071
UID:cfp93300-E@wikicfp.com
END:VEVENT
BEGIN:VEVENT
DTSTAMP:20260421T202512Z
DTSTART;VALUE=DATE:20101031
SUMMARY:ICUIMC 2011 Deadline
DESCRIPTION:The 5th International Conference on Ubiquitous Information Ma
 nagement and Communication
URL:http://www.wikicfp.com/cfp/servlet/event.showcfp?eventid=10509&copyow
 nerid=6071
UID:cfp93300-D@wikicfp.com
END:VEVENT
BEGIN:VEVENT
DTSTAMP:20260421T202512Z
DTSTART;VALUE=DATE:20101129
SUMMARY:ICUIMC 2011 Notification Due
DESCRIPTION:The 5th International Conference on Ubiquitous Information Ma
 nagement and Communication
URL:http://www.wikicfp.com/cfp/servlet/event.showcfp?eventid=10509&copyow
 nerid=6071
UID:cfp93300-N@wikicfp.com
END:VEVENT
BEGIN:VEVENT
DTSTAMP:20260421T202512Z
DTSTART;VALUE=DATE:20101227
SUMMARY:ICUIMC 2011 Final Version Due
DESCRIPTION:The 5th International Conference on Ubiquitous Information Ma
 nagement and Communication
URL:http://www.wikicfp.com/cfp/servlet/event.showcfp?eventid=10509&copyow
 nerid=6071
UID:cfp93300-N@wikicfp.com
END:VEVENT
BEGIN:VEVENT
DTSTAMP:20260421T202512Z
DTSTART;VALUE=DATE:20101130
SUMMARY:Mobility in Wireless Sensor Networks 2010 Deadline
DESCRIPTION:Special Issue of the Computer Journal in 'Mobility in Wireles
 s Sensor Networks'
URL:http://www.wikicfp.com/cfp/servlet/event.showcfp?eventid=9728&copyown
 erid=6071
UID:cfp85070-D@wikicfp.com
END:VEVENT
BEGIN:VEVENT
DTSTAMP:20260421T202512Z
DTSTART;VALUE=DATE:20110210
SUMMARY:Mobility in Wireless Sensor Networks 2010 Notification Due
DESCRIPTION:Special Issue of the Computer Journal in 'Mobility in Wireles
 s Sensor Networks'
URL:http://www.wikicfp.com/cfp/servlet/event.showcfp?eventid=9728&copyown
 erid=6071
UID:cfp85070-N@wikicfp.com
END:VEVENT
BEGIN:VEVENT
DTSTAMP:20260421T202512Z
DTSTART;VALUE=DATE:20110320
SUMMARY:Mobility in Wireless Sensor Networks 2010 Final Version Due
DESCRIPTION:Special Issue of the Computer Journal in 'Mobility in Wireles
 s Sensor Networks'
URL:http://www.wikicfp.com/cfp/servlet/event.showcfp?eventid=9728&copyown
 erid=6071
UID:cfp85070-N@wikicfp.com
END:VEVENT
BEGIN:VEVENT
DTSTAMP:20260421T202512Z
DTSTART;VALUE=DATE:20110319
DTEND;VALUE=DATE:20110321
SUMMARY: ICNCC  2011
DESCRIPTION:2011 International Conference on Network Communication and Co
 mputer 
URL:http://www.wikicfp.com/cfp/servlet/event.showcfp?eventid=10565&copyow
 nerid=6071
UID:cfp93842-E@wikicfp.com
END:VEVENT
BEGIN:VEVENT
DTSTAMP:20260421T202512Z
DTSTART;VALUE=DATE:20110105
SUMMARY: ICNCC  2011 Abstract Due
DESCRIPTION:2011 International Conference on Network Communication and Co
 mputer 
URL:http://www.wikicfp.com/cfp/servlet/event.showcfp?eventid=10565&copyow
 nerid=6071
UID:cfp93842-A@wikicfp.com
END:VEVENT
BEGIN:VEVENT
DTSTAMP:20260421T202512Z
DTSTART;VALUE=DATE:20101201
SUMMARY: ICNCC  2011 Deadline
DESCRIPTION:2011 International Conference on Network Communication and Co
 mputer 
URL:http://www.wikicfp.com/cfp/servlet/event.showcfp?eventid=10565&copyow
 nerid=6071
UID:cfp93842-D@wikicfp.com
END:VEVENT
BEGIN:VEVENT
DTSTAMP:20260421T202512Z
DTSTART;VALUE=DATE:20101215
SUMMARY: ICNCC  2011 Notification Due
DESCRIPTION:2011 International Conference on Network Communication and Co
 mputer 
URL:http://www.wikicfp.com/cfp/servlet/event.showcfp?eventid=10565&copyow
 nerid=6071
UID:cfp93842-N@wikicfp.com
END:VEVENT
BEGIN:VEVENT
DTSTAMP:20260421T202512Z
DTSTART;VALUE=DATE:20110105
SUMMARY: ICNCC  2011 Final Version Due
DESCRIPTION:2011 International Conference on Network Communication and Co
 mputer 
URL:http://www.wikicfp.com/cfp/servlet/event.showcfp?eventid=10565&copyow
 nerid=6071
UID:cfp93842-N@wikicfp.com
END:VEVENT
BEGIN:VEVENT
DTSTAMP:20260421T202512Z
DTSTART;VALUE=DATE:20110502
DTEND;VALUE=DATE:20110505
SUMMARY:ICWOC  2011
DESCRIPTION:2011 International Conference on Wireless and Optical Communi
 cations (ICWOC 2011)
URL:http://www.wikicfp.com/cfp/servlet/event.showcfp?eventid=10533&copyow
 nerid=6071
UID:cfp93859-E@wikicfp.com
END:VEVENT
BEGIN:VEVENT
DTSTAMP:20260421T202512Z
DTSTART;VALUE=DATE:20110201
SUMMARY:ICWOC  2011 Abstract Due
DESCRIPTION:2011 International Conference on Wireless and Optical Communi
 cations (ICWOC 2011)
URL:http://www.wikicfp.com/cfp/servlet/event.showcfp?eventid=10533&copyow
 nerid=6071
UID:cfp93859-A@wikicfp.com
END:VEVENT
BEGIN:VEVENT
DTSTAMP:20260421T202512Z
DTSTART;VALUE=DATE:20110101
SUMMARY:ICWOC  2011 Deadline
DESCRIPTION:2011 International Conference on Wireless and Optical Communi
 cations (ICWOC 2011)
URL:http://www.wikicfp.com/cfp/servlet/event.showcfp?eventid=10533&copyow
 nerid=6071
UID:cfp93859-D@wikicfp.com
END:VEVENT
BEGIN:VEVENT
DTSTAMP:20260421T202512Z
DTSTART;VALUE=DATE:20110115
SUMMARY:ICWOC  2011 Notification Due
DESCRIPTION:2011 International Conference on Wireless and Optical Communi
 cations (ICWOC 2011)
URL:http://www.wikicfp.com/cfp/servlet/event.showcfp?eventid=10533&copyow
 nerid=6071
UID:cfp93859-N@wikicfp.com
END:VEVENT
BEGIN:VEVENT
DTSTAMP:20260421T202512Z
DTSTART;VALUE=DATE:20110201
SUMMARY:ICWOC  2011 Final Version Due
DESCRIPTION:2011 International Conference on Wireless and Optical Communi
 cations (ICWOC 2011)
URL:http://www.wikicfp.com/cfp/servlet/event.showcfp?eventid=10533&copyow
 nerid=6071
UID:cfp93859-N@wikicfp.com
END:VEVENT
BEGIN:VEVENT
DTSTAMP:20260421T202512Z
DTSTART;VALUE=DATE:20110516
DTEND;VALUE=DATE:20110521
SUMMARY:ICNS 2011
DESCRIPTION:Integrated Communication\, Navigation\, Surveillance Conferen
 ce
URL:http://www.wikicfp.com/cfp/servlet/event.showcfp?eventid=10111&copyow
 nerid=6071
UID:cfp91881-E@wikicfp.com
END:VEVENT
BEGIN:VEVENT
DTSTAMP:20260421T202512Z
DTSTART;VALUE=DATE:20110214
SUMMARY:ICNS 2011 Deadline
DESCRIPTION:Integrated Communication\, Navigation\, Surveillance Conferen
 ce
URL:http://www.wikicfp.com/cfp/servlet/event.showcfp?eventid=10111&copyow
 nerid=6071
UID:cfp91881-D@wikicfp.com
END:VEVENT
BEGIN:VEVENT
DTSTAMP:20260421T202512Z
DTSTART;VALUE=DATE:20110314
SUMMARY:ICNS 2011 Notification Due
DESCRIPTION:Integrated Communication\, Navigation\, Surveillance Conferen
 ce
URL:http://www.wikicfp.com/cfp/servlet/event.showcfp?eventid=10111&copyow
 nerid=6071
UID:cfp91881-N@wikicfp.com
END:VEVENT
BEGIN:VEVENT
DTSTAMP:20260421T202512Z
DTSTART;VALUE=DATE:20110415
SUMMARY:ICNS 2011 Final Version Due
DESCRIPTION:Integrated Communication\, Navigation\, Surveillance Conferen
 ce
URL:http://www.wikicfp.com/cfp/servlet/event.showcfp?eventid=10111&copyow
 nerid=6071
UID:cfp91881-N@wikicfp.com
END:VEVENT
END:VCALENDAR
