BEGIN:VCALENDAR
PRODID:-//WikiCFP//DarcyRiddell 1.0//EN
VERSION:2.0
CALSCALE:GREGORIAN
BEGIN:VEVENT
DTSTAMP:20260422T203503Z
DTSTART;VALUE=DATE:20140522
DTEND;VALUE=DATE:20140524
SUMMARY:SEE 2014
DESCRIPTION:Sustainability\, Ethics and Entrepreneurship Conference
URL:http://www.wikicfp.com/cfp/servlet/event.showcfp?eventid=33256&copyow
 nerid=60516
UID:cfp419462-E@wikicfp.com
END:VEVENT
BEGIN:VEVENT
DTSTAMP:20260422T203503Z
DTSTART;VALUE=DATE:20140122
SUMMARY:SEE 2014 Deadline
DESCRIPTION:Sustainability\, Ethics and Entrepreneurship Conference
URL:http://www.wikicfp.com/cfp/servlet/event.showcfp?eventid=33256&copyow
 nerid=60516
UID:cfp419462-D@wikicfp.com
END:VEVENT
BEGIN:VEVENT
DTSTAMP:20260422T203503Z
DTSTART;VALUE=DATE:20140226
SUMMARY:SEE 2014 Notification Due
DESCRIPTION:Sustainability\, Ethics and Entrepreneurship Conference
URL:http://www.wikicfp.com/cfp/servlet/event.showcfp?eventid=33256&copyow
 nerid=60516
UID:cfp419462-N@wikicfp.com
END:VEVENT
BEGIN:VEVENT
DTSTAMP:20260422T203503Z
DTSTART;VALUE=DATE:20140508
DTEND;VALUE=DATE:20140510
SUMMARY:OPGE 2014
DESCRIPTION:Organizing for the post-growth economy
URL:http://www.wikicfp.com/cfp/servlet/event.showcfp?eventid=33758&copyow
 nerid=60516
UID:cfp419465-E@wikicfp.com
END:VEVENT
BEGIN:VEVENT
DTSTAMP:20260422T203503Z
DTSTART;VALUE=DATE:20140131
SUMMARY:OPGE 2014 Deadline
DESCRIPTION:Organizing for the post-growth economy
URL:http://www.wikicfp.com/cfp/servlet/event.showcfp?eventid=33758&copyow
 nerid=60516
UID:cfp419465-D@wikicfp.com
END:VEVENT
BEGIN:VEVENT
DTSTAMP:20260422T203503Z
DTSTART;VALUE=DATE:20141021
DTEND;VALUE=DATE:20141026
SUMMARY:Institute for Open Understanding 2014
DESCRIPTION:Overdeveloped But Underexposed: Humankind's Predicament Viewe
 d through an Artist's Lens
URL:http://www.wikicfp.com/cfp/servlet/event.showcfp?eventid=33910&copyow
 nerid=60516
UID:cfp419470-E@wikicfp.com
END:VEVENT
BEGIN:VEVENT
DTSTAMP:20260422T203503Z
DTSTART;VALUE=DATE:20140215
SUMMARY:Institute for Open Understanding 2014 Deadline
DESCRIPTION:Overdeveloped But Underexposed: Humankind's Predicament Viewe
 d through an Artist's Lens
URL:http://www.wikicfp.com/cfp/servlet/event.showcfp?eventid=33910&copyow
 nerid=60516
UID:cfp419470-D@wikicfp.com
END:VEVENT
BEGIN:VEVENT
DTSTAMP:20260422T203503Z
DTSTART;VALUE=DATE:20140315
SUMMARY:Institute for Open Understanding 2014 Notification Due
DESCRIPTION:Overdeveloped But Underexposed: Humankind's Predicament Viewe
 d through an Artist's Lens
URL:http://www.wikicfp.com/cfp/servlet/event.showcfp?eventid=33910&copyow
 nerid=60516
UID:cfp419470-N@wikicfp.com
END:VEVENT
BEGIN:VEVENT
DTSTAMP:20260422T203503Z
DTSTART;VALUE=DATE:20140616
DTEND;VALUE=DATE:20140619
SUMMARY:GRONEN 2014
DESCRIPTION:Group of Research on Organizations and the Natural Environmen
 t 
URL:http://www.wikicfp.com/cfp/servlet/event.showcfp?eventid=33150&copyow
 nerid=60516
UID:cfp419460-E@wikicfp.com
END:VEVENT
BEGIN:VEVENT
DTSTAMP:20260422T203503Z
DTSTART;VALUE=DATE:20140217
SUMMARY:GRONEN 2014 Deadline
DESCRIPTION:Group of Research on Organizations and the Natural Environmen
 t 
URL:http://www.wikicfp.com/cfp/servlet/event.showcfp?eventid=33150&copyow
 nerid=60516
UID:cfp419460-D@wikicfp.com
END:VEVENT
BEGIN:VEVENT
DTSTAMP:20260422T203503Z
DTSTART;VALUE=DATE:20140414
SUMMARY:GRONEN 2014 Notification Due
DESCRIPTION:Group of Research on Organizations and the Natural Environmen
 t 
URL:http://www.wikicfp.com/cfp/servlet/event.showcfp?eventid=33150&copyow
 nerid=60516
UID:cfp419460-N@wikicfp.com
END:VEVENT
BEGIN:VEVENT
DTSTAMP:20260422T203503Z
DTSTART;VALUE=DATE:20140328
DTEND;VALUE=DATE:20140330
SUMMARY:TAISP 2014
DESCRIPTION:Theory\, Action\, and Impact of Social Protest 2014
URL:http://www.wikicfp.com/cfp/servlet/event.showcfp?eventid=33818&copyow
 nerid=60516
UID:cfp419471-E@wikicfp.com
END:VEVENT
BEGIN:VEVENT
DTSTAMP:20260422T203503Z
DTSTART;VALUE=DATE:20140228
SUMMARY:TAISP 2014 Deadline
DESCRIPTION:Theory\, Action\, and Impact of Social Protest 2014
URL:http://www.wikicfp.com/cfp/servlet/event.showcfp?eventid=33818&copyow
 nerid=60516
UID:cfp419471-D@wikicfp.com
END:VEVENT
BEGIN:VEVENT
DTSTAMP:20260422T203503Z
DTSTART;VALUE=DATE:20140422
DTEND;VALUE=DATE:20140426
SUMMARY:EMCSR 2014
DESCRIPTION:European Meetings on Cybernetics and Systems Research
URL:http://www.wikicfp.com/cfp/servlet/event.showcfp?eventid=35290&copyow
 nerid=60516
UID:cfp419468-E@wikicfp.com
END:VEVENT
BEGIN:VEVENT
DTSTAMP:20260422T203503Z
DTSTART;VALUE=DATE:20140228
SUMMARY:EMCSR 2014 Deadline
DESCRIPTION:European Meetings on Cybernetics and Systems Research
URL:http://www.wikicfp.com/cfp/servlet/event.showcfp?eventid=35290&copyow
 nerid=60516
UID:cfp419468-D@wikicfp.com
END:VEVENT
BEGIN:VEVENT
DTSTAMP:20260422T203503Z
DTSTART;VALUE=DATE:20140902
DTEND;VALUE=DATE:20140907
SUMMARY:DESSE 2014
DESCRIPTION:Fourth International Conference on Degrowth for Ecological Su
 stainability and Social Equity
URL:http://www.wikicfp.com/cfp/servlet/event.showcfp?eventid=33682&copyow
 nerid=60516
UID:cfp419464-E@wikicfp.com
END:VEVENT
BEGIN:VEVENT
DTSTAMP:20260422T203503Z
DTSTART;VALUE=DATE:20140303
SUMMARY:DESSE 2014 Deadline
DESCRIPTION:Fourth International Conference on Degrowth for Ecological Su
 stainability and Social Equity
URL:http://www.wikicfp.com/cfp/servlet/event.showcfp?eventid=33682&copyow
 nerid=60516
UID:cfp419464-D@wikicfp.com
END:VEVENT
BEGIN:VEVENT
DTSTAMP:20260422T203503Z
DTSTART;VALUE=DATE:20140531
SUMMARY:DESSE 2014 Notification Due
DESCRIPTION:Fourth International Conference on Degrowth for Ecological Su
 stainability and Social Equity
URL:http://www.wikicfp.com/cfp/servlet/event.showcfp?eventid=33682&copyow
 nerid=60516
UID:cfp419464-N@wikicfp.com
END:VEVENT
BEGIN:VEVENT
DTSTAMP:20260422T203503Z
DTSTART;VALUE=DATE:20140827
DTEND;VALUE=DATE:20140830
SUMMARY:IST 2014
DESCRIPTION:5th International conference on Sustainability Transitions
URL:http://www.wikicfp.com/cfp/servlet/event.showcfp?eventid=33152&copyow
 nerid=60516
UID:cfp419461-E@wikicfp.com
END:VEVENT
BEGIN:VEVENT
DTSTAMP:20260422T203503Z
DTSTART;VALUE=DATE:20131201
SUMMARY:IST 2014 Abstract Due
DESCRIPTION:5th International conference on Sustainability Transitions
URL:http://www.wikicfp.com/cfp/servlet/event.showcfp?eventid=33152&copyow
 nerid=60516
UID:cfp419461-A@wikicfp.com
END:VEVENT
BEGIN:VEVENT
DTSTAMP:20260422T203503Z
DTSTART;VALUE=DATE:20140331
SUMMARY:IST 2014 Deadline
DESCRIPTION:5th International conference on Sustainability Transitions
URL:http://www.wikicfp.com/cfp/servlet/event.showcfp?eventid=33152&copyow
 nerid=60516
UID:cfp419461-D@wikicfp.com
END:VEVENT
BEGIN:VEVENT
DTSTAMP:20260422T203503Z
DTSTART;VALUE=DATE:20140430
SUMMARY:IST 2014 Notification Due
DESCRIPTION:5th International conference on Sustainability Transitions
URL:http://www.wikicfp.com/cfp/servlet/event.showcfp?eventid=33152&copyow
 nerid=60516
UID:cfp419461-N@wikicfp.com
END:VEVENT
BEGIN:VEVENT
DTSTAMP:20260422T203503Z
DTSTART;VALUE=DATE:20140611
DTEND;VALUE=DATE:20140613
SUMMARY:SFCC 2014
DESCRIPTION:Sustainable Futures in a Changing Climate
URL:http://www.wikicfp.com/cfp/servlet/event.showcfp?eventid=34417&copyow
 nerid=60516
UID:cfp419467-E@wikicfp.com
END:VEVENT
BEGIN:VEVENT
DTSTAMP:20260422T203503Z
DTSTART;VALUE=DATE:20140116
SUMMARY:SFCC 2014 Abstract Due
DESCRIPTION:Sustainable Futures in a Changing Climate
URL:http://www.wikicfp.com/cfp/servlet/event.showcfp?eventid=34417&copyow
 nerid=60516
UID:cfp419467-A@wikicfp.com
END:VEVENT
BEGIN:VEVENT
DTSTAMP:20260422T203503Z
DTSTART;VALUE=DATE:20140505
SUMMARY:SFCC 2014 Deadline
DESCRIPTION:Sustainable Futures in a Changing Climate
URL:http://www.wikicfp.com/cfp/servlet/event.showcfp?eventid=34417&copyow
 nerid=60516
UID:cfp419467-D@wikicfp.com
END:VEVENT
BEGIN:VEVENT
DTSTAMP:20260422T203503Z
DTSTART;VALUE=DATE:20140611
DTEND;VALUE=DATE:20140614
SUMMARY:NICISS 2014
DESCRIPTION:Ninth International Conference on Interdisciplinary Social Sc
 iences
URL:http://www.wikicfp.com/cfp/servlet/event.showcfp?eventid=30247&copyow
 nerid=60516
UID:cfp419458-E@wikicfp.com
END:VEVENT
BEGIN:VEVENT
DTSTAMP:20260422T203503Z
DTSTART;VALUE=DATE:20140511
SUMMARY:NICISS 2014 Deadline
DESCRIPTION:Ninth International Conference on Interdisciplinary Social Sc
 iences
URL:http://www.wikicfp.com/cfp/servlet/event.showcfp?eventid=30247&copyow
 nerid=60516
UID:cfp419458-D@wikicfp.com
END:VEVENT
BEGIN:VEVENT
DTSTAMP:20260422T203503Z
DTSTART;VALUE=DATE:20140608
DTEND;VALUE=DATE:20140612
SUMMARY:GRF-SPaC 2014
DESCRIPTION:Sustainable Production and Consumption Conference
URL:http://www.wikicfp.com/cfp/servlet/event.showcfp?eventid=33938&copyow
 nerid=60516
UID:cfp419466-E@wikicfp.com
END:VEVENT
BEGIN:VEVENT
DTSTAMP:20260422T203503Z
DTSTART;VALUE=DATE:20131215
SUMMARY:GRF-SPaC 2014 Abstract Due
DESCRIPTION:Sustainable Production and Consumption Conference
URL:http://www.wikicfp.com/cfp/servlet/event.showcfp?eventid=33938&copyow
 nerid=60516
UID:cfp419466-A@wikicfp.com
END:VEVENT
BEGIN:VEVENT
DTSTAMP:20260422T203503Z
DTSTART;VALUE=DATE:20140515
SUMMARY:GRF-SPaC 2014 Deadline
DESCRIPTION:Sustainable Production and Consumption Conference
URL:http://www.wikicfp.com/cfp/servlet/event.showcfp?eventid=33938&copyow
 nerid=60516
UID:cfp419466-D@wikicfp.com
END:VEVENT
BEGIN:VEVENT
DTSTAMP:20260422T203503Z
DTSTART;VALUE=DATE:20140115
SUMMARY:GRF-SPaC 2014 Notification Due
DESCRIPTION:Sustainable Production and Consumption Conference
URL:http://www.wikicfp.com/cfp/servlet/event.showcfp?eventid=33938&copyow
 nerid=60516
UID:cfp419466-N@wikicfp.com
END:VEVENT
BEGIN:VEVENT
DTSTAMP:20260422T203503Z
DTSTART;VALUE=DATE:20140719
DTEND;VALUE=DATE:20140721
SUMMARY:ICSSI 2014
DESCRIPTION:2014 International Conference on Social Sciences and Innovati
 ons
URL:http://www.wikicfp.com/cfp/servlet/event.showcfp?eventid=34681&copyow
 nerid=60516
UID:cfp419472-E@wikicfp.com
END:VEVENT
BEGIN:VEVENT
DTSTAMP:20260422T203503Z
DTSTART;VALUE=DATE:20140520
SUMMARY:ICSSI 2014 Deadline
DESCRIPTION:2014 International Conference on Social Sciences and Innovati
 ons
URL:http://www.wikicfp.com/cfp/servlet/event.showcfp?eventid=34681&copyow
 nerid=60516
UID:cfp419472-D@wikicfp.com
END:VEVENT
BEGIN:VEVENT
DTSTAMP:20260422T203503Z
DTSTART;VALUE=DATE:20140605
SUMMARY:ICSSI 2014 Notification Due
DESCRIPTION:2014 International Conference on Social Sciences and Innovati
 ons
URL:http://www.wikicfp.com/cfp/servlet/event.showcfp?eventid=34681&copyow
 nerid=60516
UID:cfp419472-N@wikicfp.com
END:VEVENT
BEGIN:VEVENT
DTSTAMP:20260422T203503Z
DTSTART;VALUE=DATE:20140620
SUMMARY:ICSSI 2014 Final Version Due
DESCRIPTION:2014 International Conference on Social Sciences and Innovati
 ons
URL:http://www.wikicfp.com/cfp/servlet/event.showcfp?eventid=34681&copyow
 nerid=60516
UID:cfp419472-N@wikicfp.com
END:VEVENT
BEGIN:VEVENT
DTSTAMP:20260422T203503Z
DTSTART;VALUE=DATE:20140921
DTEND;VALUE=DATE:20140924
SUMMARY:LCES 2014
DESCRIPTION:BIT's 4th Low Carbon Earth Summit-2014
URL:http://www.wikicfp.com/cfp/servlet/event.showcfp?eventid=34314&copyow
 nerid=60516
UID:cfp419469-E@wikicfp.com
END:VEVENT
BEGIN:VEVENT
DTSTAMP:20260422T203503Z
DTSTART;VALUE=DATE:20140820
SUMMARY:LCES 2014 Deadline
DESCRIPTION:BIT's 4th Low Carbon Earth Summit-2014
URL:http://www.wikicfp.com/cfp/servlet/event.showcfp?eventid=34314&copyow
 nerid=60516
UID:cfp419469-D@wikicfp.com
END:VEVENT
BEGIN:VEVENT
DTSTAMP:20260422T203503Z
DTSTART;VALUE=DATE:20140820
SUMMARY:LCES 2014 Final Version Due
DESCRIPTION:BIT's 4th Low Carbon Earth Summit-2014
URL:http://www.wikicfp.com/cfp/servlet/event.showcfp?eventid=34314&copyow
 nerid=60516
UID:cfp419469-N@wikicfp.com
END:VEVENT
BEGIN:VEVENT
DTSTAMP:20260422T203503Z
DTSTART;VALUE=DATE:20140615
SUMMARY:BEQ Special Issue 2014 Abstract Due
DESCRIPTION:Business Ethics Quarterly Special Issue - Environmental Susta
 inability and Business: Crisis or Opportunity
URL:http://www.wikicfp.com/cfp/servlet/event.showcfp?eventid=33504&copyow
 nerid=60516
UID:cfp419463-A@wikicfp.com
END:VEVENT
BEGIN:VEVENT
DTSTAMP:20260422T203503Z
DTSTART;VALUE=DATE:20140930
SUMMARY:BEQ Special Issue 2014 Deadline
DESCRIPTION:Business Ethics Quarterly Special Issue - Environmental Susta
 inability and Business: Crisis or Opportunity
URL:http://www.wikicfp.com/cfp/servlet/event.showcfp?eventid=33504&copyow
 nerid=60516
UID:cfp419463-D@wikicfp.com
END:VEVENT
END:VCALENDAR
