BEGIN:VCALENDAR
PRODID:-//WikiCFP//mhimst 1.0//EN
VERSION:2.0
CALSCALE:GREGORIAN
BEGIN:VEVENT
DTSTAMP:20260423T001300Z
DTSTART;VALUE=DATE:20140608
DTEND;VALUE=DATE:20140612
SUMMARY:IV 2014
DESCRIPTION:2014 IEEE Intelligent Vehicles Symposium
URL:http://www.wikicfp.com/cfp/servlet/event.showcfp?eventid=31658&copyow
 nerid=59833
UID:cfp415234-E@wikicfp.com
END:VEVENT
BEGIN:VEVENT
DTSTAMP:20260423T001300Z
DTSTART;VALUE=DATE:20140124
SUMMARY:IV 2014 Deadline
DESCRIPTION:2014 IEEE Intelligent Vehicles Symposium
URL:http://www.wikicfp.com/cfp/servlet/event.showcfp?eventid=31658&copyow
 nerid=59833
UID:cfp415234-D@wikicfp.com
END:VEVENT
BEGIN:VEVENT
DTSTAMP:20260423T001300Z
DTSTART;VALUE=DATE:20140314
SUMMARY:IV 2014 Notification Due
DESCRIPTION:2014 IEEE Intelligent Vehicles Symposium
URL:http://www.wikicfp.com/cfp/servlet/event.showcfp?eventid=31658&copyow
 nerid=59833
UID:cfp415234-N@wikicfp.com
END:VEVENT
BEGIN:VEVENT
DTSTAMP:20260423T001300Z
DTSTART;VALUE=DATE:20140411
SUMMARY:IV 2014 Final Version Due
DESCRIPTION:2014 IEEE Intelligent Vehicles Symposium
URL:http://www.wikicfp.com/cfp/servlet/event.showcfp?eventid=31658&copyow
 nerid=59833
UID:cfp415234-N@wikicfp.com
END:VEVENT
BEGIN:VEVENT
DTSTAMP:20260423T001300Z
DTSTART;VALUE=DATE:20140914
DTEND;VALUE=DATE:20140919
SUMMARY:IROS 2014
DESCRIPTION:IEEE/RSJ International Conference on Intelligent Robots and S
 ystems
URL:http://www.wikicfp.com/cfp/servlet/event.showcfp?eventid=32033&copyow
 nerid=59833
UID:cfp415233-E@wikicfp.com
END:VEVENT
BEGIN:VEVENT
DTSTAMP:20260423T001300Z
DTSTART;VALUE=DATE:20140205
SUMMARY:IROS 2014 Deadline
DESCRIPTION:IEEE/RSJ International Conference on Intelligent Robots and S
 ystems
URL:http://www.wikicfp.com/cfp/servlet/event.showcfp?eventid=32033&copyow
 nerid=59833
UID:cfp415233-D@wikicfp.com
END:VEVENT
BEGIN:VEVENT
DTSTAMP:20260423T001300Z
DTSTART;VALUE=DATE:20140521
SUMMARY:IROS 2014 Notification Due
DESCRIPTION:IEEE/RSJ International Conference on Intelligent Robots and S
 ystems
URL:http://www.wikicfp.com/cfp/servlet/event.showcfp?eventid=32033&copyow
 nerid=59833
UID:cfp415233-N@wikicfp.com
END:VEVENT
BEGIN:VEVENT
DTSTAMP:20260423T001300Z
DTSTART;VALUE=DATE:20140621
SUMMARY:IROS 2014 Final Version Due
DESCRIPTION:IEEE/RSJ International Conference on Intelligent Robots and S
 ystems
URL:http://www.wikicfp.com/cfp/servlet/event.showcfp?eventid=32033&copyow
 nerid=59833
UID:cfp415233-N@wikicfp.com
END:VEVENT
END:VCALENDAR
