BEGIN:VCALENDAR
PRODID:-//WikiCFP//mpapad 1.0//EN
VERSION:2.0
CALSCALE:GREGORIAN
BEGIN:VEVENT
DTSTAMP:20260424T185023Z
DTSTART;VALUE=DATE:20140331
DTEND;VALUE=DATE:20140401
SUMMARY:Mutation 2014
DESCRIPTION:Mutation 2014: 9th International Workshop on Mutation Analysi
 s
URL:http://www.wikicfp.com/cfp/servlet/event.showcfp?eventid=34401&copyow
 nerid=58591
UID:cfp406815-E@wikicfp.com
END:VEVENT
BEGIN:VEVENT
DTSTAMP:20260424T185023Z
DTSTART;VALUE=DATE:20140120
SUMMARY:Mutation 2014 Deadline
DESCRIPTION:Mutation 2014: 9th International Workshop on Mutation Analysi
 s
URL:http://www.wikicfp.com/cfp/servlet/event.showcfp?eventid=34401&copyow
 nerid=58591
UID:cfp406815-D@wikicfp.com
END:VEVENT
BEGIN:VEVENT
DTSTAMP:20260424T185023Z
DTSTART;VALUE=DATE:20140210
SUMMARY:Mutation 2014 Notification Due
DESCRIPTION:Mutation 2014: 9th International Workshop on Mutation Analysi
 s
URL:http://www.wikicfp.com/cfp/servlet/event.showcfp?eventid=34401&copyow
 nerid=58591
UID:cfp406815-N@wikicfp.com
END:VEVENT
BEGIN:VEVENT
DTSTAMP:20260424T185023Z
DTSTART;VALUE=DATE:20150413
DTEND;VALUE=DATE:20150414
SUMMARY:Mutation 2015
DESCRIPTION:10th International Workshop on Mutation Analysis (Mutation 20
 15)
URL:http://www.wikicfp.com/cfp/servlet/event.showcfp?eventid=41776&copyow
 nerid=58591
UID:cfp487570-E@wikicfp.com
END:VEVENT
BEGIN:VEVENT
DTSTAMP:20260424T185023Z
DTSTART;VALUE=DATE:20150130
SUMMARY:Mutation 2015 Deadline
DESCRIPTION:10th International Workshop on Mutation Analysis (Mutation 20
 15)
URL:http://www.wikicfp.com/cfp/servlet/event.showcfp?eventid=41776&copyow
 nerid=58591
UID:cfp487570-D@wikicfp.com
END:VEVENT
BEGIN:VEVENT
DTSTAMP:20260424T185023Z
DTSTART;VALUE=DATE:20150301
SUMMARY:Mutation 2015 Notification Due
DESCRIPTION:10th International Workshop on Mutation Analysis (Mutation 20
 15)
URL:http://www.wikicfp.com/cfp/servlet/event.showcfp?eventid=41776&copyow
 nerid=58591
UID:cfp487570-N@wikicfp.com
END:VEVENT
BEGIN:VEVENT
DTSTAMP:20260424T185023Z
DTSTART;VALUE=DATE:20150331
SUMMARY:Mutation 2015 Final Version Due
DESCRIPTION:10th International Workshop on Mutation Analysis (Mutation 20
 15)
URL:http://www.wikicfp.com/cfp/servlet/event.showcfp?eventid=41776&copyow
 nerid=58591
UID:cfp487570-N@wikicfp.com
END:VEVENT
BEGIN:VEVENT
DTSTAMP:20260424T185023Z
DTSTART;VALUE=DATE:20150417
DTEND;VALUE=DATE:20150418
SUMMARY:A-MOST 2015
DESCRIPTION:The 11th Workshop on  Advances in Model Based Testing
URL:http://www.wikicfp.com/cfp/servlet/event.showcfp?eventid=41954&copyow
 nerid=58591
UID:cfp489297-E@wikicfp.com
END:VEVENT
BEGIN:VEVENT
DTSTAMP:20260424T185023Z
DTSTART;VALUE=DATE:20150130
SUMMARY:A-MOST 2015 Deadline
DESCRIPTION:The 11th Workshop on  Advances in Model Based Testing
URL:http://www.wikicfp.com/cfp/servlet/event.showcfp?eventid=41954&copyow
 nerid=58591
UID:cfp489297-D@wikicfp.com
END:VEVENT
BEGIN:VEVENT
DTSTAMP:20260424T185023Z
DTSTART;VALUE=DATE:20150301
SUMMARY:A-MOST 2015 Notification Due
DESCRIPTION:The 11th Workshop on  Advances in Model Based Testing
URL:http://www.wikicfp.com/cfp/servlet/event.showcfp?eventid=41954&copyow
 nerid=58591
UID:cfp489297-N@wikicfp.com
END:VEVENT
BEGIN:VEVENT
DTSTAMP:20260424T185023Z
DTSTART;VALUE=DATE:20150324
SUMMARY:A-MOST 2015 Final Version Due
DESCRIPTION:The 11th Workshop on  Advances in Model Based Testing
URL:http://www.wikicfp.com/cfp/servlet/event.showcfp?eventid=41954&copyow
 nerid=58591
UID:cfp489297-N@wikicfp.com
END:VEVENT
BEGIN:VEVENT
DTSTAMP:20260424T185023Z
DTSTART;VALUE=DATE:20150731
SUMMARY:SI: Mutation Testing 2015 Deadline
DESCRIPTION:Information and Software Technology\, Special Issue on Mutati
 on Testing
URL:http://www.wikicfp.com/cfp/servlet/event.showcfp?eventid=45116&copyow
 nerid=58591
UID:cfp518821-D@wikicfp.com
END:VEVENT
BEGIN:VEVENT
DTSTAMP:20260424T185023Z
DTSTART;VALUE=DATE:20160411
DTEND;VALUE=DATE:20160412
SUMMARY:AMOST 2016
DESCRIPTION:A-MOST 2016 : The 12th Workshop on Advances in Model Based Te
 sting
URL:http://www.wikicfp.com/cfp/servlet/event.showcfp?eventid=49352&copyow
 nerid=58591
UID:cfp560926-E@wikicfp.com
END:VEVENT
BEGIN:VEVENT
DTSTAMP:20260424T185023Z
DTSTART;VALUE=DATE:20160115
SUMMARY:AMOST 2016 Deadline
DESCRIPTION:A-MOST 2016 : The 12th Workshop on Advances in Model Based Te
 sting
URL:http://www.wikicfp.com/cfp/servlet/event.showcfp?eventid=49352&copyow
 nerid=58591
UID:cfp560926-D@wikicfp.com
END:VEVENT
BEGIN:VEVENT
DTSTAMP:20260424T185023Z
DTSTART;VALUE=DATE:20160229
SUMMARY:AMOST 2016 Notification Due
DESCRIPTION:A-MOST 2016 : The 12th Workshop on Advances in Model Based Te
 sting
URL:http://www.wikicfp.com/cfp/servlet/event.showcfp?eventid=49352&copyow
 nerid=58591
UID:cfp560926-N@wikicfp.com
END:VEVENT
BEGIN:VEVENT
DTSTAMP:20260424T185023Z
DTSTART;VALUE=DATE:20160701
SUMMARY:ST: Model-Based Testing 2016 Abstract Due
DESCRIPTION:Theme issue on Model-Based Testing : Software and Systems Mod
 eling Journal (SoSyM)
URL:http://www.wikicfp.com/cfp/servlet/event.showcfp?eventid=49568&copyow
 nerid=58591
UID:cfp562378-A@wikicfp.com
END:VEVENT
BEGIN:VEVENT
DTSTAMP:20260424T185023Z
DTSTART;VALUE=DATE:20160915
SUMMARY:ST: Model-Based Testing 2016 Deadline
DESCRIPTION:Theme issue on Model-Based Testing : Software and Systems Mod
 eling Journal (SoSyM)
URL:http://www.wikicfp.com/cfp/servlet/event.showcfp?eventid=49568&copyow
 nerid=58591
UID:cfp562378-D@wikicfp.com
END:VEVENT
BEGIN:VEVENT
DTSTAMP:20260424T185023Z
DTSTART;VALUE=DATE:20161216
SUMMARY:ST: Model-Based Testing 2016 Notification Due
DESCRIPTION:Theme issue on Model-Based Testing : Software and Systems Mod
 eling Journal (SoSyM)
URL:http://www.wikicfp.com/cfp/servlet/event.showcfp?eventid=49568&copyow
 nerid=58591
UID:cfp562378-N@wikicfp.com
END:VEVENT
END:VCALENDAR
