BEGIN:VCALENDAR
PRODID:-//WikiCFP//ika 1.0//EN
VERSION:2.0
CALSCALE:GREGORIAN
BEGIN:VEVENT
DTSTAMP:20260424T165735Z
DTSTART;VALUE=DATE:20100106
DTEND;VALUE=DATE:20100109
SUMMARY:ITW 2010
DESCRIPTION:IEEE Information Theory Workshop on Information Theory
URL:http://www.wikicfp.com/cfp/servlet/event.showcfp?eventid=6309&copyown
 erid=5851
UID:cfp44986-E@wikicfp.com
END:VEVENT
BEGIN:VEVENT
DTSTAMP:20260424T165735Z
DTSTART;VALUE=DATE:20090816
SUMMARY:ITW 2010 Deadline
DESCRIPTION:IEEE Information Theory Workshop on Information Theory
URL:http://www.wikicfp.com/cfp/servlet/event.showcfp?eventid=6309&copyown
 erid=5851
UID:cfp44986-D@wikicfp.com
END:VEVENT
BEGIN:VEVENT
DTSTAMP:20260424T165735Z
DTSTART;VALUE=DATE:20091001
SUMMARY:ITW 2010 Notification Due
DESCRIPTION:IEEE Information Theory Workshop on Information Theory
URL:http://www.wikicfp.com/cfp/servlet/event.showcfp?eventid=6309&copyown
 erid=5851
UID:cfp44986-N@wikicfp.com
END:VEVENT
BEGIN:VEVENT
DTSTAMP:20260424T165735Z
DTSTART;VALUE=DATE:20091101
SUMMARY:ITW 2010 Final Version Due
DESCRIPTION:IEEE Information Theory Workshop on Information Theory
URL:http://www.wikicfp.com/cfp/servlet/event.showcfp?eventid=6309&copyown
 erid=5851
UID:cfp44986-N@wikicfp.com
END:VEVENT
BEGIN:VEVENT
DTSTAMP:20260424T165735Z
DTSTART;VALUE=DATE:20091206
DTEND;VALUE=DATE:20091211
SUMMARY:CSIT 2009
DESCRIPTION:The 11th Cross-Strait Information Technology Conference
URL:http://www.wikicfp.com/cfp/servlet/event.showcfp?eventid=6320&copyown
 erid=5851
UID:cfp44990-E@wikicfp.com
END:VEVENT
BEGIN:VEVENT
DTSTAMP:20260424T165735Z
DTSTART;VALUE=DATE:20090901
SUMMARY:CSIT 2009 Deadline
DESCRIPTION:The 11th Cross-Strait Information Technology Conference
URL:http://www.wikicfp.com/cfp/servlet/event.showcfp?eventid=6320&copyown
 erid=5851
UID:cfp44990-D@wikicfp.com
END:VEVENT
BEGIN:VEVENT
DTSTAMP:20260424T165735Z
DTSTART;VALUE=DATE:20091216
DTEND;VALUE=DATE:20091217
SUMMARY:WSOC 2009
DESCRIPTION:3rd International Workshop on Service  Oriented Computing
URL:http://www.wikicfp.com/cfp/servlet/event.showcfp?eventid=6318&copyown
 erid=5851
UID:cfp44988-E@wikicfp.com
END:VEVENT
BEGIN:VEVENT
DTSTAMP:20260424T165735Z
DTSTART;VALUE=DATE:20090915
SUMMARY:WSOC 2009 Deadline
DESCRIPTION:3rd International Workshop on Service  Oriented Computing
URL:http://www.wikicfp.com/cfp/servlet/event.showcfp?eventid=6318&copyown
 erid=5851
UID:cfp44988-D@wikicfp.com
END:VEVENT
BEGIN:VEVENT
DTSTAMP:20260424T165735Z
DTSTART;VALUE=DATE:20091020
SUMMARY:WSOC 2009 Notification Due
DESCRIPTION:3rd International Workshop on Service  Oriented Computing
URL:http://www.wikicfp.com/cfp/servlet/event.showcfp?eventid=6318&copyown
 erid=5851
UID:cfp44988-N@wikicfp.com
END:VEVENT
BEGIN:VEVENT
DTSTAMP:20260424T165735Z
DTSTART;VALUE=DATE:20091101
SUMMARY:WSOC 2009 Final Version Due
DESCRIPTION:3rd International Workshop on Service  Oriented Computing
URL:http://www.wikicfp.com/cfp/servlet/event.showcfp?eventid=6318&copyown
 erid=5851
UID:cfp44988-N@wikicfp.com
END:VEVENT
BEGIN:VEVENT
DTSTAMP:20260424T165735Z
DTSTART;VALUE=DATE:20100614
DTEND;VALUE=DATE:20100619
SUMMARY:Ada-Europe 2010
DESCRIPTION:15th International Conference on Reliable Software Technologi
 es
URL:http://www.wikicfp.com/cfp/servlet/event.showcfp?eventid=6311&copyown
 erid=5851
UID:cfp44987-E@wikicfp.com
END:VEVENT
BEGIN:VEVENT
DTSTAMP:20260424T165735Z
DTSTART;VALUE=DATE:20091116
SUMMARY:Ada-Europe 2010 Deadline
DESCRIPTION:15th International Conference on Reliable Software Technologi
 es
URL:http://www.wikicfp.com/cfp/servlet/event.showcfp?eventid=6311&copyown
 erid=5851
UID:cfp44987-D@wikicfp.com
END:VEVENT
BEGIN:VEVENT
DTSTAMP:20260424T165735Z
DTSTART;VALUE=DATE:20100201
SUMMARY:Ada-Europe 2010 Notification Due
DESCRIPTION:15th International Conference on Reliable Software Technologi
 es
URL:http://www.wikicfp.com/cfp/servlet/event.showcfp?eventid=6311&copyown
 erid=5851
UID:cfp44987-N@wikicfp.com
END:VEVENT
BEGIN:VEVENT
DTSTAMP:20260424T165735Z
DTSTART;VALUE=DATE:20100301
SUMMARY:Ada-Europe 2010 Final Version Due
DESCRIPTION:15th International Conference on Reliable Software Technologi
 es
URL:http://www.wikicfp.com/cfp/servlet/event.showcfp?eventid=6311&copyown
 erid=5851
UID:cfp44987-N@wikicfp.com
END:VEVENT
BEGIN:VEVENT
DTSTAMP:20260424T165735Z
DTSTART;VALUE=DATE:20100326
DTEND;VALUE=DATE:20100330
SUMMARY:ICKD 2010
DESCRIPTION:The 2nd International Conference on Knowledge Discovery 
URL:http://www.wikicfp.com/cfp/servlet/event.showcfp?eventid=6305&copyown
 erid=5851
UID:cfp44985-E@wikicfp.com
END:VEVENT
BEGIN:VEVENT
DTSTAMP:20260424T165735Z
DTSTART;VALUE=DATE:20100110
SUMMARY:ICKD 2010 Abstract Due
DESCRIPTION:The 2nd International Conference on Knowledge Discovery 
URL:http://www.wikicfp.com/cfp/servlet/event.showcfp?eventid=6305&copyown
 erid=5851
UID:cfp44985-A@wikicfp.com
END:VEVENT
BEGIN:VEVENT
DTSTAMP:20260424T165735Z
DTSTART;VALUE=DATE:20091120
SUMMARY:ICKD 2010 Deadline
DESCRIPTION:The 2nd International Conference on Knowledge Discovery 
URL:http://www.wikicfp.com/cfp/servlet/event.showcfp?eventid=6305&copyown
 erid=5851
UID:cfp44985-D@wikicfp.com
END:VEVENT
BEGIN:VEVENT
DTSTAMP:20260424T165735Z
DTSTART;VALUE=DATE:20091215
SUMMARY:ICKD 2010 Notification Due
DESCRIPTION:The 2nd International Conference on Knowledge Discovery 
URL:http://www.wikicfp.com/cfp/servlet/event.showcfp?eventid=6305&copyown
 erid=5851
UID:cfp44985-N@wikicfp.com
END:VEVENT
BEGIN:VEVENT
DTSTAMP:20260424T165735Z
DTSTART;VALUE=DATE:20100110
SUMMARY:ICKD 2010 Final Version Due
DESCRIPTION:The 2nd International Conference on Knowledge Discovery 
URL:http://www.wikicfp.com/cfp/servlet/event.showcfp?eventid=6305&copyown
 erid=5851
UID:cfp44985-N@wikicfp.com
END:VEVENT
BEGIN:VEVENT
DTSTAMP:20260424T165735Z
DTSTART;VALUE=DATE:20100707
DTEND;VALUE=DATE:20100711
SUMMARY:GECCO 2010
DESCRIPTION:GECCO - Genetic and Evolutionary Computation Conference
URL:http://www.wikicfp.com/cfp/servlet/event.showcfp?eventid=6319&copyown
 erid=5851
UID:cfp44989-E@wikicfp.com
END:VEVENT
BEGIN:VEVENT
DTSTAMP:20260424T165735Z
DTSTART;VALUE=DATE:20100113
SUMMARY:GECCO 2010 Deadline
DESCRIPTION:GECCO - Genetic and Evolutionary Computation Conference
URL:http://www.wikicfp.com/cfp/servlet/event.showcfp?eventid=6319&copyown
 erid=5851
UID:cfp44989-D@wikicfp.com
END:VEVENT
BEGIN:VEVENT
DTSTAMP:20260424T165735Z
DTSTART;VALUE=DATE:20100310
SUMMARY:GECCO 2010 Notification Due
DESCRIPTION:GECCO - Genetic and Evolutionary Computation Conference
URL:http://www.wikicfp.com/cfp/servlet/event.showcfp?eventid=6319&copyown
 erid=5851
UID:cfp44989-N@wikicfp.com
END:VEVENT
BEGIN:VEVENT
DTSTAMP:20260424T165735Z
DTSTART;VALUE=DATE:20100405
SUMMARY:GECCO 2010 Final Version Due
DESCRIPTION:GECCO - Genetic and Evolutionary Computation Conference
URL:http://www.wikicfp.com/cfp/servlet/event.showcfp?eventid=6319&copyown
 erid=5851
UID:cfp44989-N@wikicfp.com
END:VEVENT
END:VCALENDAR
