BEGIN:VCALENDAR
PRODID:-//WikiCFP//logicworld 1.0//EN
VERSION:2.0
CALSCALE:GREGORIAN
BEGIN:VEVENT
DTSTAMP:20260421T072535Z
DTSTART;VALUE=DATE:20140519
DTEND;VALUE=DATE:20140524
SUMMARY:CoHeB 2014
DESCRIPTION:Second International Workshop on  Collaboration Technologies 
 and Systems in Healthcare and Biomedical Fields
URL:http://www.wikicfp.com/cfp/servlet/event.showcfp?eventid=34352&copyow
 nerid=58366
UID:cfp406518-E@wikicfp.com
END:VEVENT
BEGIN:VEVENT
DTSTAMP:20260421T072535Z
DTSTART;VALUE=DATE:20140130
SUMMARY:CoHeB 2014 Deadline
DESCRIPTION:Second International Workshop on  Collaboration Technologies 
 and Systems in Healthcare and Biomedical Fields
URL:http://www.wikicfp.com/cfp/servlet/event.showcfp?eventid=34352&copyow
 nerid=58366
UID:cfp406518-D@wikicfp.com
END:VEVENT
BEGIN:VEVENT
DTSTAMP:20260421T072535Z
DTSTART;VALUE=DATE:20140217
SUMMARY:CoHeB 2014 Notification Due
DESCRIPTION:Second International Workshop on  Collaboration Technologies 
 and Systems in Healthcare and Biomedical Fields
URL:http://www.wikicfp.com/cfp/servlet/event.showcfp?eventid=34352&copyow
 nerid=58366
UID:cfp406518-N@wikicfp.com
END:VEVENT
BEGIN:VEVENT
DTSTAMP:20260421T072535Z
DTSTART;VALUE=DATE:20140307
SUMMARY:CoHeB 2014 Final Version Due
DESCRIPTION:Second International Workshop on  Collaboration Technologies 
 and Systems in Healthcare and Biomedical Fields
URL:http://www.wikicfp.com/cfp/servlet/event.showcfp?eventid=34352&copyow
 nerid=58366
UID:cfp406518-N@wikicfp.com
END:VEVENT
BEGIN:VEVENT
DTSTAMP:20260421T072535Z
DTSTART;VALUE=DATE:20150601
DTEND;VALUE=DATE:20150606
SUMMARY:CoHeB 2015
DESCRIPTION:Third International Workshop on Collaboration Technologies an
 d Systems in Healthcare and Biomedical Fields
URL:http://www.wikicfp.com/cfp/servlet/event.showcfp?eventid=43603&copyow
 nerid=58366
UID:cfp504789-E@wikicfp.com
END:VEVENT
BEGIN:VEVENT
DTSTAMP:20260421T072535Z
DTSTART;VALUE=DATE:20150228
SUMMARY:CoHeB 2015 Deadline
DESCRIPTION:Third International Workshop on Collaboration Technologies an
 d Systems in Healthcare and Biomedical Fields
URL:http://www.wikicfp.com/cfp/servlet/event.showcfp?eventid=43603&copyow
 nerid=58366
UID:cfp504789-D@wikicfp.com
END:VEVENT
BEGIN:VEVENT
DTSTAMP:20260421T072535Z
DTSTART;VALUE=DATE:20150314
SUMMARY:CoHeB 2015 Notification Due
DESCRIPTION:Third International Workshop on Collaboration Technologies an
 d Systems in Healthcare and Biomedical Fields
URL:http://www.wikicfp.com/cfp/servlet/event.showcfp?eventid=43603&copyow
 nerid=58366
UID:cfp504789-N@wikicfp.com
END:VEVENT
BEGIN:VEVENT
DTSTAMP:20260421T072535Z
DTSTART;VALUE=DATE:20150325
SUMMARY:CoHeB 2015 Final Version Due
DESCRIPTION:Third International Workshop on Collaboration Technologies an
 d Systems in Healthcare and Biomedical Fields
URL:http://www.wikicfp.com/cfp/servlet/event.showcfp?eventid=43603&copyow
 nerid=58366
UID:cfp504789-N@wikicfp.com
END:VEVENT
END:VCALENDAR
