BEGIN:VCALENDAR
PRODID:-//WikiCFP//chargil 1.0//EN
VERSION:2.0
CALSCALE:GREGORIAN
BEGIN:VEVENT
DTSTAMP:20260420T224928Z
DTSTART;VALUE=DATE:20140625
DTEND;VALUE=DATE:20140626
SUMMARY:WISDOM 2014
DESCRIPTION:3rd Workshop on Issues of Sentiment Discovery and Opinion Min
 ing
URL:http://www.wikicfp.com/cfp/servlet/event.showcfp?eventid=37685&copyow
 nerid=58352
UID:cfp447362-E@wikicfp.com
END:VEVENT
BEGIN:VEVENT
DTSTAMP:20260420T224928Z
DTSTART;VALUE=DATE:20140511
SUMMARY:WISDOM 2014 Deadline
DESCRIPTION:3rd Workshop on Issues of Sentiment Discovery and Opinion Min
 ing
URL:http://www.wikicfp.com/cfp/servlet/event.showcfp?eventid=37685&copyow
 nerid=58352
UID:cfp447362-D@wikicfp.com
END:VEVENT
BEGIN:VEVENT
DTSTAMP:20260420T224928Z
DTSTART;VALUE=DATE:20150525
SUMMARY:WISDOM 2014 Notification Due
DESCRIPTION:3rd Workshop on Issues of Sentiment Discovery and Opinion Min
 ing
URL:http://www.wikicfp.com/cfp/servlet/event.showcfp?eventid=37685&copyow
 nerid=58352
UID:cfp447362-N@wikicfp.com
END:VEVENT
BEGIN:VEVENT
DTSTAMP:20260420T224928Z
DTSTART;VALUE=DATE:20140601
SUMMARY:WISDOM 2014 Final Version Due
DESCRIPTION:3rd Workshop on Issues of Sentiment Discovery and Opinion Min
 ing
URL:http://www.wikicfp.com/cfp/servlet/event.showcfp?eventid=37685&copyow
 nerid=58352
UID:cfp447362-N@wikicfp.com
END:VEVENT
BEGIN:VEVENT
DTSTAMP:20260420T224928Z
DTSTART;VALUE=DATE:20140717
DTEND;VALUE=DATE:20140718
SUMMARY:MABSDA 2014
DESCRIPTION:2nd international workshop on Multidisciplinary Approaches to
  Big Social Data Analysis
URL:http://www.wikicfp.com/cfp/servlet/event.showcfp?eventid=37996&copyow
 nerid=58352
UID:cfp447363-E@wikicfp.com
END:VEVENT
BEGIN:VEVENT
DTSTAMP:20260420T224928Z
DTSTART;VALUE=DATE:20140531
SUMMARY:MABSDA 2014 Deadline
DESCRIPTION:2nd international workshop on Multidisciplinary Approaches to
  Big Social Data Analysis
URL:http://www.wikicfp.com/cfp/servlet/event.showcfp?eventid=37996&copyow
 nerid=58352
UID:cfp447363-D@wikicfp.com
END:VEVENT
BEGIN:VEVENT
DTSTAMP:20260420T224928Z
DTSTART;VALUE=DATE:20140620
SUMMARY:MABSDA 2014 Notification Due
DESCRIPTION:2nd international workshop on Multidisciplinary Approaches to
  Big Social Data Analysis
URL:http://www.wikicfp.com/cfp/servlet/event.showcfp?eventid=37996&copyow
 nerid=58352
UID:cfp447363-N@wikicfp.com
END:VEVENT
BEGIN:VEVENT
DTSTAMP:20260420T224928Z
DTSTART;VALUE=DATE:20140701
SUMMARY:MABSDA 2014 Final Version Due
DESCRIPTION:2nd international workshop on Multidisciplinary Approaches to
  Big Social Data Analysis
URL:http://www.wikicfp.com/cfp/servlet/event.showcfp?eventid=37996&copyow
 nerid=58352
UID:cfp447363-N@wikicfp.com
END:VEVENT
BEGIN:VEVENT
DTSTAMP:20260420T224928Z
DTSTART;VALUE=DATE:20141208
DTEND;VALUE=DATE:20141214
SUMMARY:NIPS 2014
DESCRIPTION:Neural Information Processing Systems Conference
URL:http://www.wikicfp.com/cfp/servlet/event.showcfp?eventid=21362&copyow
 nerid=58352
UID:cfp447357-E@wikicfp.com
END:VEVENT
BEGIN:VEVENT
DTSTAMP:20260420T224928Z
DTSTART;VALUE=DATE:20140606
SUMMARY:NIPS 2014 Deadline
DESCRIPTION:Neural Information Processing Systems Conference
URL:http://www.wikicfp.com/cfp/servlet/event.showcfp?eventid=21362&copyow
 nerid=58352
UID:cfp447357-D@wikicfp.com
END:VEVENT
BEGIN:VEVENT
DTSTAMP:20260420T224928Z
DTSTART;VALUE=DATE:20141209
DTEND;VALUE=DATE:20141213
SUMMARY:SSCI 2014
DESCRIPTION:2014 IEEE Symposium Series on Computational Intelligence
URL:http://www.wikicfp.com/cfp/servlet/event.showcfp?eventid=31203&copyow
 nerid=58352
UID:cfp447368-E@wikicfp.com
END:VEVENT
BEGIN:VEVENT
DTSTAMP:20260420T224928Z
DTSTART;VALUE=DATE:20140615
SUMMARY:SSCI 2014 Deadline
DESCRIPTION:2014 IEEE Symposium Series on Computational Intelligence
URL:http://www.wikicfp.com/cfp/servlet/event.showcfp?eventid=31203&copyow
 nerid=58352
UID:cfp447368-D@wikicfp.com
END:VEVENT
BEGIN:VEVENT
DTSTAMP:20260420T224928Z
DTSTART;VALUE=DATE:20140905
SUMMARY:SSCI 2014 Notification Due
DESCRIPTION:2014 IEEE Symposium Series on Computational Intelligence
URL:http://www.wikicfp.com/cfp/servlet/event.showcfp?eventid=31203&copyow
 nerid=58352
UID:cfp447368-N@wikicfp.com
END:VEVENT
BEGIN:VEVENT
DTSTAMP:20260420T224928Z
DTSTART;VALUE=DATE:20141005
SUMMARY:SSCI 2014 Final Version Due
DESCRIPTION:2014 IEEE Symposium Series on Computational Intelligence
URL:http://www.wikicfp.com/cfp/servlet/event.showcfp?eventid=31203&copyow
 nerid=58352
UID:cfp447368-N@wikicfp.com
END:VEVENT
BEGIN:VEVENT
DTSTAMP:20260420T224928Z
DTSTART;VALUE=DATE:20140822
DTEND;VALUE=DATE:20140824
SUMMARY:ACV 2014
DESCRIPTION:Advances in Computer Vision
URL:http://www.wikicfp.com/cfp/servlet/event.showcfp?eventid=34842&copyow
 nerid=58352
UID:cfp447358-E@wikicfp.com
END:VEVENT
BEGIN:VEVENT
DTSTAMP:20260420T224928Z
DTSTART;VALUE=DATE:20140615
SUMMARY:ACV 2014 Deadline
DESCRIPTION:Advances in Computer Vision
URL:http://www.wikicfp.com/cfp/servlet/event.showcfp?eventid=34842&copyow
 nerid=58352
UID:cfp447358-D@wikicfp.com
END:VEVENT
BEGIN:VEVENT
DTSTAMP:20260420T224928Z
DTSTART;VALUE=DATE:20140705
SUMMARY:ACV 2014 Notification Due
DESCRIPTION:Advances in Computer Vision
URL:http://www.wikicfp.com/cfp/servlet/event.showcfp?eventid=34842&copyow
 nerid=58352
UID:cfp447358-N@wikicfp.com
END:VEVENT
BEGIN:VEVENT
DTSTAMP:20260420T224928Z
DTSTART;VALUE=DATE:20140715
SUMMARY:ACV 2014 Final Version Due
DESCRIPTION:Advances in Computer Vision
URL:http://www.wikicfp.com/cfp/servlet/event.showcfp?eventid=34842&copyow
 nerid=58352
UID:cfp447358-N@wikicfp.com
END:VEVENT
BEGIN:VEVENT
DTSTAMP:20260420T224928Z
DTSTART;VALUE=DATE:20141214
DTEND;VALUE=DATE:20141218
SUMMARY:ICDM 2014
DESCRIPTION:IEEE International Conference on Data Mining
URL:http://www.wikicfp.com/cfp/servlet/event.showcfp?eventid=34995&copyow
 nerid=58352
UID:cfp447359-E@wikicfp.com
END:VEVENT
BEGIN:VEVENT
DTSTAMP:20260420T224928Z
DTSTART;VALUE=DATE:20140624
SUMMARY:ICDM 2014 Deadline
DESCRIPTION:IEEE International Conference on Data Mining
URL:http://www.wikicfp.com/cfp/servlet/event.showcfp?eventid=34995&copyow
 nerid=58352
UID:cfp447359-D@wikicfp.com
END:VEVENT
BEGIN:VEVENT
DTSTAMP:20260420T224928Z
DTSTART;VALUE=DATE:20140924
SUMMARY:ICDM 2014 Notification Due
DESCRIPTION:IEEE International Conference on Data Mining
URL:http://www.wikicfp.com/cfp/servlet/event.showcfp?eventid=34995&copyow
 nerid=58352
UID:cfp447359-N@wikicfp.com
END:VEVENT
BEGIN:VEVENT
DTSTAMP:20260420T224928Z
DTSTART;VALUE=DATE:20141203
DTEND;VALUE=DATE:20141207
SUMMARY:ICMLA 2014
DESCRIPTION:International Conference on Machine Learning and Applications
 
URL:http://www.wikicfp.com/cfp/servlet/event.showcfp?eventid=36162&copyow
 nerid=58352
UID:cfp447360-E@wikicfp.com
END:VEVENT
BEGIN:VEVENT
DTSTAMP:20260420T224928Z
DTSTART;VALUE=DATE:20140706
SUMMARY:ICMLA 2014 Deadline
DESCRIPTION:International Conference on Machine Learning and Applications
 
URL:http://www.wikicfp.com/cfp/servlet/event.showcfp?eventid=36162&copyow
 nerid=58352
UID:cfp447360-D@wikicfp.com
END:VEVENT
BEGIN:VEVENT
DTSTAMP:20260420T224928Z
DTSTART;VALUE=DATE:20140907
SUMMARY:ICMLA 2014 Notification Due
DESCRIPTION:International Conference on Machine Learning and Applications
 
URL:http://www.wikicfp.com/cfp/servlet/event.showcfp?eventid=36162&copyow
 nerid=58352
UID:cfp447360-N@wikicfp.com
END:VEVENT
BEGIN:VEVENT
DTSTAMP:20260420T224928Z
DTSTART;VALUE=DATE:20141001
SUMMARY:ICMLA 2014 Final Version Due
DESCRIPTION:International Conference on Machine Learning and Applications
 
URL:http://www.wikicfp.com/cfp/servlet/event.showcfp?eventid=36162&copyow
 nerid=58352
UID:cfp447360-N@wikicfp.com
END:VEVENT
BEGIN:VEVENT
DTSTAMP:20260420T224928Z
DTSTART;VALUE=DATE:20140916
DTEND;VALUE=DATE:20140917
SUMMARY:SemADoc 2014
DESCRIPTION:Workshop on the Semantic Analysis of Documents (SemADoc 2014)
 
URL:http://www.wikicfp.com/cfp/servlet/event.showcfp?eventid=38016&copyow
 nerid=58352
UID:cfp447361-E@wikicfp.com
END:VEVENT
BEGIN:VEVENT
DTSTAMP:20260420T224928Z
DTSTART;VALUE=DATE:20140707
SUMMARY:SemADoc 2014 Deadline
DESCRIPTION:Workshop on the Semantic Analysis of Documents (SemADoc 2014)
 
URL:http://www.wikicfp.com/cfp/servlet/event.showcfp?eventid=38016&copyow
 nerid=58352
UID:cfp447361-D@wikicfp.com
END:VEVENT
BEGIN:VEVENT
DTSTAMP:20260420T224928Z
DTSTART;VALUE=DATE:20140730
SUMMARY:SemADoc 2014 Notification Due
DESCRIPTION:Workshop on the Semantic Analysis of Documents (SemADoc 2014)
 
URL:http://www.wikicfp.com/cfp/servlet/event.showcfp?eventid=38016&copyow
 nerid=58352
UID:cfp447361-N@wikicfp.com
END:VEVENT
BEGIN:VEVENT
DTSTAMP:20260420T224928Z
DTSTART;VALUE=DATE:20140830
SUMMARY:SemADoc 2014 Final Version Due
DESCRIPTION:Workshop on the Semantic Analysis of Documents (SemADoc 2014)
 
URL:http://www.wikicfp.com/cfp/servlet/event.showcfp?eventid=38016&copyow
 nerid=58352
UID:cfp447361-N@wikicfp.com
END:VEVENT
BEGIN:VEVENT
DTSTAMP:20260420T224928Z
DTSTART;VALUE=DATE:20141117
DTEND;VALUE=DATE:20141120
SUMMARY:BigData 2014
DESCRIPTION:The International Conference on Data Mining\, Internet Comput
 ing\, and Big Data (BigData2014)
URL:http://www.wikicfp.com/cfp/servlet/event.showcfp?eventid=34367&copyow
 nerid=58352
UID:cfp447372-E@wikicfp.com
END:VEVENT
BEGIN:VEVENT
DTSTAMP:20260420T224928Z
DTSTART;VALUE=DATE:20141017
SUMMARY:BigData 2014 Deadline
DESCRIPTION:The International Conference on Data Mining\, Internet Comput
 ing\, and Big Data (BigData2014)
URL:http://www.wikicfp.com/cfp/servlet/event.showcfp?eventid=34367&copyow
 nerid=58352
UID:cfp447372-D@wikicfp.com
END:VEVENT
BEGIN:VEVENT
DTSTAMP:20260420T224928Z
DTSTART;VALUE=DATE:20141027
SUMMARY:BigData 2014 Notification Due
DESCRIPTION:The International Conference on Data Mining\, Internet Comput
 ing\, and Big Data (BigData2014)
URL:http://www.wikicfp.com/cfp/servlet/event.showcfp?eventid=34367&copyow
 nerid=58352
UID:cfp447372-N@wikicfp.com
END:VEVENT
BEGIN:VEVENT
DTSTAMP:20260420T224928Z
DTSTART;VALUE=DATE:20141107
SUMMARY:BigData 2014 Final Version Due
DESCRIPTION:The International Conference on Data Mining\, Internet Comput
 ing\, and Big Data (BigData2014)
URL:http://www.wikicfp.com/cfp/servlet/event.showcfp?eventid=34367&copyow
 nerid=58352
UID:cfp447372-N@wikicfp.com
END:VEVENT
BEGIN:VEVENT
DTSTAMP:20260420T224928Z
DTSTART;VALUE=DATE:20150607
DTEND;VALUE=DATE:20150613
SUMMARY:CVPR 2015
DESCRIPTION:28th IEEE Conference on Computer Vision and Pattern Recogniti
 on
URL:http://www.wikicfp.com/cfp/servlet/event.showcfp?eventid=36730&copyow
 nerid=58352
UID:cfp447370-E@wikicfp.com
END:VEVENT
BEGIN:VEVENT
DTSTAMP:20260420T224928Z
DTSTART;VALUE=DATE:20141114
SUMMARY:CVPR 2015 Deadline
DESCRIPTION:28th IEEE Conference on Computer Vision and Pattern Recogniti
 on
URL:http://www.wikicfp.com/cfp/servlet/event.showcfp?eventid=36730&copyow
 nerid=58352
UID:cfp447370-D@wikicfp.com
END:VEVENT
END:VCALENDAR
