BEGIN:VCALENDAR
PRODID:-//WikiCFP//jel 1.0//EN
VERSION:2.0
CALSCALE:GREGORIAN
BEGIN:VEVENT
DTSTAMP:20260422T050723Z
DTSTART;VALUE=DATE:20100114
DTEND;VALUE=DATE:20100116
SUMMARY:ICUIMC 2010
DESCRIPTION:The 4th International Conference on Ubiquitous Information Ma
 nagement and Communication
URL:http://www.wikicfp.com/cfp/servlet/event.showcfp?eventid=6036&copyown
 erid=5704
UID:cfp44115-E@wikicfp.com
END:VEVENT
BEGIN:VEVENT
DTSTAMP:20260422T050723Z
DTSTART;VALUE=DATE:20090828
SUMMARY:ICUIMC 2010 Deadline
DESCRIPTION:The 4th International Conference on Ubiquitous Information Ma
 nagement and Communication
URL:http://www.wikicfp.com/cfp/servlet/event.showcfp?eventid=6036&copyown
 erid=5704
UID:cfp44115-D@wikicfp.com
END:VEVENT
BEGIN:VEVENT
DTSTAMP:20260422T050723Z
DTSTART;VALUE=DATE:20091028
SUMMARY:ICUIMC 2010 Notification Due
DESCRIPTION:The 4th International Conference on Ubiquitous Information Ma
 nagement and Communication
URL:http://www.wikicfp.com/cfp/servlet/event.showcfp?eventid=6036&copyown
 erid=5704
UID:cfp44115-N@wikicfp.com
END:VEVENT
BEGIN:VEVENT
DTSTAMP:20260422T050723Z
DTSTART;VALUE=DATE:20091127
SUMMARY:ICUIMC 2010 Final Version Due
DESCRIPTION:The 4th International Conference on Ubiquitous Information Ma
 nagement and Communication
URL:http://www.wikicfp.com/cfp/servlet/event.showcfp?eventid=6036&copyown
 erid=5704
UID:cfp44115-N@wikicfp.com
END:VEVENT
END:VCALENDAR
