BEGIN:VCALENDAR
PRODID:-//WikiCFP//speech 1.0//EN
VERSION:2.0
CALSCALE:GREGORIAN
BEGIN:VEVENT
DTSTAMP:20260424T165816Z
DTSTART;VALUE=DATE:20140514
DTEND;VALUE=DATE:20140517
SUMMARY:SLTU 2014
DESCRIPTION:4th International Workshop on Spoken Language Technologies fo
 r Under-resourced Languages
URL:http://www.wikicfp.com/cfp/servlet/event.showcfp?eventid=33429&copyow
 nerid=56734
UID:cfp392933-E@wikicfp.com
END:VEVENT
BEGIN:VEVENT
DTSTAMP:20260424T165816Z
DTSTART;VALUE=DATE:20140210
SUMMARY:SLTU 2014 Deadline
DESCRIPTION:4th International Workshop on Spoken Language Technologies fo
 r Under-resourced Languages
URL:http://www.wikicfp.com/cfp/servlet/event.showcfp?eventid=33429&copyow
 nerid=56734
UID:cfp392933-D@wikicfp.com
END:VEVENT
BEGIN:VEVENT
DTSTAMP:20260424T165816Z
DTSTART;VALUE=DATE:20140303
SUMMARY:SLTU 2014 Notification Due
DESCRIPTION:4th International Workshop on Spoken Language Technologies fo
 r Under-resourced Languages
URL:http://www.wikicfp.com/cfp/servlet/event.showcfp?eventid=33429&copyow
 nerid=56734
UID:cfp392933-N@wikicfp.com
END:VEVENT
BEGIN:VEVENT
DTSTAMP:20260424T165816Z
DTSTART;VALUE=DATE:20140317
SUMMARY:SLTU 2014 Final Version Due
DESCRIPTION:4th International Workshop on Spoken Language Technologies fo
 r Under-resourced Languages
URL:http://www.wikicfp.com/cfp/servlet/event.showcfp?eventid=33429&copyow
 nerid=56734
UID:cfp392933-N@wikicfp.com
END:VEVENT
BEGIN:VEVENT
DTSTAMP:20260424T165816Z
DTSTART;VALUE=DATE:20141005
DTEND;VALUE=DATE:20141010
SUMMARY:SPECOM 2014
DESCRIPTION:16th International Conference on Speech and Computer
URL:http://www.wikicfp.com/cfp/servlet/event.showcfp?eventid=34806&copyow
 nerid=56734
UID:cfp411130-E@wikicfp.com
END:VEVENT
BEGIN:VEVENT
DTSTAMP:20260424T165816Z
DTSTART;VALUE=DATE:20140518
SUMMARY:SPECOM 2014 Deadline
DESCRIPTION:16th International Conference on Speech and Computer
URL:http://www.wikicfp.com/cfp/servlet/event.showcfp?eventid=34806&copyow
 nerid=56734
UID:cfp411130-D@wikicfp.com
END:VEVENT
BEGIN:VEVENT
DTSTAMP:20260424T165816Z
DTSTART;VALUE=DATE:20140601
SUMMARY:SPECOM 2014 Notification Due
DESCRIPTION:16th International Conference on Speech and Computer
URL:http://www.wikicfp.com/cfp/servlet/event.showcfp?eventid=34806&copyow
 nerid=56734
UID:cfp411130-N@wikicfp.com
END:VEVENT
BEGIN:VEVENT
DTSTAMP:20260424T165816Z
DTSTART;VALUE=DATE:20140615
SUMMARY:SPECOM 2014 Final Version Due
DESCRIPTION:16th International Conference on Speech and Computer
URL:http://www.wikicfp.com/cfp/servlet/event.showcfp?eventid=34806&copyow
 nerid=56734
UID:cfp411130-N@wikicfp.com
END:VEVENT
BEGIN:VEVENT
DTSTAMP:20260424T165816Z
DTSTART;VALUE=DATE:20150920
DTEND;VALUE=DATE:20150925
SUMMARY:SPECOM 2015
DESCRIPTION:17th International Conference on Speech and Computer 
URL:http://www.wikicfp.com/cfp/servlet/event.showcfp?eventid=44270&copyow
 nerid=56734
UID:cfp510165-E@wikicfp.com
END:VEVENT
BEGIN:VEVENT
DTSTAMP:20260424T165816Z
DTSTART;VALUE=DATE:20150430
SUMMARY:SPECOM 2015 Deadline
DESCRIPTION:17th International Conference on Speech and Computer 
URL:http://www.wikicfp.com/cfp/servlet/event.showcfp?eventid=44270&copyow
 nerid=56734
UID:cfp510165-D@wikicfp.com
END:VEVENT
BEGIN:VEVENT
DTSTAMP:20260424T165816Z
DTSTART;VALUE=DATE:20150601
SUMMARY:SPECOM 2015 Notification Due
DESCRIPTION:17th International Conference on Speech and Computer 
URL:http://www.wikicfp.com/cfp/servlet/event.showcfp?eventid=44270&copyow
 nerid=56734
UID:cfp510165-N@wikicfp.com
END:VEVENT
BEGIN:VEVENT
DTSTAMP:20260424T165816Z
DTSTART;VALUE=DATE:20150615
SUMMARY:SPECOM 2015 Final Version Due
DESCRIPTION:17th International Conference on Speech and Computer 
URL:http://www.wikicfp.com/cfp/servlet/event.showcfp?eventid=44270&copyow
 nerid=56734
UID:cfp510165-N@wikicfp.com
END:VEVENT
BEGIN:VEVENT
DTSTAMP:20260424T165816Z
DTSTART;VALUE=DATE:20160825
DTEND;VALUE=DATE:20160826
SUMMARY:ICR 2016
DESCRIPTION:1 International Workshop on Interactive Collaborative Robotic
 s
URL:http://www.wikicfp.com/cfp/servlet/event.showcfp?eventid=52460&copyow
 nerid=56734
UID:cfp585432-E@wikicfp.com
END:VEVENT
BEGIN:VEVENT
DTSTAMP:20260424T165816Z
DTSTART;VALUE=DATE:20160415
SUMMARY:ICR 2016 Deadline
DESCRIPTION:1 International Workshop on Interactive Collaborative Robotic
 s
URL:http://www.wikicfp.com/cfp/servlet/event.showcfp?eventid=52460&copyow
 nerid=56734
UID:cfp585432-D@wikicfp.com
END:VEVENT
BEGIN:VEVENT
DTSTAMP:20260424T165816Z
DTSTART;VALUE=DATE:20160515
SUMMARY:ICR 2016 Notification Due
DESCRIPTION:1 International Workshop on Interactive Collaborative Robotic
 s
URL:http://www.wikicfp.com/cfp/servlet/event.showcfp?eventid=52460&copyow
 nerid=56734
UID:cfp585432-N@wikicfp.com
END:VEVENT
BEGIN:VEVENT
DTSTAMP:20260424T165816Z
DTSTART;VALUE=DATE:20160601
SUMMARY:ICR 2016 Final Version Due
DESCRIPTION:1 International Workshop on Interactive Collaborative Robotic
 s
URL:http://www.wikicfp.com/cfp/servlet/event.showcfp?eventid=52460&copyow
 nerid=56734
UID:cfp585432-N@wikicfp.com
END:VEVENT
BEGIN:VEVENT
DTSTAMP:20260424T165816Z
DTSTART;VALUE=DATE:20160823
DTEND;VALUE=DATE:20160828
SUMMARY:SPECOM 2016
DESCRIPTION:18th International Conference on Speech and Computer
URL:http://www.wikicfp.com/cfp/servlet/event.showcfp?eventid=50250&copyow
 nerid=56734
UID:cfp566859-E@wikicfp.com
END:VEVENT
BEGIN:VEVENT
DTSTAMP:20260424T165816Z
DTSTART;VALUE=DATE:20160422
SUMMARY:SPECOM 2016 Deadline
DESCRIPTION:18th International Conference on Speech and Computer
URL:http://www.wikicfp.com/cfp/servlet/event.showcfp?eventid=50250&copyow
 nerid=56734
UID:cfp566859-D@wikicfp.com
END:VEVENT
BEGIN:VEVENT
DTSTAMP:20260424T165816Z
DTSTART;VALUE=DATE:20160515
SUMMARY:SPECOM 2016 Notification Due
DESCRIPTION:18th International Conference on Speech and Computer
URL:http://www.wikicfp.com/cfp/servlet/event.showcfp?eventid=50250&copyow
 nerid=56734
UID:cfp566859-N@wikicfp.com
END:VEVENT
BEGIN:VEVENT
DTSTAMP:20260424T165816Z
DTSTART;VALUE=DATE:20160601
SUMMARY:SPECOM 2016 Final Version Due
DESCRIPTION:18th International Conference on Speech and Computer
URL:http://www.wikicfp.com/cfp/servlet/event.showcfp?eventid=50250&copyow
 nerid=56734
UID:cfp566859-N@wikicfp.com
END:VEVENT
BEGIN:VEVENT
DTSTAMP:20260424T165816Z
DTSTART;VALUE=DATE:20170912
DTEND;VALUE=DATE:20170917
SUMMARY:SPECOM 2017
DESCRIPTION:19th International Conference on Speech and Computer SPECOM 2
 017
URL:http://www.wikicfp.com/cfp/servlet/event.showcfp?eventid=57860&copyow
 nerid=56734
UID:cfp623497-E@wikicfp.com
END:VEVENT
BEGIN:VEVENT
DTSTAMP:20260424T165816Z
DTSTART;VALUE=DATE:20170415
SUMMARY:SPECOM 2017 Deadline
DESCRIPTION:19th International Conference on Speech and Computer SPECOM 2
 017
URL:http://www.wikicfp.com/cfp/servlet/event.showcfp?eventid=57860&copyow
 nerid=56734
UID:cfp623497-D@wikicfp.com
END:VEVENT
BEGIN:VEVENT
DTSTAMP:20260424T165816Z
DTSTART;VALUE=DATE:20170515
SUMMARY:SPECOM 2017 Notification Due
DESCRIPTION:19th International Conference on Speech and Computer SPECOM 2
 017
URL:http://www.wikicfp.com/cfp/servlet/event.showcfp?eventid=57860&copyow
 nerid=56734
UID:cfp623497-N@wikicfp.com
END:VEVENT
BEGIN:VEVENT
DTSTAMP:20260424T165816Z
DTSTART;VALUE=DATE:20170526
SUMMARY:SPECOM 2017 Final Version Due
DESCRIPTION:19th International Conference on Speech and Computer SPECOM 2
 017
URL:http://www.wikicfp.com/cfp/servlet/event.showcfp?eventid=57860&copyow
 nerid=56734
UID:cfp623497-N@wikicfp.com
END:VEVENT
BEGIN:VEVENT
DTSTAMP:20260424T165816Z
DTSTART;VALUE=DATE:20170912
DTEND;VALUE=DATE:20170917
SUMMARY:ICR 2017
DESCRIPTION:2nd International Conference on Interactive Collaborative Rob
 otics
URL:http://www.wikicfp.com/cfp/servlet/event.showcfp?eventid=61825&copyow
 nerid=56734
UID:cfp651212-E@wikicfp.com
END:VEVENT
BEGIN:VEVENT
DTSTAMP:20260424T165816Z
DTSTART;VALUE=DATE:20170415
SUMMARY:ICR 2017 Deadline
DESCRIPTION:2nd International Conference on Interactive Collaborative Rob
 otics
URL:http://www.wikicfp.com/cfp/servlet/event.showcfp?eventid=61825&copyow
 nerid=56734
UID:cfp651212-D@wikicfp.com
END:VEVENT
BEGIN:VEVENT
DTSTAMP:20260424T165816Z
DTSTART;VALUE=DATE:20170515
SUMMARY:ICR 2017 Notification Due
DESCRIPTION:2nd International Conference on Interactive Collaborative Rob
 otics
URL:http://www.wikicfp.com/cfp/servlet/event.showcfp?eventid=61825&copyow
 nerid=56734
UID:cfp651212-N@wikicfp.com
END:VEVENT
BEGIN:VEVENT
DTSTAMP:20260424T165816Z
DTSTART;VALUE=DATE:20170601
SUMMARY:ICR 2017 Final Version Due
DESCRIPTION:2nd International Conference on Interactive Collaborative Rob
 otics
URL:http://www.wikicfp.com/cfp/servlet/event.showcfp?eventid=61825&copyow
 nerid=56734
UID:cfp651212-N@wikicfp.com
END:VEVENT
BEGIN:VEVENT
DTSTAMP:20260424T165816Z
DTSTART;VALUE=DATE:20180918
DTEND;VALUE=DATE:20180923
SUMMARY:SPECOM 2018
DESCRIPTION:20th International Conference on Speech and Computer
URL:http://www.wikicfp.com/cfp/servlet/event.showcfp?eventid=68602&copyow
 nerid=56734
UID:cfp688704-E@wikicfp.com
END:VEVENT
BEGIN:VEVENT
DTSTAMP:20260424T165816Z
DTSTART;VALUE=DATE:20180502
SUMMARY:SPECOM 2018 Deadline
DESCRIPTION:20th International Conference on Speech and Computer
URL:http://www.wikicfp.com/cfp/servlet/event.showcfp?eventid=68602&copyow
 nerid=56734
UID:cfp688704-D@wikicfp.com
END:VEVENT
BEGIN:VEVENT
DTSTAMP:20260424T165816Z
DTSTART;VALUE=DATE:20180530
SUMMARY:SPECOM 2018 Notification Due
DESCRIPTION:20th International Conference on Speech and Computer
URL:http://www.wikicfp.com/cfp/servlet/event.showcfp?eventid=68602&copyow
 nerid=56734
UID:cfp688704-N@wikicfp.com
END:VEVENT
BEGIN:VEVENT
DTSTAMP:20260424T165816Z
DTSTART;VALUE=DATE:20180615
SUMMARY:SPECOM 2018 Final Version Due
DESCRIPTION:20th International Conference on Speech and Computer
URL:http://www.wikicfp.com/cfp/servlet/event.showcfp?eventid=68602&copyow
 nerid=56734
UID:cfp688704-N@wikicfp.com
END:VEVENT
BEGIN:VEVENT
DTSTAMP:20260424T165816Z
DTSTART;VALUE=DATE:20201006
DTEND;VALUE=DATE:20201011
SUMMARY:SPECOM 2020
DESCRIPTION:22nd International Conference on Speech and Computer
URL:http://www.wikicfp.com/cfp/servlet/event.showcfp?eventid=93281&copyow
 nerid=56734
UID:cfp801198-E@wikicfp.com
END:VEVENT
BEGIN:VEVENT
DTSTAMP:20260424T165816Z
DTSTART;VALUE=DATE:20200615
SUMMARY:SPECOM 2020 Deadline
DESCRIPTION:22nd International Conference on Speech and Computer
URL:http://www.wikicfp.com/cfp/servlet/event.showcfp?eventid=93281&copyow
 nerid=56734
UID:cfp801198-D@wikicfp.com
END:VEVENT
BEGIN:VEVENT
DTSTAMP:20260424T165816Z
DTSTART;VALUE=DATE:20200715
SUMMARY:SPECOM 2020 Notification Due
DESCRIPTION:22nd International Conference on Speech and Computer
URL:http://www.wikicfp.com/cfp/servlet/event.showcfp?eventid=93281&copyow
 nerid=56734
UID:cfp801198-N@wikicfp.com
END:VEVENT
BEGIN:VEVENT
DTSTAMP:20260424T165816Z
DTSTART;VALUE=DATE:20200727
SUMMARY:SPECOM 2020 Final Version Due
DESCRIPTION:22nd International Conference on Speech and Computer
URL:http://www.wikicfp.com/cfp/servlet/event.showcfp?eventid=93281&copyow
 nerid=56734
UID:cfp801198-N@wikicfp.com
END:VEVENT
BEGIN:VEVENT
DTSTAMP:20260424T165816Z
DTSTART;VALUE=DATE:20210927
DTEND;VALUE=DATE:20211001
SUMMARY:SPECOM 2021
DESCRIPTION:23rd International Conference on Speech and Computer 
URL:http://www.wikicfp.com/cfp/servlet/event.showcfp?eventid=117215&copyo
 wnerid=56734
UID:cfp860723-E@wikicfp.com
END:VEVENT
BEGIN:VEVENT
DTSTAMP:20260424T165816Z
DTSTART;VALUE=DATE:20210614
SUMMARY:SPECOM 2021 Deadline
DESCRIPTION:23rd International Conference on Speech and Computer 
URL:http://www.wikicfp.com/cfp/servlet/event.showcfp?eventid=117215&copyo
 wnerid=56734
UID:cfp860723-D@wikicfp.com
END:VEVENT
BEGIN:VEVENT
DTSTAMP:20260424T165816Z
DTSTART;VALUE=DATE:20210714
SUMMARY:SPECOM 2021 Notification Due
DESCRIPTION:23rd International Conference on Speech and Computer 
URL:http://www.wikicfp.com/cfp/servlet/event.showcfp?eventid=117215&copyo
 wnerid=56734
UID:cfp860723-N@wikicfp.com
END:VEVENT
BEGIN:VEVENT
DTSTAMP:20260424T165816Z
DTSTART;VALUE=DATE:20210725
SUMMARY:SPECOM 2021 Final Version Due
DESCRIPTION:23rd International Conference on Speech and Computer 
URL:http://www.wikicfp.com/cfp/servlet/event.showcfp?eventid=117215&copyo
 wnerid=56734
UID:cfp860723-N@wikicfp.com
END:VEVENT
BEGIN:VEVENT
DTSTAMP:20260424T165816Z
DTSTART;VALUE=DATE:20210927
DTEND;VALUE=DATE:20211001
SUMMARY:ICR 2021
DESCRIPTION:6th International Conference on Interactive Collaborative Rob
 otics 
URL:http://www.wikicfp.com/cfp/servlet/event.showcfp?eventid=134245&copyo
 wnerid=56734
UID:cfp887416-E@wikicfp.com
END:VEVENT
BEGIN:VEVENT
DTSTAMP:20260424T165816Z
DTSTART;VALUE=DATE:20210614
SUMMARY:ICR 2021 Deadline
DESCRIPTION:6th International Conference on Interactive Collaborative Rob
 otics 
URL:http://www.wikicfp.com/cfp/servlet/event.showcfp?eventid=134245&copyo
 wnerid=56734
UID:cfp887416-D@wikicfp.com
END:VEVENT
BEGIN:VEVENT
DTSTAMP:20260424T165816Z
DTSTART;VALUE=DATE:20210714
SUMMARY:ICR 2021 Notification Due
DESCRIPTION:6th International Conference on Interactive Collaborative Rob
 otics 
URL:http://www.wikicfp.com/cfp/servlet/event.showcfp?eventid=134245&copyo
 wnerid=56734
UID:cfp887416-N@wikicfp.com
END:VEVENT
BEGIN:VEVENT
DTSTAMP:20260424T165816Z
DTSTART;VALUE=DATE:20210725
SUMMARY:ICR 2021 Final Version Due
DESCRIPTION:6th International Conference on Interactive Collaborative Rob
 otics 
URL:http://www.wikicfp.com/cfp/servlet/event.showcfp?eventid=134245&copyo
 wnerid=56734
UID:cfp887416-N@wikicfp.com
END:VEVENT
BEGIN:VEVENT
DTSTAMP:20260424T165816Z
DTSTART;VALUE=DATE:20221114
DTEND;VALUE=DATE:20221117
SUMMARY:SPECOM 2022
DESCRIPTION:24th International Conference on Speech and Computer 
URL:http://www.wikicfp.com/cfp/servlet/event.showcfp?eventid=149480&copyo
 wnerid=56734
UID:cfp909859-E@wikicfp.com
END:VEVENT
BEGIN:VEVENT
DTSTAMP:20260424T165816Z
DTSTART;VALUE=DATE:20220816
SUMMARY:SPECOM 2022 Deadline
DESCRIPTION:24th International Conference on Speech and Computer 
URL:http://www.wikicfp.com/cfp/servlet/event.showcfp?eventid=149480&copyo
 wnerid=56734
UID:cfp909859-D@wikicfp.com
END:VEVENT
BEGIN:VEVENT
DTSTAMP:20260424T165816Z
DTSTART;VALUE=DATE:20220913
SUMMARY:SPECOM 2022 Notification Due
DESCRIPTION:24th International Conference on Speech and Computer 
URL:http://www.wikicfp.com/cfp/servlet/event.showcfp?eventid=149480&copyo
 wnerid=56734
UID:cfp909859-N@wikicfp.com
END:VEVENT
BEGIN:VEVENT
DTSTAMP:20260424T165816Z
DTSTART;VALUE=DATE:20220920
SUMMARY:SPECOM 2022 Final Version Due
DESCRIPTION:24th International Conference on Speech and Computer 
URL:http://www.wikicfp.com/cfp/servlet/event.showcfp?eventid=149480&copyo
 wnerid=56734
UID:cfp909859-N@wikicfp.com
END:VEVENT
BEGIN:VEVENT
DTSTAMP:20260424T165816Z
DTSTART;VALUE=DATE:20231129
DTEND;VALUE=DATE:20231203
SUMMARY:SPECOM 2023
DESCRIPTION:25th International Conference on Speech and Computer
URL:http://www.wikicfp.com/cfp/servlet/event.showcfp?eventid=173449&copyo
 wnerid=56734
UID:cfp964931-E@wikicfp.com
END:VEVENT
BEGIN:VEVENT
DTSTAMP:20260424T165816Z
DTSTART;VALUE=DATE:20230731
SUMMARY:SPECOM 2023 Deadline
DESCRIPTION:25th International Conference on Speech and Computer
URL:http://www.wikicfp.com/cfp/servlet/event.showcfp?eventid=173449&copyo
 wnerid=56734
UID:cfp964931-D@wikicfp.com
END:VEVENT
BEGIN:VEVENT
DTSTAMP:20260424T165816Z
DTSTART;VALUE=DATE:20230908
SUMMARY:SPECOM 2023 Notification Due
DESCRIPTION:25th International Conference on Speech and Computer
URL:http://www.wikicfp.com/cfp/servlet/event.showcfp?eventid=173449&copyo
 wnerid=56734
UID:cfp964931-N@wikicfp.com
END:VEVENT
BEGIN:VEVENT
DTSTAMP:20260424T165816Z
DTSTART;VALUE=DATE:20230924
SUMMARY:SPECOM 2023 Final Version Due
DESCRIPTION:25th International Conference on Speech and Computer
URL:http://www.wikicfp.com/cfp/servlet/event.showcfp?eventid=173449&copyo
 wnerid=56734
UID:cfp964931-N@wikicfp.com
END:VEVENT
BEGIN:VEVENT
DTSTAMP:20260424T165816Z
DTSTART;VALUE=DATE:20241125
DTEND;VALUE=DATE:20241129
SUMMARY:SPECOM 2024
DESCRIPTION:26th International Conference on Speech and Computer
URL:http://www.wikicfp.com/cfp/servlet/event.showcfp?eventid=177545&copyo
 wnerid=56734
UID:cfp980040-E@wikicfp.com
END:VEVENT
BEGIN:VEVENT
DTSTAMP:20260424T165816Z
DTSTART;VALUE=DATE:20240726
SUMMARY:SPECOM 2024 Deadline
DESCRIPTION:26th International Conference on Speech and Computer
URL:http://www.wikicfp.com/cfp/servlet/event.showcfp?eventid=177545&copyo
 wnerid=56734
UID:cfp980040-D@wikicfp.com
END:VEVENT
BEGIN:VEVENT
DTSTAMP:20260424T165816Z
DTSTART;VALUE=DATE:20240910
SUMMARY:SPECOM 2024 Notification Due
DESCRIPTION:26th International Conference on Speech and Computer
URL:http://www.wikicfp.com/cfp/servlet/event.showcfp?eventid=177545&copyo
 wnerid=56734
UID:cfp980040-N@wikicfp.com
END:VEVENT
BEGIN:VEVENT
DTSTAMP:20260424T165816Z
DTSTART;VALUE=DATE:20240915
SUMMARY:SPECOM 2024 Final Version Due
DESCRIPTION:26th International Conference on Speech and Computer
URL:http://www.wikicfp.com/cfp/servlet/event.showcfp?eventid=177545&copyo
 wnerid=56734
UID:cfp980040-N@wikicfp.com
END:VEVENT
BEGIN:VEVENT
DTSTAMP:20260424T165816Z
DTSTART;VALUE=DATE:20251013
DTEND;VALUE=DATE:20251016
SUMMARY:SPECOM 2025
DESCRIPTION:27th International Conference on Speech and Computer
URL:http://www.wikicfp.com/cfp/servlet/event.showcfp?eventid=186061&copyo
 wnerid=56734
UID:cfp1009395-E@wikicfp.com
END:VEVENT
BEGIN:VEVENT
DTSTAMP:20260424T165816Z
DTSTART;VALUE=DATE:20250707
SUMMARY:SPECOM 2025 Deadline
DESCRIPTION:27th International Conference on Speech and Computer
URL:http://www.wikicfp.com/cfp/servlet/event.showcfp?eventid=186061&copyo
 wnerid=56734
UID:cfp1009395-D@wikicfp.com
END:VEVENT
BEGIN:VEVENT
DTSTAMP:20260424T165816Z
DTSTART;VALUE=DATE:20250731
SUMMARY:SPECOM 2025 Notification Due
DESCRIPTION:27th International Conference on Speech and Computer
URL:http://www.wikicfp.com/cfp/servlet/event.showcfp?eventid=186061&copyo
 wnerid=56734
UID:cfp1009395-N@wikicfp.com
END:VEVENT
BEGIN:VEVENT
DTSTAMP:20260424T165816Z
DTSTART;VALUE=DATE:20250810
SUMMARY:SPECOM 2025 Final Version Due
DESCRIPTION:27th International Conference on Speech and Computer
URL:http://www.wikicfp.com/cfp/servlet/event.showcfp?eventid=186061&copyo
 wnerid=56734
UID:cfp1009395-N@wikicfp.com
END:VEVENT
BEGIN:VEVENT
DTSTAMP:20260424T165816Z
DTSTART;VALUE=DATE:20260917
DTEND;VALUE=DATE:20260919
SUMMARY:SPECOM 2026
DESCRIPTION:28th International Conference on Speech and Computer
URL:http://www.wikicfp.com/cfp/servlet/event.showcfp?eventid=194305&copyo
 wnerid=56734
UID:cfp1032243-E@wikicfp.com
END:VEVENT
BEGIN:VEVENT
DTSTAMP:20260424T165816Z
DTSTART;VALUE=DATE:20260508
SUMMARY:SPECOM 2026 Deadline
DESCRIPTION:28th International Conference on Speech and Computer
URL:http://www.wikicfp.com/cfp/servlet/event.showcfp?eventid=194305&copyo
 wnerid=56734
UID:cfp1032243-D@wikicfp.com
END:VEVENT
BEGIN:VEVENT
DTSTAMP:20260424T165816Z
DTSTART;VALUE=DATE:20260626
SUMMARY:SPECOM 2026 Notification Due
DESCRIPTION:28th International Conference on Speech and Computer
URL:http://www.wikicfp.com/cfp/servlet/event.showcfp?eventid=194305&copyo
 wnerid=56734
UID:cfp1032243-N@wikicfp.com
END:VEVENT
BEGIN:VEVENT
DTSTAMP:20260424T165816Z
DTSTART;VALUE=DATE:20260710
SUMMARY:SPECOM 2026 Final Version Due
DESCRIPTION:28th International Conference on Speech and Computer
URL:http://www.wikicfp.com/cfp/servlet/event.showcfp?eventid=194305&copyo
 wnerid=56734
UID:cfp1032243-N@wikicfp.com
END:VEVENT
END:VCALENDAR
