BEGIN:VCALENDAR
PRODID:-//WikiCFP//jhuegel 1.0//EN
VERSION:2.0
CALSCALE:GREGORIAN
BEGIN:VEVENT
DTSTAMP:20260421T183328Z
DTSTART;VALUE=DATE:20100504
DTEND;VALUE=DATE:20100509
SUMMARY:ICRA 2010
DESCRIPTION:2010 IEEE International Conference on Robotics and Automation
 
URL:http://www.wikicfp.com/cfp/servlet/event.showcfp?eventid=3873&copyown
 erid=5662
UID:cfp43830-E@wikicfp.com
END:VEVENT
BEGIN:VEVENT
DTSTAMP:20260421T183328Z
DTSTART;VALUE=DATE:20090915
SUMMARY:ICRA 2010 Deadline
DESCRIPTION:2010 IEEE International Conference on Robotics and Automation
 
URL:http://www.wikicfp.com/cfp/servlet/event.showcfp?eventid=3873&copyown
 erid=5662
UID:cfp43830-D@wikicfp.com
END:VEVENT
BEGIN:VEVENT
DTSTAMP:20260421T183328Z
DTSTART;VALUE=DATE:20100107
SUMMARY:ICRA 2010 Notification Due
DESCRIPTION:2010 IEEE International Conference on Robotics and Automation
 
URL:http://www.wikicfp.com/cfp/servlet/event.showcfp?eventid=3873&copyown
 erid=5662
UID:cfp43830-N@wikicfp.com
END:VEVENT
BEGIN:VEVENT
DTSTAMP:20260421T183328Z
DTSTART;VALUE=DATE:20100208
SUMMARY:ICRA 2010 Final Version Due
DESCRIPTION:2010 IEEE International Conference on Robotics and Automation
 
URL:http://www.wikicfp.com/cfp/servlet/event.showcfp?eventid=3873&copyown
 erid=5662
UID:cfp43830-N@wikicfp.com
END:VEVENT
BEGIN:VEVENT
DTSTAMP:20260421T183328Z
DTSTART;VALUE=DATE:20100410
DTEND;VALUE=DATE:20100416
SUMMARY:CHI 2010
DESCRIPTION:Computer Human Interaction Conference
URL:http://www.wikicfp.com/cfp/servlet/event.showcfp?eventid=5463&copyown
 erid=5662
UID:cfp43827-E@wikicfp.com
END:VEVENT
BEGIN:VEVENT
DTSTAMP:20260421T183328Z
DTSTART;VALUE=DATE:20090917
SUMMARY:CHI 2010 Deadline
DESCRIPTION:Computer Human Interaction Conference
URL:http://www.wikicfp.com/cfp/servlet/event.showcfp?eventid=5463&copyown
 erid=5662
UID:cfp43827-D@wikicfp.com
END:VEVENT
BEGIN:VEVENT
DTSTAMP:20260421T183328Z
DTSTART;VALUE=DATE:20091213
SUMMARY:CHI 2010 Notification Due
DESCRIPTION:Computer Human Interaction Conference
URL:http://www.wikicfp.com/cfp/servlet/event.showcfp?eventid=5463&copyown
 erid=5662
UID:cfp43827-N@wikicfp.com
END:VEVENT
BEGIN:VEVENT
DTSTAMP:20260421T183328Z
DTSTART;VALUE=DATE:20100207
DTEND;VALUE=DATE:20100211
SUMMARY:IUI 2010
DESCRIPTION:14th International Conference on Intelligent User Interfaces
URL:http://www.wikicfp.com/cfp/servlet/event.showcfp?eventid=5838&copyown
 erid=5662
UID:cfp43826-E@wikicfp.com
END:VEVENT
BEGIN:VEVENT
DTSTAMP:20260421T183328Z
DTSTART;VALUE=DATE:20090925
SUMMARY:IUI 2010 Deadline
DESCRIPTION:14th International Conference on Intelligent User Interfaces
URL:http://www.wikicfp.com/cfp/servlet/event.showcfp?eventid=5838&copyown
 erid=5662
UID:cfp43826-D@wikicfp.com
END:VEVENT
BEGIN:VEVENT
DTSTAMP:20260421T183328Z
DTSTART;VALUE=DATE:20091123
SUMMARY:IUI 2010 Notification Due
DESCRIPTION:14th International Conference on Intelligent User Interfaces
URL:http://www.wikicfp.com/cfp/servlet/event.showcfp?eventid=5838&copyown
 erid=5662
UID:cfp43826-N@wikicfp.com
END:VEVENT
BEGIN:VEVENT
DTSTAMP:20260421T183328Z
DTSTART;VALUE=DATE:20091211
SUMMARY:IUI 2010 Final Version Due
DESCRIPTION:14th International Conference on Intelligent User Interfaces
URL:http://www.wikicfp.com/cfp/servlet/event.showcfp?eventid=5838&copyown
 erid=5662
UID:cfp43826-N@wikicfp.com
END:VEVENT
BEGIN:VEVENT
DTSTAMP:20260421T183328Z
DTSTART;VALUE=DATE:20100707
DTEND;VALUE=DATE:20100710
SUMMARY:WCICA 2010
DESCRIPTION:8th World Congress on Intelligent Control and Automation
URL:http://www.wikicfp.com/cfp/servlet/event.showcfp?eventid=5806&copyown
 erid=5662
UID:cfp43834-E@wikicfp.com
END:VEVENT
BEGIN:VEVENT
DTSTAMP:20260421T183328Z
DTSTART;VALUE=DATE:20091130
SUMMARY:WCICA 2010 Deadline
DESCRIPTION:8th World Congress on Intelligent Control and Automation
URL:http://www.wikicfp.com/cfp/servlet/event.showcfp?eventid=5806&copyown
 erid=5662
UID:cfp43834-D@wikicfp.com
END:VEVENT
BEGIN:VEVENT
DTSTAMP:20260421T183328Z
DTSTART;VALUE=DATE:20100228
SUMMARY:WCICA 2010 Notification Due
DESCRIPTION:8th World Congress on Intelligent Control and Automation
URL:http://www.wikicfp.com/cfp/servlet/event.showcfp?eventid=5806&copyown
 erid=5662
UID:cfp43834-N@wikicfp.com
END:VEVENT
BEGIN:VEVENT
DTSTAMP:20260421T183328Z
DTSTART;VALUE=DATE:20100331
SUMMARY:WCICA 2010 Final Version Due
DESCRIPTION:8th World Congress on Intelligent Control and Automation
URL:http://www.wikicfp.com/cfp/servlet/event.showcfp?eventid=5806&copyown
 erid=5662
UID:cfp43834-N@wikicfp.com
END:VEVENT
BEGIN:VEVENT
DTSTAMP:20260421T183328Z
DTSTART;VALUE=DATE:20101018
DTEND;VALUE=DATE:20101023
SUMMARY:IROS 2010
DESCRIPTION:IEEE/RSJ International Conference on Intelligent Robots and S
 ystems
URL:http://www.wikicfp.com/cfp/servlet/event.showcfp?eventid=3872&copyown
 erid=5662
UID:cfp43829-E@wikicfp.com
END:VEVENT
BEGIN:VEVENT
DTSTAMP:20260421T183328Z
DTSTART;VALUE=DATE:20100228
SUMMARY:IROS 2010 Deadline
DESCRIPTION:IEEE/RSJ International Conference on Intelligent Robots and S
 ystems
URL:http://www.wikicfp.com/cfp/servlet/event.showcfp?eventid=3872&copyown
 erid=5662
UID:cfp43829-D@wikicfp.com
END:VEVENT
BEGIN:VEVENT
DTSTAMP:20260421T183328Z
DTSTART;VALUE=DATE:20100615
SUMMARY:IROS 2010 Notification Due
DESCRIPTION:IEEE/RSJ International Conference on Intelligent Robots and S
 ystems
URL:http://www.wikicfp.com/cfp/servlet/event.showcfp?eventid=3872&copyown
 erid=5662
UID:cfp43829-N@wikicfp.com
END:VEVENT
BEGIN:VEVENT
DTSTAMP:20260421T183328Z
DTSTART;VALUE=DATE:20100715
SUMMARY:IROS 2010 Final Version Due
DESCRIPTION:IEEE/RSJ International Conference on Intelligent Robots and S
 ystems
URL:http://www.wikicfp.com/cfp/servlet/event.showcfp?eventid=3872&copyown
 erid=5662
UID:cfp43829-N@wikicfp.com
END:VEVENT
BEGIN:VEVENT
DTSTAMP:20260421T183328Z
DTSTART;VALUE=DATE:20100715
DTEND;VALUE=DATE:20100719
SUMMARY:FSR 2010
DESCRIPTION:Field and Service Robotics 
URL:http://www.wikicfp.com/cfp/servlet/event.showcfp?eventid=5650&copyown
 erid=5662
UID:cfp43831-E@wikicfp.com
END:VEVENT
BEGIN:VEVENT
DTSTAMP:20260421T183328Z
DTSTART;VALUE=DATE:20100315
SUMMARY:FSR 2010 Deadline
DESCRIPTION:Field and Service Robotics 
URL:http://www.wikicfp.com/cfp/servlet/event.showcfp?eventid=5650&copyown
 erid=5662
UID:cfp43831-D@wikicfp.com
END:VEVENT
BEGIN:VEVENT
DTSTAMP:20260421T183328Z
DTSTART;VALUE=DATE:20100520
DTEND;VALUE=DATE:20100524
SUMMARY:Eurobot 2010
DESCRIPTION:Eurobot Conference 2009 - International Conference on Researc
 h and Education in Robotics 
URL:http://www.wikicfp.com/cfp/servlet/event.showcfp?eventid=5651&copyown
 erid=5662
UID:cfp43832-E@wikicfp.com
END:VEVENT
BEGIN:VEVENT
DTSTAMP:20260421T183328Z
DTSTART;VALUE=DATE:20100315
SUMMARY:Eurobot 2010 Deadline
DESCRIPTION:Eurobot Conference 2009 - International Conference on Researc
 h and Education in Robotics 
URL:http://www.wikicfp.com/cfp/servlet/event.showcfp?eventid=5651&copyown
 erid=5662
UID:cfp43832-D@wikicfp.com
END:VEVENT
BEGIN:VEVENT
DTSTAMP:20260421T183328Z
DTSTART;VALUE=DATE:20101010
DTEND;VALUE=DATE:20101014
SUMMARY:SMC 2010
DESCRIPTION:IEEE International Conference on Systems\, Man and Cybernetic
 s
URL:http://www.wikicfp.com/cfp/servlet/event.showcfp?eventid=5656&copyown
 erid=5662
UID:cfp43825-E@wikicfp.com
END:VEVENT
BEGIN:VEVENT
DTSTAMP:20260421T183328Z
DTSTART;VALUE=DATE:20100315
SUMMARY:SMC 2010 Deadline
DESCRIPTION:IEEE International Conference on Systems\, Man and Cybernetic
 s
URL:http://www.wikicfp.com/cfp/servlet/event.showcfp?eventid=5656&copyown
 erid=5662
UID:cfp43825-D@wikicfp.com
END:VEVENT
BEGIN:VEVENT
DTSTAMP:20260421T183328Z
DTSTART;VALUE=DATE:20100515
SUMMARY:SMC 2010 Notification Due
DESCRIPTION:IEEE International Conference on Systems\, Man and Cybernetic
 s
URL:http://www.wikicfp.com/cfp/servlet/event.showcfp?eventid=5656&copyown
 erid=5662
UID:cfp43825-N@wikicfp.com
END:VEVENT
BEGIN:VEVENT
DTSTAMP:20260421T183328Z
DTSTART;VALUE=DATE:20100627
SUMMARY:SMC 2010 Final Version Due
DESCRIPTION:IEEE International Conference on Systems\, Man and Cybernetic
 s
URL:http://www.wikicfp.com/cfp/servlet/event.showcfp?eventid=5656&copyown
 erid=5662
UID:cfp43825-N@wikicfp.com
END:VEVENT
BEGIN:VEVENT
DTSTAMP:20260421T183328Z
DTSTART;VALUE=DATE:20100804
DTEND;VALUE=DATE:20100808
SUMMARY:ICMA 2010
DESCRIPTION:International Conference on Mechatronics and Automation
URL:http://www.wikicfp.com/cfp/servlet/event.showcfp?eventid=5783&copyown
 erid=5662
UID:cfp43833-E@wikicfp.com
END:VEVENT
BEGIN:VEVENT
DTSTAMP:20260421T183328Z
DTSTART;VALUE=DATE:20100321
SUMMARY:ICMA 2010 Deadline
DESCRIPTION:International Conference on Mechatronics and Automation
URL:http://www.wikicfp.com/cfp/servlet/event.showcfp?eventid=5783&copyown
 erid=5662
UID:cfp43833-D@wikicfp.com
END:VEVENT
BEGIN:VEVENT
DTSTAMP:20260421T183328Z
DTSTART;VALUE=DATE:20100517
SUMMARY:ICMA 2010 Notification Due
DESCRIPTION:International Conference on Mechatronics and Automation
URL:http://www.wikicfp.com/cfp/servlet/event.showcfp?eventid=5783&copyown
 erid=5662
UID:cfp43833-N@wikicfp.com
END:VEVENT
BEGIN:VEVENT
DTSTAMP:20260421T183328Z
DTSTART;VALUE=DATE:20100531
SUMMARY:ICMA 2010 Final Version Due
DESCRIPTION:International Conference on Mechatronics and Automation
URL:http://www.wikicfp.com/cfp/servlet/event.showcfp?eventid=5783&copyown
 erid=5662
UID:cfp43833-N@wikicfp.com
END:VEVENT
BEGIN:VEVENT
DTSTAMP:20260421T183328Z
DTSTART;VALUE=DATE:20100601
SUMMARY:IJCICG 2010 Deadline
DESCRIPTION:Call For Papers: Int'l. Journal of Creative Interfaces and Co
 mputer Graphics
URL:http://www.wikicfp.com/cfp/servlet/event.showcfp?eventid=5611&copyown
 erid=5662
UID:cfp43828-D@wikicfp.com
END:VEVENT
END:VCALENDAR
