BEGIN:VCALENDAR
PRODID:-//WikiCFP//greatl 1.0//EN
VERSION:2.0
CALSCALE:GREGORIAN
BEGIN:VEVENT
DTSTAMP:20260426T040704Z
DTSTART;VALUE=DATE:20150519
DTEND;VALUE=DATE:20150523
SUMMARY:PAKDD 2015
DESCRIPTION:Pacific-Asia Conference on Knowledge Discovery and Data Minin
 g
URL:http://www.wikicfp.com/cfp/servlet/event.showcfp?eventid=40000&copyow
 nerid=56332
UID:cfp488917-E@wikicfp.com
END:VEVENT
BEGIN:VEVENT
DTSTAMP:20260426T040704Z
DTSTART;VALUE=DATE:20141128
SUMMARY:PAKDD 2015 Deadline
DESCRIPTION:Pacific-Asia Conference on Knowledge Discovery and Data Minin
 g
URL:http://www.wikicfp.com/cfp/servlet/event.showcfp?eventid=40000&copyow
 nerid=56332
UID:cfp488917-D@wikicfp.com
END:VEVENT
BEGIN:VEVENT
DTSTAMP:20260426T040704Z
DTSTART;VALUE=DATE:20150130
SUMMARY:PAKDD 2015 Notification Due
DESCRIPTION:Pacific-Asia Conference on Knowledge Discovery and Data Minin
 g
URL:http://www.wikicfp.com/cfp/servlet/event.showcfp?eventid=40000&copyow
 nerid=56332
UID:cfp488917-N@wikicfp.com
END:VEVENT
BEGIN:VEVENT
DTSTAMP:20260426T040704Z
DTSTART;VALUE=DATE:20150220
SUMMARY:PAKDD 2015 Final Version Due
DESCRIPTION:Pacific-Asia Conference on Knowledge Discovery and Data Minin
 g
URL:http://www.wikicfp.com/cfp/servlet/event.showcfp?eventid=40000&copyow
 nerid=56332
UID:cfp488917-N@wikicfp.com
END:VEVENT
BEGIN:VEVENT
DTSTAMP:20260426T040704Z
DTSTART;VALUE=DATE:20150711
DTEND;VALUE=DATE:20150717
SUMMARY:IJCNN 2015
DESCRIPTION:International Joint Conference on Neural Networks
URL:http://www.wikicfp.com/cfp/servlet/event.showcfp?eventid=37762&copyow
 nerid=56332
UID:cfp488910-E@wikicfp.com
END:VEVENT
BEGIN:VEVENT
DTSTAMP:20260426T040704Z
DTSTART;VALUE=DATE:20150205
SUMMARY:IJCNN 2015 Deadline
DESCRIPTION:International Joint Conference on Neural Networks
URL:http://www.wikicfp.com/cfp/servlet/event.showcfp?eventid=37762&copyow
 nerid=56332
UID:cfp488910-D@wikicfp.com
END:VEVENT
BEGIN:VEVENT
DTSTAMP:20260426T040704Z
DTSTART;VALUE=DATE:20150325
SUMMARY:IJCNN 2015 Notification Due
DESCRIPTION:International Joint Conference on Neural Networks
URL:http://www.wikicfp.com/cfp/servlet/event.showcfp?eventid=37762&copyow
 nerid=56332
UID:cfp488910-N@wikicfp.com
END:VEVENT
BEGIN:VEVENT
DTSTAMP:20260426T040704Z
DTSTART;VALUE=DATE:20150425
SUMMARY:IJCNN 2015 Final Version Due
DESCRIPTION:International Joint Conference on Neural Networks
URL:http://www.wikicfp.com/cfp/servlet/event.showcfp?eventid=37762&copyow
 nerid=56332
UID:cfp488910-N@wikicfp.com
END:VEVENT
BEGIN:VEVENT
DTSTAMP:20260426T040704Z
DTSTART;VALUE=DATE:20150706
DTEND;VALUE=DATE:20150712
SUMMARY:ICML 2015
DESCRIPTION:International Conference on Machine Learning 2015
URL:http://www.wikicfp.com/cfp/servlet/event.showcfp?eventid=40054&copyow
 nerid=56332
UID:cfp488911-E@wikicfp.com
END:VEVENT
BEGIN:VEVENT
DTSTAMP:20260426T040704Z
DTSTART;VALUE=DATE:20150206
SUMMARY:ICML 2015 Deadline
DESCRIPTION:International Conference on Machine Learning 2015
URL:http://www.wikicfp.com/cfp/servlet/event.showcfp?eventid=40054&copyow
 nerid=56332
UID:cfp488911-D@wikicfp.com
END:VEVENT
BEGIN:VEVENT
DTSTAMP:20260426T040704Z
DTSTART;VALUE=DATE:20150424
SUMMARY:ICML 2015 Notification Due
DESCRIPTION:International Conference on Machine Learning 2015
URL:http://www.wikicfp.com/cfp/servlet/event.showcfp?eventid=40054&copyow
 nerid=56332
UID:cfp488911-N@wikicfp.com
END:VEVENT
BEGIN:VEVENT
DTSTAMP:20260426T040704Z
DTSTART;VALUE=DATE:20150728
DTEND;VALUE=DATE:20150802
SUMMARY:IJCAI 2015
DESCRIPTION:International Joint Conference on Artificial Intelligence
URL:http://www.wikicfp.com/cfp/servlet/event.showcfp?eventid=31845&copyow
 nerid=56332
UID:cfp488907-E@wikicfp.com
END:VEVENT
BEGIN:VEVENT
DTSTAMP:20260426T040704Z
DTSTART;VALUE=DATE:20150208
SUMMARY:IJCAI 2015 Abstract Due
DESCRIPTION:International Joint Conference on Artificial Intelligence
URL:http://www.wikicfp.com/cfp/servlet/event.showcfp?eventid=31845&copyow
 nerid=56332
UID:cfp488907-A@wikicfp.com
END:VEVENT
BEGIN:VEVENT
DTSTAMP:20260426T040704Z
DTSTART;VALUE=DATE:20150212
SUMMARY:IJCAI 2015 Deadline
DESCRIPTION:International Joint Conference on Artificial Intelligence
URL:http://www.wikicfp.com/cfp/servlet/event.showcfp?eventid=31845&copyow
 nerid=56332
UID:cfp488907-D@wikicfp.com
END:VEVENT
BEGIN:VEVENT
DTSTAMP:20260426T040704Z
DTSTART;VALUE=DATE:20150307
SUMMARY:PAML 2015 Deadline
DESCRIPTION:Journal of Neural Computing and Applications (Springer)\, Spe
 cial Issue on  Predictive Analytics Using Machine Learning
URL:http://www.wikicfp.com/cfp/servlet/event.showcfp?eventid=39402&copyow
 nerid=56332
UID:cfp488914-D@wikicfp.com
END:VEVENT
BEGIN:VEVENT
DTSTAMP:20260426T040704Z
DTSTART;VALUE=DATE:20150530
SUMMARY:PAML 2015 Notification Due
DESCRIPTION:Journal of Neural Computing and Applications (Springer)\, Spe
 cial Issue on  Predictive Analytics Using Machine Learning
URL:http://www.wikicfp.com/cfp/servlet/event.showcfp?eventid=39402&copyow
 nerid=56332
UID:cfp488914-N@wikicfp.com
END:VEVENT
BEGIN:VEVENT
DTSTAMP:20260426T040704Z
DTSTART;VALUE=DATE:20150730
SUMMARY:PAML 2015 Final Version Due
DESCRIPTION:Journal of Neural Computing and Applications (Springer)\, Spe
 cial Issue on  Predictive Analytics Using Machine Learning
URL:http://www.wikicfp.com/cfp/servlet/event.showcfp?eventid=39402&copyow
 nerid=56332
UID:cfp488914-N@wikicfp.com
END:VEVENT
BEGIN:VEVENT
DTSTAMP:20260426T040704Z
DTSTART;VALUE=DATE:20151019
DTEND;VALUE=DATE:20151024
SUMMARY:CIKM 2015
DESCRIPTION:Conference on Information and Knowledge Management
URL:http://www.wikicfp.com/cfp/servlet/event.showcfp?eventid=38972&copyow
 nerid=56332
UID:cfp488913-E@wikicfp.com
END:VEVENT
BEGIN:VEVENT
DTSTAMP:20260426T040704Z
DTSTART;VALUE=DATE:20150501
SUMMARY:CIKM 2015 Abstract Due
DESCRIPTION:Conference on Information and Knowledge Management
URL:http://www.wikicfp.com/cfp/servlet/event.showcfp?eventid=38972&copyow
 nerid=56332
UID:cfp488913-A@wikicfp.com
END:VEVENT
BEGIN:VEVENT
DTSTAMP:20260426T040704Z
DTSTART;VALUE=DATE:20150508
SUMMARY:CIKM 2015 Deadline
DESCRIPTION:Conference on Information and Knowledge Management
URL:http://www.wikicfp.com/cfp/servlet/event.showcfp?eventid=38972&copyow
 nerid=56332
UID:cfp488913-D@wikicfp.com
END:VEVENT
BEGIN:VEVENT
DTSTAMP:20260426T040704Z
DTSTART;VALUE=DATE:20150703
SUMMARY:CIKM 2015 Notification Due
DESCRIPTION:Conference on Information and Knowledge Management
URL:http://www.wikicfp.com/cfp/servlet/event.showcfp?eventid=38972&copyow
 nerid=56332
UID:cfp488913-N@wikicfp.com
END:VEVENT
BEGIN:VEVENT
DTSTAMP:20260426T040704Z
DTSTART;VALUE=DATE:20150731
SUMMARY:CIKM 2015 Final Version Due
DESCRIPTION:Conference on Information and Knowledge Management
URL:http://www.wikicfp.com/cfp/servlet/event.showcfp?eventid=38972&copyow
 nerid=56332
UID:cfp488913-N@wikicfp.com
END:VEVENT
BEGIN:VEVENT
DTSTAMP:20260426T040704Z
DTSTART;VALUE=DATE:20151109
DTEND;VALUE=DATE:20151113
SUMMARY:ICONIP 2015
DESCRIPTION:LNCS 22nd International Conference on Neural Information Proc
 essing
URL:http://www.wikicfp.com/cfp/servlet/event.showcfp?eventid=41751&copyow
 nerid=56332
UID:cfp488909-E@wikicfp.com
END:VEVENT
BEGIN:VEVENT
DTSTAMP:20260426T040704Z
DTSTART;VALUE=DATE:20150517
SUMMARY:ICONIP 2015 Deadline
DESCRIPTION:LNCS 22nd International Conference on Neural Information Proc
 essing
URL:http://www.wikicfp.com/cfp/servlet/event.showcfp?eventid=41751&copyow
 nerid=56332
UID:cfp488909-D@wikicfp.com
END:VEVENT
BEGIN:VEVENT
DTSTAMP:20260426T040704Z
DTSTART;VALUE=DATE:20150712
SUMMARY:ICONIP 2015 Notification Due
DESCRIPTION:LNCS 22nd International Conference on Neural Information Proc
 essing
URL:http://www.wikicfp.com/cfp/servlet/event.showcfp?eventid=41751&copyow
 nerid=56332
UID:cfp488909-N@wikicfp.com
END:VEVENT
BEGIN:VEVENT
DTSTAMP:20260426T040704Z
DTSTART;VALUE=DATE:20150731
SUMMARY:ICONIP 2015 Final Version Due
DESCRIPTION:LNCS 22nd International Conference on Neural Information Proc
 essing
URL:http://www.wikicfp.com/cfp/servlet/event.showcfp?eventid=41751&copyow
 nerid=56332
UID:cfp488909-N@wikicfp.com
END:VEVENT
END:VCALENDAR
