BEGIN:VCALENDAR
PRODID:-//WikiCFP//akshara_dave 1.0//EN
VERSION:2.0
CALSCALE:GREGORIAN
BEGIN:VEVENT
DTSTAMP:20260421T092938Z
DTSTART;VALUE=DATE:20140219
DTEND;VALUE=DATE:20140222
SUMMARY:ISEC 2014
DESCRIPTION:7th ACM India Software Engineering Conference
URL:http://www.wikicfp.com/cfp/servlet/event.showcfp?eventid=30497&copyow
 nerid=55423
UID:cfp384834-E@wikicfp.com
END:VEVENT
BEGIN:VEVENT
DTSTAMP:20260421T092938Z
DTSTART;VALUE=DATE:20130920
SUMMARY:ISEC 2014 Abstract Due
DESCRIPTION:7th ACM India Software Engineering Conference
URL:http://www.wikicfp.com/cfp/servlet/event.showcfp?eventid=30497&copyow
 nerid=55423
UID:cfp384834-A@wikicfp.com
END:VEVENT
BEGIN:VEVENT
DTSTAMP:20260421T092938Z
DTSTART;VALUE=DATE:20130927
SUMMARY:ISEC 2014 Deadline
DESCRIPTION:7th ACM India Software Engineering Conference
URL:http://www.wikicfp.com/cfp/servlet/event.showcfp?eventid=30497&copyow
 nerid=55423
UID:cfp384834-D@wikicfp.com
END:VEVENT
BEGIN:VEVENT
DTSTAMP:20260421T092938Z
DTSTART;VALUE=DATE:20131125
SUMMARY:ISEC 2014 Notification Due
DESCRIPTION:7th ACM India Software Engineering Conference
URL:http://www.wikicfp.com/cfp/servlet/event.showcfp?eventid=30497&copyow
 nerid=55423
UID:cfp384834-N@wikicfp.com
END:VEVENT
BEGIN:VEVENT
DTSTAMP:20260421T092938Z
DTSTART;VALUE=DATE:20140329
SUMMARY:IJCSEA 2014 Deadline
DESCRIPTION:International Journal of Computer Science\, Engineering and A
 pplications 
URL:http://www.wikicfp.com/cfp/servlet/event.showcfp?eventid=25522&copyow
 nerid=55423
UID:cfp384833-D@wikicfp.com
END:VEVENT
BEGIN:VEVENT
DTSTAMP:20260421T092938Z
DTSTART;VALUE=DATE:20140428
SUMMARY:IJCSEA 2014 Notification Due
DESCRIPTION:International Journal of Computer Science\, Engineering and A
 pplications 
URL:http://www.wikicfp.com/cfp/servlet/event.showcfp?eventid=25522&copyow
 nerid=55423
UID:cfp384833-N@wikicfp.com
END:VEVENT
BEGIN:VEVENT
DTSTAMP:20260421T092938Z
DTSTART;VALUE=DATE:20140430
SUMMARY:IJCSEA 2014 Final Version Due
DESCRIPTION:International Journal of Computer Science\, Engineering and A
 pplications 
URL:http://www.wikicfp.com/cfp/servlet/event.showcfp?eventid=25522&copyow
 nerid=55423
UID:cfp384833-N@wikicfp.com
END:VEVENT
BEGIN:VEVENT
DTSTAMP:20260421T092938Z
DTSTART;VALUE=DATE:20140610
SUMMARY:IJCSIT 2014 Deadline
DESCRIPTION:International Journal of Computer Science & Information Techn
 ology 
URL:http://www.wikicfp.com/cfp/servlet/event.showcfp?eventid=31407&copyow
 nerid=55423
UID:cfp384835-D@wikicfp.com
END:VEVENT
BEGIN:VEVENT
DTSTAMP:20260421T092938Z
DTSTART;VALUE=DATE:20140710
SUMMARY:IJCSIT 2014 Notification Due
DESCRIPTION:International Journal of Computer Science & Information Techn
 ology 
URL:http://www.wikicfp.com/cfp/servlet/event.showcfp?eventid=31407&copyow
 nerid=55423
UID:cfp384835-N@wikicfp.com
END:VEVENT
BEGIN:VEVENT
DTSTAMP:20260421T092938Z
DTSTART;VALUE=DATE:20140713
SUMMARY:IJCSIT 2014 Final Version Due
DESCRIPTION:International Journal of Computer Science & Information Techn
 ology 
URL:http://www.wikicfp.com/cfp/servlet/event.showcfp?eventid=31407&copyow
 nerid=55423
UID:cfp384835-N@wikicfp.com
END:VEVENT
END:VCALENDAR
