BEGIN:VCALENDAR
PRODID:-//WikiCFP//thuongkmu 1.0//EN
VERSION:2.0
CALSCALE:GREGORIAN
BEGIN:VEVENT
DTSTAMP:20260419T221704Z
DTSTART;VALUE=DATE:20140706
DTEND;VALUE=DATE:20140712
SUMMARY:WCCI 2014
DESCRIPTION:2014 IEEE World Congress on Computational Intelligence 
URL:http://www.wikicfp.com/cfp/servlet/event.showcfp?eventid=24839&copyow
 nerid=55003
UID:cfp382382-E@wikicfp.com
END:VEVENT
BEGIN:VEVENT
DTSTAMP:20260419T221704Z
DTSTART;VALUE=DATE:20140120
SUMMARY:WCCI 2014 Deadline
DESCRIPTION:2014 IEEE World Congress on Computational Intelligence 
URL:http://www.wikicfp.com/cfp/servlet/event.showcfp?eventid=24839&copyow
 nerid=55003
UID:cfp382382-D@wikicfp.com
END:VEVENT
BEGIN:VEVENT
DTSTAMP:20260419T221704Z
DTSTART;VALUE=DATE:20140315
SUMMARY:WCCI 2014 Notification Due
DESCRIPTION:2014 IEEE World Congress on Computational Intelligence 
URL:http://www.wikicfp.com/cfp/servlet/event.showcfp?eventid=24839&copyow
 nerid=55003
UID:cfp382382-N@wikicfp.com
END:VEVENT
BEGIN:VEVENT
DTSTAMP:20260419T221704Z
DTSTART;VALUE=DATE:20140415
SUMMARY:WCCI 2014 Final Version Due
DESCRIPTION:2014 IEEE World Congress on Computational Intelligence 
URL:http://www.wikicfp.com/cfp/servlet/event.showcfp?eventid=24839&copyow
 nerid=55003
UID:cfp382382-N@wikicfp.com
END:VEVENT
END:VCALENDAR
