BEGIN:VCALENDAR
PRODID:-//WikiCFP//mahdi4it 1.0//EN
VERSION:2.0
CALSCALE:GREGORIAN
BEGIN:VEVENT
DTSTAMP:20260425T141853Z
DTSTART;VALUE=DATE:20140505
DTEND;VALUE=DATE:20140510
SUMMARY:AAMAS 2014
DESCRIPTION:13th International Conference on Autonomous Agents and Multia
 gent Systems
URL:http://www.wikicfp.com/cfp/servlet/event.showcfp?eventid=31622&copyow
 nerid=54963
UID:cfp385485-E@wikicfp.com
END:VEVENT
BEGIN:VEVENT
DTSTAMP:20260425T141853Z
DTSTART;VALUE=DATE:20131008
SUMMARY:AAMAS 2014 Abstract Due
DESCRIPTION:13th International Conference on Autonomous Agents and Multia
 gent Systems
URL:http://www.wikicfp.com/cfp/servlet/event.showcfp?eventid=31622&copyow
 nerid=54963
UID:cfp385485-A@wikicfp.com
END:VEVENT
BEGIN:VEVENT
DTSTAMP:20260425T141853Z
DTSTART;VALUE=DATE:20131011
SUMMARY:AAMAS 2014 Deadline
DESCRIPTION:13th International Conference on Autonomous Agents and Multia
 gent Systems
URL:http://www.wikicfp.com/cfp/servlet/event.showcfp?eventid=31622&copyow
 nerid=54963
UID:cfp385485-D@wikicfp.com
END:VEVENT
BEGIN:VEVENT
DTSTAMP:20260425T141853Z
DTSTART;VALUE=DATE:20131220
SUMMARY:AAMAS 2014 Notification Due
DESCRIPTION:13th International Conference on Autonomous Agents and Multia
 gent Systems
URL:http://www.wikicfp.com/cfp/servlet/event.showcfp?eventid=31622&copyow
 nerid=54963
UID:cfp385485-N@wikicfp.com
END:VEVENT
BEGIN:VEVENT
DTSTAMP:20260425T141853Z
DTSTART;VALUE=DATE:20140519
DTEND;VALUE=DATE:20140524
SUMMARY:IPDPS 2014
DESCRIPTION:28th IEEE International Parallel & Distributed Processing Sym
 posium
URL:http://www.wikicfp.com/cfp/servlet/event.showcfp?eventid=31221&copyow
 nerid=54963
UID:cfp385479-E@wikicfp.com
END:VEVENT
BEGIN:VEVENT
DTSTAMP:20260425T141853Z
DTSTART;VALUE=DATE:20131011
SUMMARY:IPDPS 2014 Abstract Due
DESCRIPTION:28th IEEE International Parallel & Distributed Processing Sym
 posium
URL:http://www.wikicfp.com/cfp/servlet/event.showcfp?eventid=31221&copyow
 nerid=54963
UID:cfp385479-A@wikicfp.com
END:VEVENT
BEGIN:VEVENT
DTSTAMP:20260425T141853Z
DTSTART;VALUE=DATE:20131018
SUMMARY:IPDPS 2014 Deadline
DESCRIPTION:28th IEEE International Parallel & Distributed Processing Sym
 posium
URL:http://www.wikicfp.com/cfp/servlet/event.showcfp?eventid=31221&copyow
 nerid=54963
UID:cfp385479-D@wikicfp.com
END:VEVENT
BEGIN:VEVENT
DTSTAMP:20260425T141853Z
DTSTART;VALUE=DATE:20131209
SUMMARY:IPDPS 2014 Notification Due
DESCRIPTION:28th IEEE International Parallel & Distributed Processing Sym
 posium
URL:http://www.wikicfp.com/cfp/servlet/event.showcfp?eventid=31221&copyow
 nerid=54963
UID:cfp385479-N@wikicfp.com
END:VEVENT
BEGIN:VEVENT
DTSTAMP:20260425T141853Z
DTSTART;VALUE=DATE:20140201
SUMMARY:IPDPS 2014 Final Version Due
DESCRIPTION:28th IEEE International Parallel & Distributed Processing Sym
 posium
URL:http://www.wikicfp.com/cfp/servlet/event.showcfp?eventid=31221&copyow
 nerid=54963
UID:cfp385479-N@wikicfp.com
END:VEVENT
BEGIN:VEVENT
DTSTAMP:20260425T141853Z
DTSTART;VALUE=DATE:20140122
DTEND;VALUE=DATE:20140123
SUMMARY:ADAPT 2014
DESCRIPTION:4th International Workshop on Adaptive Self-tuning Computing 
 Systems
URL:http://www.wikicfp.com/cfp/servlet/event.showcfp?eventid=32565&copyow
 nerid=54963
UID:cfp382403-E@wikicfp.com
END:VEVENT
BEGIN:VEVENT
DTSTAMP:20260425T141853Z
DTSTART;VALUE=DATE:20131018
SUMMARY:ADAPT 2014 Deadline
DESCRIPTION:4th International Workshop on Adaptive Self-tuning Computing 
 Systems
URL:http://www.wikicfp.com/cfp/servlet/event.showcfp?eventid=32565&copyow
 nerid=54963
UID:cfp382403-D@wikicfp.com
END:VEVENT
BEGIN:VEVENT
DTSTAMP:20260425T141853Z
DTSTART;VALUE=DATE:20131118
SUMMARY:ADAPT 2014 Notification Due
DESCRIPTION:4th International Workshop on Adaptive Self-tuning Computing 
 Systems
URL:http://www.wikicfp.com/cfp/servlet/event.showcfp?eventid=32565&copyow
 nerid=54963
UID:cfp382403-N@wikicfp.com
END:VEVENT
BEGIN:VEVENT
DTSTAMP:20260425T141853Z
DTSTART;VALUE=DATE:20131209
SUMMARY:ADAPT 2014 Final Version Due
DESCRIPTION:4th International Workshop on Adaptive Self-tuning Computing 
 Systems
URL:http://www.wikicfp.com/cfp/servlet/event.showcfp?eventid=32565&copyow
 nerid=54963
UID:cfp382403-N@wikicfp.com
END:VEVENT
BEGIN:VEVENT
DTSTAMP:20260425T141853Z
DTSTART;VALUE=DATE:20140513
DTEND;VALUE=DATE:20140517
SUMMARY:AINA 2014
DESCRIPTION:The 28th IEEE International Conference on Advanced Informatio
 n Networking and Applications
URL:http://www.wikicfp.com/cfp/servlet/event.showcfp?eventid=32564&copyow
 nerid=54963
UID:cfp382402-E@wikicfp.com
END:VEVENT
BEGIN:VEVENT
DTSTAMP:20260425T141853Z
DTSTART;VALUE=DATE:20131101
SUMMARY:AINA 2014 Deadline
DESCRIPTION:The 28th IEEE International Conference on Advanced Informatio
 n Networking and Applications
URL:http://www.wikicfp.com/cfp/servlet/event.showcfp?eventid=32564&copyow
 nerid=54963
UID:cfp382402-D@wikicfp.com
END:VEVENT
BEGIN:VEVENT
DTSTAMP:20260425T141853Z
DTSTART;VALUE=DATE:20140120
SUMMARY:AINA 2014 Notification Due
DESCRIPTION:The 28th IEEE International Conference on Advanced Informatio
 n Networking and Applications
URL:http://www.wikicfp.com/cfp/servlet/event.showcfp?eventid=32564&copyow
 nerid=54963
UID:cfp382402-N@wikicfp.com
END:VEVENT
BEGIN:VEVENT
DTSTAMP:20260425T141853Z
DTSTART;VALUE=DATE:20140207
SUMMARY:AINA 2014 Final Version Due
DESCRIPTION:The 28th IEEE International Conference on Advanced Informatio
 n Networking and Applications
URL:http://www.wikicfp.com/cfp/servlet/event.showcfp?eventid=32564&copyow
 nerid=54963
UID:cfp382402-N@wikicfp.com
END:VEVENT
BEGIN:VEVENT
DTSTAMP:20260425T141853Z
DTSTART;VALUE=DATE:20140326
DTEND;VALUE=DATE:20140330
SUMMARY:CCGrid 2014
DESCRIPTION:14th IEEE/ACM International Symposium On Cluster\, Cloud And 
 Grid Computing
URL:http://www.wikicfp.com/cfp/servlet/event.showcfp?eventid=29893&copyow
 nerid=54963
UID:cfp385491-E@wikicfp.com
END:VEVENT
BEGIN:VEVENT
DTSTAMP:20260425T141853Z
DTSTART;VALUE=DATE:20131111
SUMMARY:CCGrid 2014 Deadline
DESCRIPTION:14th IEEE/ACM International Symposium On Cluster\, Cloud And 
 Grid Computing
URL:http://www.wikicfp.com/cfp/servlet/event.showcfp?eventid=29893&copyow
 nerid=54963
UID:cfp385491-D@wikicfp.com
END:VEVENT
BEGIN:VEVENT
DTSTAMP:20260425T141853Z
DTSTART;VALUE=DATE:20140124
SUMMARY:CCGrid 2014 Notification Due
DESCRIPTION:14th IEEE/ACM International Symposium On Cluster\, Cloud And 
 Grid Computing
URL:http://www.wikicfp.com/cfp/servlet/event.showcfp?eventid=29893&copyow
 nerid=54963
UID:cfp385491-N@wikicfp.com
END:VEVENT
BEGIN:VEVENT
DTSTAMP:20260425T141853Z
DTSTART;VALUE=DATE:20140217
SUMMARY:CCGrid 2014 Final Version Due
DESCRIPTION:14th IEEE/ACM International Symposium On Cluster\, Cloud And 
 Grid Computing
URL:http://www.wikicfp.com/cfp/servlet/event.showcfp?eventid=29893&copyow
 nerid=54963
UID:cfp385491-N@wikicfp.com
END:VEVENT
BEGIN:VEVENT
DTSTAMP:20260425T141853Z
DTSTART;VALUE=DATE:20140630
DTEND;VALUE=DATE:20140704
SUMMARY:ICDCS 2014
DESCRIPTION:International Conference on Distributed Computing Systems
URL:http://www.wikicfp.com/cfp/servlet/event.showcfp?eventid=32532&copyow
 nerid=54963
UID:cfp385475-E@wikicfp.com
END:VEVENT
BEGIN:VEVENT
DTSTAMP:20260425T141853Z
DTSTART;VALUE=DATE:20131122
SUMMARY:ICDCS 2014 Abstract Due
DESCRIPTION:International Conference on Distributed Computing Systems
URL:http://www.wikicfp.com/cfp/servlet/event.showcfp?eventid=32532&copyow
 nerid=54963
UID:cfp385475-A@wikicfp.com
END:VEVENT
BEGIN:VEVENT
DTSTAMP:20260425T141853Z
DTSTART;VALUE=DATE:20131129
SUMMARY:ICDCS 2014 Deadline
DESCRIPTION:International Conference on Distributed Computing Systems
URL:http://www.wikicfp.com/cfp/servlet/event.showcfp?eventid=32532&copyow
 nerid=54963
UID:cfp385475-D@wikicfp.com
END:VEVENT
BEGIN:VEVENT
DTSTAMP:20260425T141853Z
DTSTART;VALUE=DATE:20140317
SUMMARY:ICDCS 2014 Notification Due
DESCRIPTION:International Conference on Distributed Computing Systems
URL:http://www.wikicfp.com/cfp/servlet/event.showcfp?eventid=32532&copyow
 nerid=54963
UID:cfp385475-N@wikicfp.com
END:VEVENT
BEGIN:VEVENT
DTSTAMP:20260425T141853Z
DTSTART;VALUE=DATE:20140407
SUMMARY:ICDCS 2014 Final Version Due
DESCRIPTION:International Conference on Distributed Computing Systems
URL:http://www.wikicfp.com/cfp/servlet/event.showcfp?eventid=32532&copyow
 nerid=54963
UID:cfp385475-N@wikicfp.com
END:VEVENT
BEGIN:VEVENT
DTSTAMP:20260425T141853Z
DTSTART;VALUE=DATE:20140623
DTEND;VALUE=DATE:20140628
SUMMARY:HPDC 2014
DESCRIPTION:High Performance Distributed Computing
URL:http://www.wikicfp.com/cfp/servlet/event.showcfp?eventid=32644&copyow
 nerid=54963
UID:cfp385474-E@wikicfp.com
END:VEVENT
BEGIN:VEVENT
DTSTAMP:20260425T141853Z
DTSTART;VALUE=DATE:20140120
SUMMARY:HPDC 2014 Abstract Due
DESCRIPTION:High Performance Distributed Computing
URL:http://www.wikicfp.com/cfp/servlet/event.showcfp?eventid=32644&copyow
 nerid=54963
UID:cfp385474-A@wikicfp.com
END:VEVENT
BEGIN:VEVENT
DTSTAMP:20260425T141853Z
DTSTART;VALUE=DATE:20140127
SUMMARY:HPDC 2014 Deadline
DESCRIPTION:High Performance Distributed Computing
URL:http://www.wikicfp.com/cfp/servlet/event.showcfp?eventid=32644&copyow
 nerid=54963
UID:cfp385474-D@wikicfp.com
END:VEVENT
BEGIN:VEVENT
DTSTAMP:20260425T141853Z
DTSTART;VALUE=DATE:20140407
SUMMARY:HPDC 2014 Notification Due
DESCRIPTION:High Performance Distributed Computing
URL:http://www.wikicfp.com/cfp/servlet/event.showcfp?eventid=32644&copyow
 nerid=54963
UID:cfp385474-N@wikicfp.com
END:VEVENT
BEGIN:VEVENT
DTSTAMP:20260425T141853Z
DTSTART;VALUE=DATE:20140715
DTEND;VALUE=DATE:20140720
SUMMARY:PODC 2014
DESCRIPTION:ACM Symposium on Principles of Distributed Computing
URL:http://www.wikicfp.com/cfp/servlet/event.showcfp?eventid=32790&copyow
 nerid=54963
UID:cfp385493-E@wikicfp.com
END:VEVENT
BEGIN:VEVENT
DTSTAMP:20260425T141853Z
DTSTART;VALUE=DATE:20140210
SUMMARY:PODC 2014 Deadline
DESCRIPTION:ACM Symposium on Principles of Distributed Computing
URL:http://www.wikicfp.com/cfp/servlet/event.showcfp?eventid=32790&copyow
 nerid=54963
UID:cfp385493-D@wikicfp.com
END:VEVENT
BEGIN:VEVENT
DTSTAMP:20260425T141853Z
DTSTART;VALUE=DATE:20140429
DTEND;VALUE=DATE:20140502
SUMMARY:ICeND 2014
DESCRIPTION:The Third International Conference on e-Technologies and Netw
 orks for Development
URL:http://www.wikicfp.com/cfp/servlet/event.showcfp?eventid=32490&copyow
 nerid=54963
UID:cfp385486-E@wikicfp.com
END:VEVENT
BEGIN:VEVENT
DTSTAMP:20260425T141853Z
DTSTART;VALUE=DATE:20140329
SUMMARY:ICeND 2014 Deadline
DESCRIPTION:The Third International Conference on e-Technologies and Netw
 orks for Development
URL:http://www.wikicfp.com/cfp/servlet/event.showcfp?eventid=32490&copyow
 nerid=54963
UID:cfp385486-D@wikicfp.com
END:VEVENT
BEGIN:VEVENT
DTSTAMP:20260425T141853Z
DTSTART;VALUE=DATE:20140414
SUMMARY:ICeND 2014 Notification Due
DESCRIPTION:The Third International Conference on e-Technologies and Netw
 orks for Development
URL:http://www.wikicfp.com/cfp/servlet/event.showcfp?eventid=32490&copyow
 nerid=54963
UID:cfp385486-N@wikicfp.com
END:VEVENT
BEGIN:VEVENT
DTSTAMP:20260425T141853Z
DTSTART;VALUE=DATE:20140419
SUMMARY:ICeND 2014 Final Version Due
DESCRIPTION:The Third International Conference on e-Technologies and Netw
 orks for Development
URL:http://www.wikicfp.com/cfp/servlet/event.showcfp?eventid=32490&copyow
 nerid=54963
UID:cfp385486-N@wikicfp.com
END:VEVENT
BEGIN:VEVENT
DTSTAMP:20260425T141853Z
DTSTART;VALUE=DATE:20140423
DTEND;VALUE=DATE:20140425
SUMMARY:ICNGCCT 2014
DESCRIPTION:International Conference on Next Generation Computing and Com
 munication Technologies
URL:http://www.wikicfp.com/cfp/servlet/event.showcfp?eventid=30915&copyow
 nerid=54963
UID:cfp385492-E@wikicfp.com
END:VEVENT
BEGIN:VEVENT
DTSTAMP:20260425T141853Z
DTSTART;VALUE=DATE:20140303
SUMMARY:ICNGCCT 2014 Abstract Due
DESCRIPTION:International Conference on Next Generation Computing and Com
 munication Technologies
URL:http://www.wikicfp.com/cfp/servlet/event.showcfp?eventid=30915&copyow
 nerid=54963
UID:cfp385492-A@wikicfp.com
END:VEVENT
BEGIN:VEVENT
DTSTAMP:20260425T141853Z
DTSTART;VALUE=DATE:20140331
SUMMARY:ICNGCCT 2014 Deadline
DESCRIPTION:International Conference on Next Generation Computing and Com
 munication Technologies
URL:http://www.wikicfp.com/cfp/servlet/event.showcfp?eventid=30915&copyow
 nerid=54963
UID:cfp385492-D@wikicfp.com
END:VEVENT
BEGIN:VEVENT
DTSTAMP:20260425T141853Z
DTSTART;VALUE=DATE:20140405
SUMMARY:ICNGCCT 2014 Notification Due
DESCRIPTION:International Conference on Next Generation Computing and Com
 munication Technologies
URL:http://www.wikicfp.com/cfp/servlet/event.showcfp?eventid=30915&copyow
 nerid=54963
UID:cfp385492-N@wikicfp.com
END:VEVENT
BEGIN:VEVENT
DTSTAMP:20260425T141853Z
DTSTART;VALUE=DATE:20140407
SUMMARY:ICNGCCT 2014 Final Version Due
DESCRIPTION:International Conference on Next Generation Computing and Com
 munication Technologies
URL:http://www.wikicfp.com/cfp/servlet/event.showcfp?eventid=30915&copyow
 nerid=54963
UID:cfp385492-N@wikicfp.com
END:VEVENT
BEGIN:VEVENT
DTSTAMP:20260425T141853Z
DTSTART;VALUE=DATE:20150304
DTEND;VALUE=DATE:20150307
SUMMARY:PDP 2015
DESCRIPTION:Parallel\, Distributed and Network-Based Processing
URL:http://www.wikicfp.com/cfp/servlet/event.showcfp?eventid=38511&copyow
 nerid=54963
UID:cfp452289-E@wikicfp.com
END:VEVENT
BEGIN:VEVENT
DTSTAMP:20260425T141853Z
DTSTART;VALUE=DATE:20140825
SUMMARY:PDP 2015 Deadline
DESCRIPTION:Parallel\, Distributed and Network-Based Processing
URL:http://www.wikicfp.com/cfp/servlet/event.showcfp?eventid=38511&copyow
 nerid=54963
UID:cfp452289-D@wikicfp.com
END:VEVENT
BEGIN:VEVENT
DTSTAMP:20260425T141853Z
DTSTART;VALUE=DATE:20141025
SUMMARY:PDP 2015 Notification Due
DESCRIPTION:Parallel\, Distributed and Network-Based Processing
URL:http://www.wikicfp.com/cfp/servlet/event.showcfp?eventid=38511&copyow
 nerid=54963
UID:cfp452289-N@wikicfp.com
END:VEVENT
BEGIN:VEVENT
DTSTAMP:20260425T141853Z
DTSTART;VALUE=DATE:20141110
SUMMARY:PDP 2015 Final Version Due
DESCRIPTION:Parallel\, Distributed and Network-Based Processing
URL:http://www.wikicfp.com/cfp/servlet/event.showcfp?eventid=38511&copyow
 nerid=54963
UID:cfp452289-N@wikicfp.com
END:VEVENT
BEGIN:VEVENT
DTSTAMP:20260425T141853Z
DTSTART;VALUE=DATE:20150212
DTEND;VALUE=DATE:20150214
SUMMARY:ICSMO 2015
DESCRIPTION:2015 3rd International Conference on System Modeling and Opti
 mization
URL:http://www.wikicfp.com/cfp/servlet/event.showcfp?eventid=32209&copyow
 nerid=54963
UID:cfp385489-E@wikicfp.com
END:VEVENT
BEGIN:VEVENT
DTSTAMP:20260425T141853Z
DTSTART;VALUE=DATE:20141120
SUMMARY:ICSMO 2015 Deadline
DESCRIPTION:2015 3rd International Conference on System Modeling and Opti
 mization
URL:http://www.wikicfp.com/cfp/servlet/event.showcfp?eventid=32209&copyow
 nerid=54963
UID:cfp385489-D@wikicfp.com
END:VEVENT
BEGIN:VEVENT
DTSTAMP:20260425T141853Z
DTSTART;VALUE=DATE:20141215
SUMMARY:ICSMO 2015 Notification Due
DESCRIPTION:2015 3rd International Conference on System Modeling and Opti
 mization
URL:http://www.wikicfp.com/cfp/servlet/event.showcfp?eventid=32209&copyow
 nerid=54963
UID:cfp385489-N@wikicfp.com
END:VEVENT
BEGIN:VEVENT
DTSTAMP:20260425T141853Z
DTSTART;VALUE=DATE:20141230
SUMMARY:ICSMO 2015 Final Version Due
DESCRIPTION:2015 3rd International Conference on System Modeling and Opti
 mization
URL:http://www.wikicfp.com/cfp/servlet/event.showcfp?eventid=32209&copyow
 nerid=54963
UID:cfp385489-N@wikicfp.com
END:VEVENT
END:VCALENDAR
