BEGIN:VCALENDAR
PRODID:-//WikiCFP//672070 1.0//EN
VERSION:2.0
CALSCALE:GREGORIAN
BEGIN:VEVENT
DTSTAMP:20260421T234325Z
DTSTART;VALUE=DATE:20140311
DTEND;VALUE=DATE:20140315
SUMMARY:IC2E 2014
DESCRIPTION:2014 IEEE International Conference on Cloud Engineering
URL:http://www.wikicfp.com/cfp/servlet/event.showcfp?eventid=32519&copyow
 nerid=54829
UID:cfp381436-E@wikicfp.com
END:VEVENT
BEGIN:VEVENT
DTSTAMP:20260421T234325Z
DTSTART;VALUE=DATE:20131209
DTEND;VALUE=DATE:20131210
SUMMARY:CoNext Student Workshop 2013
DESCRIPTION:ACM CoNext 2013 Student Workshop
URL:http://www.wikicfp.com/cfp/servlet/event.showcfp?eventid=32518&copyow
 nerid=54829
UID:cfp381435-E@wikicfp.com
END:VEVENT
BEGIN:VEVENT
DTSTAMP:20260421T234325Z
DTSTART;VALUE=DATE:20130930
SUMMARY:CoNext Student Workshop 2013 Deadline
DESCRIPTION:ACM CoNext 2013 Student Workshop
URL:http://www.wikicfp.com/cfp/servlet/event.showcfp?eventid=32518&copyow
 nerid=54829
UID:cfp381435-D@wikicfp.com
END:VEVENT
BEGIN:VEVENT
DTSTAMP:20260421T234325Z
DTSTART;VALUE=DATE:20131017
SUMMARY:CoNext Student Workshop 2013 Notification Due
DESCRIPTION:ACM CoNext 2013 Student Workshop
URL:http://www.wikicfp.com/cfp/servlet/event.showcfp?eventid=32518&copyow
 nerid=54829
UID:cfp381435-N@wikicfp.com
END:VEVENT
BEGIN:VEVENT
DTSTAMP:20260421T234325Z
DTSTART;VALUE=DATE:20131022
SUMMARY:CoNext Student Workshop 2013 Final Version Due
DESCRIPTION:ACM CoNext 2013 Student Workshop
URL:http://www.wikicfp.com/cfp/servlet/event.showcfp?eventid=32518&copyow
 nerid=54829
UID:cfp381435-N@wikicfp.com
END:VEVENT
BEGIN:VEVENT
DTSTAMP:20260421T234325Z
DTSTART;VALUE=DATE:20140414
DTEND;VALUE=DATE:20140418
SUMMARY:ICCPS 2014
DESCRIPTION:The 5th International Conference on Cyber-Physical Systems
URL:http://www.wikicfp.com/cfp/servlet/event.showcfp?eventid=32495&copyow
 nerid=54829
UID:cfp381433-E@wikicfp.com
END:VEVENT
BEGIN:VEVENT
DTSTAMP:20260421T234325Z
DTSTART;VALUE=DATE:20140417
SUMMARY:ICCPS 2014 Abstract Due
DESCRIPTION:The 5th International Conference on Cyber-Physical Systems
URL:http://www.wikicfp.com/cfp/servlet/event.showcfp?eventid=32495&copyow
 nerid=54829
UID:cfp381433-A@wikicfp.com
END:VEVENT
BEGIN:VEVENT
DTSTAMP:20260421T234325Z
DTSTART;VALUE=DATE:20131014
SUMMARY:ICCPS 2014 Deadline
DESCRIPTION:The 5th International Conference on Cyber-Physical Systems
URL:http://www.wikicfp.com/cfp/servlet/event.showcfp?eventid=32495&copyow
 nerid=54829
UID:cfp381433-D@wikicfp.com
END:VEVENT
BEGIN:VEVENT
DTSTAMP:20260421T234325Z
DTSTART;VALUE=DATE:20140117
SUMMARY:ICCPS 2014 Notification Due
DESCRIPTION:The 5th International Conference on Cyber-Physical Systems
URL:http://www.wikicfp.com/cfp/servlet/event.showcfp?eventid=32495&copyow
 nerid=54829
UID:cfp381433-N@wikicfp.com
END:VEVENT
BEGIN:VEVENT
DTSTAMP:20260421T234325Z
DTSTART;VALUE=DATE:20140120
DTEND;VALUE=DATE:20140122
SUMMARY:METMG  2014
DESCRIPTION:2014 2nd International Conference on Manufacturing Engineerin
 g and Technology for Manufacturing Growth 
URL:http://www.wikicfp.com/cfp/servlet/event.showcfp?eventid=32500&copyow
 nerid=54829
UID:cfp381434-E@wikicfp.com
END:VEVENT
BEGIN:VEVENT
DTSTAMP:20260421T234325Z
DTSTART;VALUE=DATE:20131220
SUMMARY:METMG  2014 Deadline
DESCRIPTION:2014 2nd International Conference on Manufacturing Engineerin
 g and Technology for Manufacturing Growth 
URL:http://www.wikicfp.com/cfp/servlet/event.showcfp?eventid=32500&copyow
 nerid=54829
UID:cfp381434-D@wikicfp.com
END:VEVENT
BEGIN:VEVENT
DTSTAMP:20260421T234325Z
DTSTART;VALUE=DATE:20131220
SUMMARY:METMG  2014 Notification Due
DESCRIPTION:2014 2nd International Conference on Manufacturing Engineerin
 g and Technology for Manufacturing Growth 
URL:http://www.wikicfp.com/cfp/servlet/event.showcfp?eventid=32500&copyow
 nerid=54829
UID:cfp381434-N@wikicfp.com
END:VEVENT
BEGIN:VEVENT
DTSTAMP:20260421T234325Z
DTSTART;VALUE=DATE:20131220
SUMMARY:METMG  2014 Final Version Due
DESCRIPTION:2014 2nd International Conference on Manufacturing Engineerin
 g and Technology for Manufacturing Growth 
URL:http://www.wikicfp.com/cfp/servlet/event.showcfp?eventid=32500&copyow
 nerid=54829
UID:cfp381434-N@wikicfp.com
END:VEVENT
BEGIN:VEVENT
DTSTAMP:20260421T234325Z
DTSTART;VALUE=DATE:20140322
DTEND;VALUE=DATE:20140326
SUMMARY:CTMA 2014
DESCRIPTION:Special Session on Chaos Theory - Modelling and Applications
URL:http://www.wikicfp.com/cfp/servlet/event.showcfp?eventid=32520&copyow
 nerid=54829
UID:cfp381437-E@wikicfp.com
END:VEVENT
BEGIN:VEVENT
DTSTAMP:20260421T234325Z
DTSTART;VALUE=DATE:20140110
SUMMARY:CTMA 2014 Deadline
DESCRIPTION:Special Session on Chaos Theory - Modelling and Applications
URL:http://www.wikicfp.com/cfp/servlet/event.showcfp?eventid=32520&copyow
 nerid=54829
UID:cfp381437-D@wikicfp.com
END:VEVENT
BEGIN:VEVENT
DTSTAMP:20260421T234325Z
DTSTART;VALUE=DATE:20140131
SUMMARY:CTMA 2014 Notification Due
DESCRIPTION:Special Session on Chaos Theory - Modelling and Applications
URL:http://www.wikicfp.com/cfp/servlet/event.showcfp?eventid=32520&copyow
 nerid=54829
UID:cfp381437-N@wikicfp.com
END:VEVENT
BEGIN:VEVENT
DTSTAMP:20260421T234325Z
DTSTART;VALUE=DATE:20140220
SUMMARY:CTMA 2014 Final Version Due
DESCRIPTION:Special Session on Chaos Theory - Modelling and Applications
URL:http://www.wikicfp.com/cfp/servlet/event.showcfp?eventid=32520&copyow
 nerid=54829
UID:cfp381437-N@wikicfp.com
END:VEVENT
END:VCALENDAR
