BEGIN:VCALENDAR
PRODID:-//WikiCFP//ivprasanna29 1.0//EN
VERSION:2.0
CALSCALE:GREGORIAN
BEGIN:VEVENT
DTSTAMP:20260423T210613Z
DTSTART;VALUE=DATE:20130307
DTEND;VALUE=DATE:20130310
SUMMARY:IRSEC 2013
DESCRIPTION:International Renewable and Sustainable Energy Conference
URL:http://www.wikicfp.com/cfp/servlet/event.showcfp?eventid=24176&copyow
 nerid=54218
UID:cfp377988-E@wikicfp.com
END:VEVENT
BEGIN:VEVENT
DTSTAMP:20260423T210613Z
DTSTART;VALUE=DATE:20121015
SUMMARY:IRSEC 2013 Deadline
DESCRIPTION:International Renewable and Sustainable Energy Conference
URL:http://www.wikicfp.com/cfp/servlet/event.showcfp?eventid=24176&copyow
 nerid=54218
UID:cfp377988-D@wikicfp.com
END:VEVENT
BEGIN:VEVENT
DTSTAMP:20260423T210613Z
DTSTART;VALUE=DATE:20121215
SUMMARY:IRSEC 2013 Notification Due
DESCRIPTION:International Renewable and Sustainable Energy Conference
URL:http://www.wikicfp.com/cfp/servlet/event.showcfp?eventid=24176&copyow
 nerid=54218
UID:cfp377988-N@wikicfp.com
END:VEVENT
BEGIN:VEVENT
DTSTAMP:20260423T210613Z
DTSTART;VALUE=DATE:20121230
SUMMARY:IRSEC 2013 Final Version Due
DESCRIPTION:International Renewable and Sustainable Energy Conference
URL:http://www.wikicfp.com/cfp/servlet/event.showcfp?eventid=24176&copyow
 nerid=54218
UID:cfp377988-N@wikicfp.com
END:VEVENT
BEGIN:VEVENT
DTSTAMP:20260423T210613Z
DTSTART;VALUE=DATE:20131111
DTEND;VALUE=DATE:20131114
SUMMARY:PE 2013
DESCRIPTION:Power and Energy
URL:http://www.wikicfp.com/cfp/servlet/event.showcfp?eventid=30446&copyow
 nerid=54218
UID:cfp377986-E@wikicfp.com
END:VEVENT
BEGIN:VEVENT
DTSTAMP:20260423T210613Z
DTSTART;VALUE=DATE:20130910
SUMMARY:PE 2013 Deadline
DESCRIPTION:Power and Energy
URL:http://www.wikicfp.com/cfp/servlet/event.showcfp?eventid=30446&copyow
 nerid=54218
UID:cfp377986-D@wikicfp.com
END:VEVENT
BEGIN:VEVENT
DTSTAMP:20260423T210613Z
DTSTART;VALUE=DATE:20130927
SUMMARY:PE 2013 Notification Due
DESCRIPTION:Power and Energy
URL:http://www.wikicfp.com/cfp/servlet/event.showcfp?eventid=30446&copyow
 nerid=54218
UID:cfp377986-N@wikicfp.com
END:VEVENT
BEGIN:VEVENT
DTSTAMP:20260423T210613Z
DTSTART;VALUE=DATE:20140201
DTEND;VALUE=DATE:20140203
SUMMARY:ACES 2014
DESCRIPTION:1st International Conference on Automation\, Control\, Energy
  and Systems
URL:http://www.wikicfp.com/cfp/servlet/event.showcfp?eventid=31052&copyow
 nerid=54218
UID:cfp377984-E@wikicfp.com
END:VEVENT
BEGIN:VEVENT
DTSTAMP:20260423T210613Z
DTSTART;VALUE=DATE:20130915
SUMMARY:ACES 2014 Deadline
DESCRIPTION:1st International Conference on Automation\, Control\, Energy
  and Systems
URL:http://www.wikicfp.com/cfp/servlet/event.showcfp?eventid=31052&copyow
 nerid=54218
UID:cfp377984-D@wikicfp.com
END:VEVENT
BEGIN:VEVENT
DTSTAMP:20260423T210613Z
DTSTART;VALUE=DATE:20131115
SUMMARY:ACES 2014 Notification Due
DESCRIPTION:1st International Conference on Automation\, Control\, Energy
  and Systems
URL:http://www.wikicfp.com/cfp/servlet/event.showcfp?eventid=31052&copyow
 nerid=54218
UID:cfp377984-N@wikicfp.com
END:VEVENT
BEGIN:VEVENT
DTSTAMP:20260423T210613Z
DTSTART;VALUE=DATE:20131215
SUMMARY:ACES 2014 Final Version Due
DESCRIPTION:1st International Conference on Automation\, Control\, Energy
  and Systems
URL:http://www.wikicfp.com/cfp/servlet/event.showcfp?eventid=31052&copyow
 nerid=54218
UID:cfp377984-N@wikicfp.com
END:VEVENT
BEGIN:VEVENT
DTSTAMP:20260423T210613Z
DTSTART;VALUE=DATE:20140408
DTEND;VALUE=DATE:20140411
SUMMARY:PEMD 2014
DESCRIPTION:The 7th International Conference on Power Electronics\, Machi
 nes aand Drives
URL:http://www.wikicfp.com/cfp/servlet/event.showcfp?eventid=28144&copyow
 nerid=54218
UID:cfp377982-E@wikicfp.com
END:VEVENT
BEGIN:VEVENT
DTSTAMP:20260423T210613Z
DTSTART;VALUE=DATE:20130916
SUMMARY:PEMD 2014 Deadline
DESCRIPTION:The 7th International Conference on Power Electronics\, Machi
 nes aand Drives
URL:http://www.wikicfp.com/cfp/servlet/event.showcfp?eventid=28144&copyow
 nerid=54218
UID:cfp377982-D@wikicfp.com
END:VEVENT
BEGIN:VEVENT
DTSTAMP:20260423T210613Z
DTSTART;VALUE=DATE:20131127
SUMMARY:PEMD 2014 Notification Due
DESCRIPTION:The 7th International Conference on Power Electronics\, Machi
 nes aand Drives
URL:http://www.wikicfp.com/cfp/servlet/event.showcfp?eventid=28144&copyow
 nerid=54218
UID:cfp377982-N@wikicfp.com
END:VEVENT
BEGIN:VEVENT
DTSTAMP:20260423T210613Z
DTSTART;VALUE=DATE:20140113
SUMMARY:PEMD 2014 Final Version Due
DESCRIPTION:The 7th International Conference on Power Electronics\, Machi
 nes aand Drives
URL:http://www.wikicfp.com/cfp/servlet/event.showcfp?eventid=28144&copyow
 nerid=54218
UID:cfp377982-N@wikicfp.com
END:VEVENT
BEGIN:VEVENT
DTSTAMP:20260423T210613Z
DTSTART;VALUE=DATE:20131220
DTEND;VALUE=DATE:20131222
SUMMARY:ICPSE 2013
DESCRIPTION:2013 2nd International Conference on Power Science and Engine
 ering
URL:http://www.wikicfp.com/cfp/servlet/event.showcfp?eventid=30865&copyow
 nerid=54218
UID:cfp377991-E@wikicfp.com
END:VEVENT
BEGIN:VEVENT
DTSTAMP:20260423T210613Z
DTSTART;VALUE=DATE:20130925
SUMMARY:ICPSE 2013 Deadline
DESCRIPTION:2013 2nd International Conference on Power Science and Engine
 ering
URL:http://www.wikicfp.com/cfp/servlet/event.showcfp?eventid=30865&copyow
 nerid=54218
UID:cfp377991-D@wikicfp.com
END:VEVENT
BEGIN:VEVENT
DTSTAMP:20260423T210613Z
DTSTART;VALUE=DATE:20131020
SUMMARY:ICPSE 2013 Notification Due
DESCRIPTION:2013 2nd International Conference on Power Science and Engine
 ering
URL:http://www.wikicfp.com/cfp/servlet/event.showcfp?eventid=30865&copyow
 nerid=54218
UID:cfp377991-N@wikicfp.com
END:VEVENT
BEGIN:VEVENT
DTSTAMP:20260423T210613Z
DTSTART;VALUE=DATE:20131105
SUMMARY:ICPSE 2013 Final Version Due
DESCRIPTION:2013 2nd International Conference on Power Science and Engine
 ering
URL:http://www.wikicfp.com/cfp/servlet/event.showcfp?eventid=30865&copyow
 nerid=54218
UID:cfp377991-N@wikicfp.com
END:VEVENT
BEGIN:VEVENT
DTSTAMP:20260423T210613Z
DTSTART;VALUE=DATE:20140604
DTEND;VALUE=DATE:20140607
SUMMARY:ACC 2014
DESCRIPTION:2014 American Control Conference
URL:http://www.wikicfp.com/cfp/servlet/event.showcfp?eventid=31720&copyow
 nerid=54218
UID:cfp377985-E@wikicfp.com
END:VEVENT
BEGIN:VEVENT
DTSTAMP:20260423T210613Z
DTSTART;VALUE=DATE:20130927
SUMMARY:ACC 2014 Deadline
DESCRIPTION:2014 American Control Conference
URL:http://www.wikicfp.com/cfp/servlet/event.showcfp?eventid=31720&copyow
 nerid=54218
UID:cfp377985-D@wikicfp.com
END:VEVENT
BEGIN:VEVENT
DTSTAMP:20260423T210613Z
DTSTART;VALUE=DATE:20140104
DTEND;VALUE=DATE:20140106
SUMMARY:ICFEE 2014
DESCRIPTION:2014 4th International Conference on Future Environment and E
 nergy
URL:http://www.wikicfp.com/cfp/servlet/event.showcfp?eventid=31592&copyow
 nerid=54218
UID:cfp377990-E@wikicfp.com
END:VEVENT
BEGIN:VEVENT
DTSTAMP:20260423T210613Z
DTSTART;VALUE=DATE:20131015
SUMMARY:ICFEE 2014 Deadline
DESCRIPTION:2014 4th International Conference on Future Environment and E
 nergy
URL:http://www.wikicfp.com/cfp/servlet/event.showcfp?eventid=31592&copyow
 nerid=54218
UID:cfp377990-D@wikicfp.com
END:VEVENT
BEGIN:VEVENT
DTSTAMP:20260423T210613Z
DTSTART;VALUE=DATE:20131105
SUMMARY:ICFEE 2014 Notification Due
DESCRIPTION:2014 4th International Conference on Future Environment and E
 nergy
URL:http://www.wikicfp.com/cfp/servlet/event.showcfp?eventid=31592&copyow
 nerid=54218
UID:cfp377990-N@wikicfp.com
END:VEVENT
BEGIN:VEVENT
DTSTAMP:20260423T210613Z
DTSTART;VALUE=DATE:20131125
SUMMARY:ICFEE 2014 Final Version Due
DESCRIPTION:2014 4th International Conference on Future Environment and E
 nergy
URL:http://www.wikicfp.com/cfp/servlet/event.showcfp?eventid=31592&copyow
 nerid=54218
UID:cfp377990-N@wikicfp.com
END:VEVENT
BEGIN:VEVENT
DTSTAMP:20260423T210613Z
DTSTART;VALUE=DATE:20140520
DTEND;VALUE=DATE:20140523
SUMMARY:PCIM Europe 2014
DESCRIPTION:PCIM Europe 2014: PCIM Europe International Exhibition and Co
 nference for Power Electronics\, Intelligent Motion\, Renewable Energy a
 nd Energy Management
URL:http://www.wikicfp.com/cfp/servlet/event.showcfp?eventid=31713&copyow
 nerid=54218
UID:cfp377983-E@wikicfp.com
END:VEVENT
BEGIN:VEVENT
DTSTAMP:20260423T210613Z
DTSTART;VALUE=DATE:20131015
SUMMARY:PCIM Europe 2014 Deadline
DESCRIPTION:PCIM Europe 2014: PCIM Europe International Exhibition and Co
 nference for Power Electronics\, Intelligent Motion\, Renewable Energy a
 nd Energy Management
URL:http://www.wikicfp.com/cfp/servlet/event.showcfp?eventid=31713&copyow
 nerid=54218
UID:cfp377983-D@wikicfp.com
END:VEVENT
BEGIN:VEVENT
DTSTAMP:20260423T210613Z
DTSTART;VALUE=DATE:20140115
SUMMARY:PCIM Europe 2014 Notification Due
DESCRIPTION:PCIM Europe 2014: PCIM Europe International Exhibition and Co
 nference for Power Electronics\, Intelligent Motion\, Renewable Energy a
 nd Energy Management
URL:http://www.wikicfp.com/cfp/servlet/event.showcfp?eventid=31713&copyow
 nerid=54218
UID:cfp377983-N@wikicfp.com
END:VEVENT
BEGIN:VEVENT
DTSTAMP:20260423T210613Z
DTSTART;VALUE=DATE:20140312
SUMMARY:PCIM Europe 2014 Final Version Due
DESCRIPTION:PCIM Europe 2014: PCIM Europe International Exhibition and Co
 nference for Power Electronics\, Intelligent Motion\, Renewable Energy a
 nd Energy Management
URL:http://www.wikicfp.com/cfp/servlet/event.showcfp?eventid=31713&copyow
 nerid=54218
UID:cfp377983-N@wikicfp.com
END:VEVENT
BEGIN:VEVENT
DTSTAMP:20260423T210613Z
DTSTART;VALUE=DATE:20140219
DTEND;VALUE=DATE:20140222
SUMMARY:ICCGE 2014
DESCRIPTION:2014 3rd International Conference on Clean and Green Energy
URL:http://www.wikicfp.com/cfp/servlet/event.showcfp?eventid=31696&copyow
 nerid=54218
UID:cfp377989-E@wikicfp.com
END:VEVENT
BEGIN:VEVENT
DTSTAMP:20260423T210613Z
DTSTART;VALUE=DATE:20131125
SUMMARY:ICCGE 2014 Deadline
DESCRIPTION:2014 3rd International Conference on Clean and Green Energy
URL:http://www.wikicfp.com/cfp/servlet/event.showcfp?eventid=31696&copyow
 nerid=54218
UID:cfp377989-D@wikicfp.com
END:VEVENT
BEGIN:VEVENT
DTSTAMP:20260423T210613Z
DTSTART;VALUE=DATE:20131215
SUMMARY:ICCGE 2014 Notification Due
DESCRIPTION:2014 3rd International Conference on Clean and Green Energy
URL:http://www.wikicfp.com/cfp/servlet/event.showcfp?eventid=31696&copyow
 nerid=54218
UID:cfp377989-N@wikicfp.com
END:VEVENT
BEGIN:VEVENT
DTSTAMP:20260423T210613Z
DTSTART;VALUE=DATE:20140105
SUMMARY:ICCGE 2014 Final Version Due
DESCRIPTION:2014 3rd International Conference on Clean and Green Energy
URL:http://www.wikicfp.com/cfp/servlet/event.showcfp?eventid=31696&copyow
 nerid=54218
UID:cfp377989-N@wikicfp.com
END:VEVENT
END:VCALENDAR
