BEGIN:VCALENDAR
PRODID:-//WikiCFP//madhu_patnala 1.0//EN
VERSION:2.0
CALSCALE:GREGORIAN
BEGIN:VEVENT
DTSTAMP:20260422T102025Z
DTSTART;VALUE=DATE:20131216
DTEND;VALUE=DATE:20131219
SUMMARY:CARE 2013
DESCRIPTION:IEEE International Conference on Control\, Automation\, Robot
 ics and Embedded systems
URL:http://www.wikicfp.com/cfp/servlet/event.showcfp?eventid=28382&copyow
 nerid=53562
UID:cfp374401-E@wikicfp.com
END:VEVENT
BEGIN:VEVENT
DTSTAMP:20260422T102025Z
DTSTART;VALUE=DATE:20130731
SUMMARY:CARE 2013 Deadline
DESCRIPTION:IEEE International Conference on Control\, Automation\, Robot
 ics and Embedded systems
URL:http://www.wikicfp.com/cfp/servlet/event.showcfp?eventid=28382&copyow
 nerid=53562
UID:cfp374401-D@wikicfp.com
END:VEVENT
BEGIN:VEVENT
DTSTAMP:20260422T102025Z
DTSTART;VALUE=DATE:20130913
SUMMARY:CARE 2013 Notification Due
DESCRIPTION:IEEE International Conference on Control\, Automation\, Robot
 ics and Embedded systems
URL:http://www.wikicfp.com/cfp/servlet/event.showcfp?eventid=28382&copyow
 nerid=53562
UID:cfp374401-N@wikicfp.com
END:VEVENT
BEGIN:VEVENT
DTSTAMP:20260422T102025Z
DTSTART;VALUE=DATE:20131018
SUMMARY:CARE 2013 Final Version Due
DESCRIPTION:IEEE International Conference on Control\, Automation\, Robot
 ics and Embedded systems
URL:http://www.wikicfp.com/cfp/servlet/event.showcfp?eventid=28382&copyow
 nerid=53562
UID:cfp374401-N@wikicfp.com
END:VEVENT
END:VCALENDAR
