BEGIN:VCALENDAR
PRODID:-//WikiCFP//hycho 1.0//EN
VERSION:2.0
CALSCALE:GREGORIAN
BEGIN:VEVENT
DTSTAMP:20260424T115113Z
DTSTART;VALUE=DATE:20091010
DTEND;VALUE=DATE:20091013
SUMMARY:CyberC 2009
DESCRIPTION:International Conference on Cyber-Enabled Distributed Computi
 ng and Knowledge Discovery
URL:http://www.wikicfp.com/cfp/servlet/event.showcfp?eventid=5738&copyown
 erid=5349
UID:cfp41382-E@wikicfp.com
END:VEVENT
BEGIN:VEVENT
DTSTAMP:20260424T115113Z
DTSTART;VALUE=DATE:20090701
SUMMARY:CyberC 2009 Deadline
DESCRIPTION:International Conference on Cyber-Enabled Distributed Computi
 ng and Knowledge Discovery
URL:http://www.wikicfp.com/cfp/servlet/event.showcfp?eventid=5738&copyown
 erid=5349
UID:cfp41382-D@wikicfp.com
END:VEVENT
BEGIN:VEVENT
DTSTAMP:20260424T115113Z
DTSTART;VALUE=DATE:20090720
SUMMARY:CyberC 2009 Notification Due
DESCRIPTION:International Conference on Cyber-Enabled Distributed Computi
 ng and Knowledge Discovery
URL:http://www.wikicfp.com/cfp/servlet/event.showcfp?eventid=5738&copyown
 erid=5349
UID:cfp41382-N@wikicfp.com
END:VEVENT
BEGIN:VEVENT
DTSTAMP:20260424T115113Z
DTSTART;VALUE=DATE:20090810
SUMMARY:CyberC 2009 Final Version Due
DESCRIPTION:International Conference on Cyber-Enabled Distributed Computi
 ng and Knowledge Discovery
URL:http://www.wikicfp.com/cfp/servlet/event.showcfp?eventid=5738&copyown
 erid=5349
UID:cfp41382-N@wikicfp.com
END:VEVENT
BEGIN:VEVENT
DTSTAMP:20260424T115113Z
DTSTART;VALUE=DATE:20100103
DTEND;VALUE=DATE:20100107
SUMMARY:ICDCN  2010
DESCRIPTION:11th International Conference on Distributed Computing and Ne
 tworking 
URL:http://www.wikicfp.com/cfp/servlet/event.showcfp?eventid=5286&copyown
 erid=5349
UID:cfp41378-E@wikicfp.com
END:VEVENT
BEGIN:VEVENT
DTSTAMP:20260424T115113Z
DTSTART;VALUE=DATE:20090713
SUMMARY:ICDCN  2010 Deadline
DESCRIPTION:11th International Conference on Distributed Computing and Ne
 tworking 
URL:http://www.wikicfp.com/cfp/servlet/event.showcfp?eventid=5286&copyown
 erid=5349
UID:cfp41378-D@wikicfp.com
END:VEVENT
BEGIN:VEVENT
DTSTAMP:20260424T115113Z
DTSTART;VALUE=DATE:20090915
SUMMARY:ICDCN  2010 Notification Due
DESCRIPTION:11th International Conference on Distributed Computing and Ne
 tworking 
URL:http://www.wikicfp.com/cfp/servlet/event.showcfp?eventid=5286&copyown
 erid=5349
UID:cfp41378-N@wikicfp.com
END:VEVENT
BEGIN:VEVENT
DTSTAMP:20260424T115113Z
DTSTART;VALUE=DATE:20091013
SUMMARY:ICDCN  2010 Final Version Due
DESCRIPTION:11th International Conference on Distributed Computing and Ne
 tworking 
URL:http://www.wikicfp.com/cfp/servlet/event.showcfp?eventid=5286&copyown
 erid=5349
UID:cfp41378-N@wikicfp.com
END:VEVENT
BEGIN:VEVENT
DTSTAMP:20260424T115113Z
DTSTART;VALUE=DATE:20091013
DTEND;VALUE=DATE:20091014
SUMMARY:P2P-DVE  2009
DESCRIPTION:P2P DVE: First Workshop on P2P virtual environments
URL:http://www.wikicfp.com/cfp/servlet/event.showcfp?eventid=5726&copyown
 erid=5349
UID:cfp41380-E@wikicfp.com
END:VEVENT
BEGIN:VEVENT
DTSTAMP:20260424T115113Z
DTSTART;VALUE=DATE:20090716
SUMMARY:P2P-DVE  2009 Deadline
DESCRIPTION:P2P DVE: First Workshop on P2P virtual environments
URL:http://www.wikicfp.com/cfp/servlet/event.showcfp?eventid=5726&copyown
 erid=5349
UID:cfp41380-D@wikicfp.com
END:VEVENT
BEGIN:VEVENT
DTSTAMP:20260424T115113Z
DTSTART;VALUE=DATE:20090730
SUMMARY:P2P-DVE  2009 Notification Due
DESCRIPTION:P2P DVE: First Workshop on P2P virtual environments
URL:http://www.wikicfp.com/cfp/servlet/event.showcfp?eventid=5726&copyown
 erid=5349
UID:cfp41380-N@wikicfp.com
END:VEVENT
BEGIN:VEVENT
DTSTAMP:20260424T115113Z
DTSTART;VALUE=DATE:20090815
SUMMARY:P2P-DVE  2009 Final Version Due
DESCRIPTION:P2P DVE: First Workshop on P2P virtual environments
URL:http://www.wikicfp.com/cfp/servlet/event.showcfp?eventid=5726&copyown
 erid=5349
UID:cfp41380-N@wikicfp.com
END:VEVENT
BEGIN:VEVENT
DTSTAMP:20260424T115113Z
DTSTART;VALUE=DATE:20100217
DTEND;VALUE=DATE:20100220
SUMMARY:PDP 2010
DESCRIPTION:18th Euromicro International Conference on Parallel\, Distrib
 uted and Network-Based Computing
URL:http://www.wikicfp.com/cfp/servlet/event.showcfp?eventid=5851&copyown
 erid=5349
UID:cfp41385-E@wikicfp.com
END:VEVENT
BEGIN:VEVENT
DTSTAMP:20260424T115113Z
DTSTART;VALUE=DATE:20090720
SUMMARY:PDP 2010 Deadline
DESCRIPTION:18th Euromicro International Conference on Parallel\, Distrib
 uted and Network-Based Computing
URL:http://www.wikicfp.com/cfp/servlet/event.showcfp?eventid=5851&copyown
 erid=5349
UID:cfp41385-D@wikicfp.com
END:VEVENT
BEGIN:VEVENT
DTSTAMP:20260424T115113Z
DTSTART;VALUE=DATE:20091005
SUMMARY:PDP 2010 Notification Due
DESCRIPTION:18th Euromicro International Conference on Parallel\, Distrib
 uted and Network-Based Computing
URL:http://www.wikicfp.com/cfp/servlet/event.showcfp?eventid=5851&copyown
 erid=5349
UID:cfp41385-N@wikicfp.com
END:VEVENT
BEGIN:VEVENT
DTSTAMP:20260424T115113Z
DTSTART;VALUE=DATE:20091030
SUMMARY:PDP 2010 Final Version Due
DESCRIPTION:18th Euromicro International Conference on Parallel\, Distrib
 uted and Network-Based Computing
URL:http://www.wikicfp.com/cfp/servlet/event.showcfp?eventid=5851&copyown
 erid=5349
UID:cfp41385-N@wikicfp.com
END:VEVENT
BEGIN:VEVENT
DTSTAMP:20260424T115113Z
DTSTART;VALUE=DATE:20091208
DTEND;VALUE=DATE:20091212
SUMMARY:SeNAmI 2009
DESCRIPTION:2nd International Workshop on Sensor Networks and Ambient Int
 elligence
URL:http://www.wikicfp.com/cfp/servlet/event.showcfp?eventid=5637&copyown
 erid=5349
UID:cfp41388-E@wikicfp.com
END:VEVENT
BEGIN:VEVENT
DTSTAMP:20260424T115113Z
DTSTART;VALUE=DATE:20090721
SUMMARY:SeNAmI 2009 Deadline
DESCRIPTION:2nd International Workshop on Sensor Networks and Ambient Int
 elligence
URL:http://www.wikicfp.com/cfp/servlet/event.showcfp?eventid=5637&copyown
 erid=5349
UID:cfp41388-D@wikicfp.com
END:VEVENT
BEGIN:VEVENT
DTSTAMP:20260424T115113Z
DTSTART;VALUE=DATE:20090821
SUMMARY:SeNAmI 2009 Notification Due
DESCRIPTION:2nd International Workshop on Sensor Networks and Ambient Int
 elligence
URL:http://www.wikicfp.com/cfp/servlet/event.showcfp?eventid=5637&copyown
 erid=5349
UID:cfp41388-N@wikicfp.com
END:VEVENT
BEGIN:VEVENT
DTSTAMP:20260424T115113Z
DTSTART;VALUE=DATE:20090901
SUMMARY:SeNAmI 2009 Final Version Due
DESCRIPTION:2nd International Workshop on Sensor Networks and Ambient Int
 elligence
URL:http://www.wikicfp.com/cfp/servlet/event.showcfp?eventid=5637&copyown
 erid=5349
UID:cfp41388-N@wikicfp.com
END:VEVENT
BEGIN:VEVENT
DTSTAMP:20260424T115113Z
DTSTART;VALUE=DATE:20091118
DTEND;VALUE=DATE:20091121
SUMMARY:AINTEC 2009
DESCRIPTION:ACM SIGCOMM ASIAN INTERNET ENGINEERING CONFERENCE
URL:http://www.wikicfp.com/cfp/servlet/event.showcfp?eventid=5568&copyown
 erid=5349
UID:cfp41387-E@wikicfp.com
END:VEVENT
BEGIN:VEVENT
DTSTAMP:20260424T115113Z
DTSTART;VALUE=DATE:20090715
SUMMARY:AINTEC 2009 Abstract Due
DESCRIPTION:ACM SIGCOMM ASIAN INTERNET ENGINEERING CONFERENCE
URL:http://www.wikicfp.com/cfp/servlet/event.showcfp?eventid=5568&copyown
 erid=5349
UID:cfp41387-A@wikicfp.com
END:VEVENT
BEGIN:VEVENT
DTSTAMP:20260424T115113Z
DTSTART;VALUE=DATE:20090722
SUMMARY:AINTEC 2009 Deadline
DESCRIPTION:ACM SIGCOMM ASIAN INTERNET ENGINEERING CONFERENCE
URL:http://www.wikicfp.com/cfp/servlet/event.showcfp?eventid=5568&copyown
 erid=5349
UID:cfp41387-D@wikicfp.com
END:VEVENT
BEGIN:VEVENT
DTSTAMP:20260424T115113Z
DTSTART;VALUE=DATE:20090817
SUMMARY:AINTEC 2009 Notification Due
DESCRIPTION:ACM SIGCOMM ASIAN INTERNET ENGINEERING CONFERENCE
URL:http://www.wikicfp.com/cfp/servlet/event.showcfp?eventid=5568&copyown
 erid=5349
UID:cfp41387-N@wikicfp.com
END:VEVENT
BEGIN:VEVENT
DTSTAMP:20260424T115113Z
DTSTART;VALUE=DATE:20091008
SUMMARY:AINTEC 2009 Final Version Due
DESCRIPTION:ACM SIGCOMM ASIAN INTERNET ENGINEERING CONFERENCE
URL:http://www.wikicfp.com/cfp/servlet/event.showcfp?eventid=5568&copyown
 erid=5349
UID:cfp41387-N@wikicfp.com
END:VEVENT
BEGIN:VEVENT
DTSTAMP:20260424T115113Z
DTSTART;VALUE=DATE:20091022
DTEND;VALUE=DATE:20091024
SUMMARY:ACM HotNets VIII 2009
DESCRIPTION:Eighth ACM Workshop on Hot Topics in Networks (HotNets-VIII) 
 
URL:http://www.wikicfp.com/cfp/servlet/event.showcfp?eventid=5409&copyown
 erid=5349
UID:cfp41386-E@wikicfp.com
END:VEVENT
BEGIN:VEVENT
DTSTAMP:20260424T115113Z
DTSTART;VALUE=DATE:20090717
SUMMARY:ACM HotNets VIII 2009 Abstract Due
DESCRIPTION:Eighth ACM Workshop on Hot Topics in Networks (HotNets-VIII) 
 
URL:http://www.wikicfp.com/cfp/servlet/event.showcfp?eventid=5409&copyown
 erid=5349
UID:cfp41386-A@wikicfp.com
END:VEVENT
BEGIN:VEVENT
DTSTAMP:20260424T115113Z
DTSTART;VALUE=DATE:20090724
SUMMARY:ACM HotNets VIII 2009 Deadline
DESCRIPTION:Eighth ACM Workshop on Hot Topics in Networks (HotNets-VIII) 
 
URL:http://www.wikicfp.com/cfp/servlet/event.showcfp?eventid=5409&copyown
 erid=5349
UID:cfp41386-D@wikicfp.com
END:VEVENT
BEGIN:VEVENT
DTSTAMP:20260424T115113Z
DTSTART;VALUE=DATE:20090915
SUMMARY:ACM HotNets VIII 2009 Notification Due
DESCRIPTION:Eighth ACM Workshop on Hot Topics in Networks (HotNets-VIII) 
 
URL:http://www.wikicfp.com/cfp/servlet/event.showcfp?eventid=5409&copyown
 erid=5349
UID:cfp41386-N@wikicfp.com
END:VEVENT
BEGIN:VEVENT
DTSTAMP:20260424T115113Z
DTSTART;VALUE=DATE:20091001
SUMMARY:ACM HotNets VIII 2009 Final Version Due
DESCRIPTION:Eighth ACM Workshop on Hot Topics in Networks (HotNets-VIII) 
 
URL:http://www.wikicfp.com/cfp/servlet/event.showcfp?eventid=5409&copyown
 erid=5349
UID:cfp41386-N@wikicfp.com
END:VEVENT
BEGIN:VEVENT
DTSTAMP:20260424T115113Z
DTSTART;VALUE=DATE:20091124
DTEND;VALUE=DATE:20091127
SUMMARY:WNSA 2009
DESCRIPTION:The Second International Workshop on Network Security and App
 lications
URL:http://www.wikicfp.com/cfp/servlet/event.showcfp?eventid=5490&copyown
 erid=5349
UID:cfp41379-E@wikicfp.com
END:VEVENT
BEGIN:VEVENT
DTSTAMP:20260424T115113Z
DTSTART;VALUE=DATE:20090730
SUMMARY:WNSA 2009 Deadline
DESCRIPTION:The Second International Workshop on Network Security and App
 lications
URL:http://www.wikicfp.com/cfp/servlet/event.showcfp?eventid=5490&copyown
 erid=5349
UID:cfp41379-D@wikicfp.com
END:VEVENT
BEGIN:VEVENT
DTSTAMP:20260424T115113Z
DTSTART;VALUE=DATE:20090810
SUMMARY:WNSA 2009 Notification Due
DESCRIPTION:The Second International Workshop on Network Security and App
 lications
URL:http://www.wikicfp.com/cfp/servlet/event.showcfp?eventid=5490&copyown
 erid=5349
UID:cfp41379-N@wikicfp.com
END:VEVENT
BEGIN:VEVENT
DTSTAMP:20260424T115113Z
DTSTART;VALUE=DATE:20090825
SUMMARY:WNSA 2009 Final Version Due
DESCRIPTION:The Second International Workshop on Network Security and App
 lications
URL:http://www.wikicfp.com/cfp/servlet/event.showcfp?eventid=5490&copyown
 erid=5349
UID:cfp41379-N@wikicfp.com
END:VEVENT
BEGIN:VEVENT
DTSTAMP:20260424T115113Z
DTSTART;VALUE=DATE:20091210
DTEND;VALUE=DATE:20091213
SUMMARY:F2GC 2009
DESCRIPTION:The 2nd International Workshop on Forensics for Future Genera
 tion Communication environments (F2GC-09)
URL:http://www.wikicfp.com/cfp/servlet/event.showcfp?eventid=5737&copyown
 erid=5349
UID:cfp41381-E@wikicfp.com
END:VEVENT
BEGIN:VEVENT
DTSTAMP:20260424T115113Z
DTSTART;VALUE=DATE:20090802
SUMMARY:F2GC 2009 Deadline
DESCRIPTION:The 2nd International Workshop on Forensics for Future Genera
 tion Communication environments (F2GC-09)
URL:http://www.wikicfp.com/cfp/servlet/event.showcfp?eventid=5737&copyown
 erid=5349
UID:cfp41381-D@wikicfp.com
END:VEVENT
BEGIN:VEVENT
DTSTAMP:20260424T115113Z
DTSTART;VALUE=DATE:20090831
SUMMARY:F2GC 2009 Notification Due
DESCRIPTION:The 2nd International Workshop on Forensics for Future Genera
 tion Communication environments (F2GC-09)
URL:http://www.wikicfp.com/cfp/servlet/event.showcfp?eventid=5737&copyown
 erid=5349
UID:cfp41381-N@wikicfp.com
END:VEVENT
BEGIN:VEVENT
DTSTAMP:20260424T115113Z
DTSTART;VALUE=DATE:20090915
SUMMARY:F2GC 2009 Final Version Due
DESCRIPTION:The 2nd International Workshop on Forensics for Future Genera
 tion Communication environments (F2GC-09)
URL:http://www.wikicfp.com/cfp/servlet/event.showcfp?eventid=5737&copyown
 erid=5349
UID:cfp41381-N@wikicfp.com
END:VEVENT
BEGIN:VEVENT
DTSTAMP:20260424T115113Z
DTSTART;VALUE=DATE:20091210
DTEND;VALUE=DATE:20091213
SUMMARY:WIMUCS 2009
DESCRIPTION:International Workshop on Wireless Multimedia Computing and S
 ecurity Services 
URL:http://www.wikicfp.com/cfp/servlet/event.showcfp?eventid=5708&copyown
 erid=5349
UID:cfp41389-E@wikicfp.com
END:VEVENT
BEGIN:VEVENT
DTSTAMP:20260424T115113Z
DTSTART;VALUE=DATE:20090814
SUMMARY:WIMUCS 2009 Deadline
DESCRIPTION:International Workshop on Wireless Multimedia Computing and S
 ecurity Services 
URL:http://www.wikicfp.com/cfp/servlet/event.showcfp?eventid=5708&copyown
 erid=5349
UID:cfp41389-D@wikicfp.com
END:VEVENT
BEGIN:VEVENT
DTSTAMP:20260424T115113Z
DTSTART;VALUE=DATE:20090907
SUMMARY:WIMUCS 2009 Notification Due
DESCRIPTION:International Workshop on Wireless Multimedia Computing and S
 ecurity Services 
URL:http://www.wikicfp.com/cfp/servlet/event.showcfp?eventid=5708&copyown
 erid=5349
UID:cfp41389-N@wikicfp.com
END:VEVENT
BEGIN:VEVENT
DTSTAMP:20260424T115113Z
DTSTART;VALUE=DATE:20091002
SUMMARY:WIMUCS 2009 Final Version Due
DESCRIPTION:International Workshop on Wireless Multimedia Computing and S
 ecurity Services 
URL:http://www.wikicfp.com/cfp/servlet/event.showcfp?eventid=5708&copyown
 erid=5349
UID:cfp41389-N@wikicfp.com
END:VEVENT
BEGIN:VEVENT
DTSTAMP:20260424T115113Z
DTSTART;VALUE=DATE:20091214
DTEND;VALUE=DATE:20091217
SUMMARY:IEEE ANTS 2009
DESCRIPTION:3rd International IEEE Symposium on Advanced Networks and Tel
 ecommunication Systems
URL:http://www.wikicfp.com/cfp/servlet/event.showcfp?eventid=5493&copyown
 erid=5349
UID:cfp41384-E@wikicfp.com
END:VEVENT
BEGIN:VEVENT
DTSTAMP:20260424T115113Z
DTSTART;VALUE=DATE:20090815
SUMMARY:IEEE ANTS 2009 Deadline
DESCRIPTION:3rd International IEEE Symposium on Advanced Networks and Tel
 ecommunication Systems
URL:http://www.wikicfp.com/cfp/servlet/event.showcfp?eventid=5493&copyown
 erid=5349
UID:cfp41384-D@wikicfp.com
END:VEVENT
BEGIN:VEVENT
DTSTAMP:20260424T115113Z
DTSTART;VALUE=DATE:20091001
SUMMARY:IEEE ANTS 2009 Notification Due
DESCRIPTION:3rd International IEEE Symposium on Advanced Networks and Tel
 ecommunication Systems
URL:http://www.wikicfp.com/cfp/servlet/event.showcfp?eventid=5493&copyown
 erid=5349
UID:cfp41384-N@wikicfp.com
END:VEVENT
BEGIN:VEVENT
DTSTAMP:20260424T115113Z
DTSTART;VALUE=DATE:20091208
DTEND;VALUE=DATE:20091212
SUMMARY:P2PNVE 2009
DESCRIPTION:The 3rd International Workshop on Peer-to-Peer Networked Virt
 ual Environments
URL:http://www.wikicfp.com/cfp/servlet/event.showcfp?eventid=5770&copyown
 erid=5349
UID:cfp41383-E@wikicfp.com
END:VEVENT
BEGIN:VEVENT
DTSTAMP:20260424T115113Z
DTSTART;VALUE=DATE:20090820
SUMMARY:P2PNVE 2009 Deadline
DESCRIPTION:The 3rd International Workshop on Peer-to-Peer Networked Virt
 ual Environments
URL:http://www.wikicfp.com/cfp/servlet/event.showcfp?eventid=5770&copyown
 erid=5349
UID:cfp41383-D@wikicfp.com
END:VEVENT
BEGIN:VEVENT
DTSTAMP:20260424T115113Z
DTSTART;VALUE=DATE:20090920
SUMMARY:P2PNVE 2009 Notification Due
DESCRIPTION:The 3rd International Workshop on Peer-to-Peer Networked Virt
 ual Environments
URL:http://www.wikicfp.com/cfp/servlet/event.showcfp?eventid=5770&copyown
 erid=5349
UID:cfp41383-N@wikicfp.com
END:VEVENT
BEGIN:VEVENT
DTSTAMP:20260424T115113Z
DTSTART;VALUE=DATE:20091001
SUMMARY:P2PNVE 2009 Final Version Due
DESCRIPTION:The 3rd International Workshop on Peer-to-Peer Networked Virt
 ual Environments
URL:http://www.wikicfp.com/cfp/servlet/event.showcfp?eventid=5770&copyown
 erid=5349
UID:cfp41383-N@wikicfp.com
END:VEVENT
BEGIN:VEVENT
DTSTAMP:20260424T115113Z
DTSTART;VALUE=DATE:20091025
DTEND;VALUE=DATE:20091027
SUMMARY:ODiSE 2009
DESCRIPTION:International Worksop on Ontology Driven Software Engineering
 
URL:http://www.wikicfp.com/cfp/servlet/event.showcfp?eventid=5978&copyown
 erid=5349
UID:cfp41377-E@wikicfp.com
END:VEVENT
BEGIN:VEVENT
DTSTAMP:20260424T115113Z
DTSTART;VALUE=DATE:20090821
SUMMARY:ODiSE 2009 Deadline
DESCRIPTION:International Worksop on Ontology Driven Software Engineering
 
URL:http://www.wikicfp.com/cfp/servlet/event.showcfp?eventid=5978&copyown
 erid=5349
UID:cfp41377-D@wikicfp.com
END:VEVENT
BEGIN:VEVENT
DTSTAMP:20260424T115113Z
DTSTART;VALUE=DATE:20091002
SUMMARY:ODiSE 2009 Final Version Due
DESCRIPTION:International Worksop on Ontology Driven Software Engineering
 
URL:http://www.wikicfp.com/cfp/servlet/event.showcfp?eventid=5978&copyown
 erid=5349
UID:cfp41377-N@wikicfp.com
END:VEVENT
BEGIN:VEVENT
DTSTAMP:20260424T115113Z
DTSTART;VALUE=DATE:20101018
DTEND;VALUE=DATE:20101022
SUMMARY:IMCSIT 2010
DESCRIPTION:International Multiconference on Computer Science and Informa
 tion Technology
URL:http://www.wikicfp.com/cfp/servlet/event.showcfp?eventid=7836&copyown
 erid=5349
UID:cfp62764-E@wikicfp.com
END:VEVENT
BEGIN:VEVENT
DTSTAMP:20260424T115113Z
DTSTART;VALUE=DATE:20100531
SUMMARY:IMCSIT 2010 Deadline
DESCRIPTION:International Multiconference on Computer Science and Informa
 tion Technology
URL:http://www.wikicfp.com/cfp/servlet/event.showcfp?eventid=7836&copyown
 erid=5349
UID:cfp62764-D@wikicfp.com
END:VEVENT
BEGIN:VEVENT
DTSTAMP:20260424T115113Z
DTSTART;VALUE=DATE:20100712
SUMMARY:IMCSIT 2010 Notification Due
DESCRIPTION:International Multiconference on Computer Science and Informa
 tion Technology
URL:http://www.wikicfp.com/cfp/servlet/event.showcfp?eventid=7836&copyown
 erid=5349
UID:cfp62764-N@wikicfp.com
END:VEVENT
BEGIN:VEVENT
DTSTAMP:20260424T115113Z
DTSTART;VALUE=DATE:20100823
SUMMARY:IMCSIT 2010 Final Version Due
DESCRIPTION:International Multiconference on Computer Science and Informa
 tion Technology
URL:http://www.wikicfp.com/cfp/servlet/event.showcfp?eventid=7836&copyown
 erid=5349
UID:cfp62764-N@wikicfp.com
END:VEVENT
END:VCALENDAR
