BEGIN:VCALENDAR
PRODID:-//WikiCFP//tadashiokoshi 1.0//EN
VERSION:2.0
CALSCALE:GREGORIAN
BEGIN:VEVENT
DTSTAMP:20260422T144630Z
DTSTART;VALUE=DATE:20130708
DTEND;VALUE=DATE:20130712
SUMMARY:ICDCS 2013
DESCRIPTION:The 33rd International Conference on Distributed Computing Sy
 stems
URL:http://www.wikicfp.com/cfp/servlet/event.showcfp?eventid=24568&copyow
 nerid=52623
UID:cfp368849-E@wikicfp.com
END:VEVENT
BEGIN:VEVENT
DTSTAMP:20260422T144630Z
DTSTART;VALUE=DATE:20121112
SUMMARY:ICDCS 2013 Abstract Due
DESCRIPTION:The 33rd International Conference on Distributed Computing Sy
 stems
URL:http://www.wikicfp.com/cfp/servlet/event.showcfp?eventid=24568&copyow
 nerid=52623
UID:cfp368849-A@wikicfp.com
END:VEVENT
BEGIN:VEVENT
DTSTAMP:20260422T144630Z
DTSTART;VALUE=DATE:20121116
SUMMARY:ICDCS 2013 Deadline
DESCRIPTION:The 33rd International Conference on Distributed Computing Sy
 stems
URL:http://www.wikicfp.com/cfp/servlet/event.showcfp?eventid=24568&copyow
 nerid=52623
UID:cfp368849-D@wikicfp.com
END:VEVENT
BEGIN:VEVENT
DTSTAMP:20260422T144630Z
DTSTART;VALUE=DATE:20130225
SUMMARY:ICDCS 2013 Notification Due
DESCRIPTION:The 33rd International Conference on Distributed Computing Sy
 stems
URL:http://www.wikicfp.com/cfp/servlet/event.showcfp?eventid=24568&copyow
 nerid=52623
UID:cfp368849-N@wikicfp.com
END:VEVENT
BEGIN:VEVENT
DTSTAMP:20260422T144630Z
DTSTART;VALUE=DATE:20130325
SUMMARY:ICDCS 2013 Final Version Due
DESCRIPTION:The 33rd International Conference on Distributed Computing Sy
 stems
URL:http://www.wikicfp.com/cfp/servlet/event.showcfp?eventid=24568&copyow
 nerid=52623
UID:cfp368849-N@wikicfp.com
END:VEVENT
BEGIN:VEVENT
DTSTAMP:20260422T144630Z
DTSTART;VALUE=DATE:20130812
DTEND;VALUE=DATE:20130817
SUMMARY:SIGCOMM 2013
DESCRIPTION:ACM Special Interest Group on Data Communication
URL:http://www.wikicfp.com/cfp/servlet/event.showcfp?eventid=25481&copyow
 nerid=52623
UID:cfp368848-E@wikicfp.com
END:VEVENT
BEGIN:VEVENT
DTSTAMP:20260422T144630Z
DTSTART;VALUE=DATE:20130125
SUMMARY:SIGCOMM 2013 Abstract Due
DESCRIPTION:ACM Special Interest Group on Data Communication
URL:http://www.wikicfp.com/cfp/servlet/event.showcfp?eventid=25481&copyow
 nerid=52623
UID:cfp368848-A@wikicfp.com
END:VEVENT
BEGIN:VEVENT
DTSTAMP:20260422T144630Z
DTSTART;VALUE=DATE:20130201
SUMMARY:SIGCOMM 2013 Deadline
DESCRIPTION:ACM Special Interest Group on Data Communication
URL:http://www.wikicfp.com/cfp/servlet/event.showcfp?eventid=25481&copyow
 nerid=52623
UID:cfp368848-D@wikicfp.com
END:VEVENT
BEGIN:VEVENT
DTSTAMP:20260422T144630Z
DTSTART;VALUE=DATE:20130930
DTEND;VALUE=DATE:20131005
SUMMARY:MobiCom 2013
DESCRIPTION:The 19th Annual International Conference on Mobile Computing 
 and Networking
URL:http://www.wikicfp.com/cfp/servlet/event.showcfp?eventid=27246&copyow
 nerid=52623
UID:cfp368832-E@wikicfp.com
END:VEVENT
BEGIN:VEVENT
DTSTAMP:20260422T144630Z
DTSTART;VALUE=DATE:20130308
SUMMARY:MobiCom 2013 Abstract Due
DESCRIPTION:The 19th Annual International Conference on Mobile Computing 
 and Networking
URL:http://www.wikicfp.com/cfp/servlet/event.showcfp?eventid=27246&copyow
 nerid=52623
UID:cfp368832-A@wikicfp.com
END:VEVENT
BEGIN:VEVENT
DTSTAMP:20260422T144630Z
DTSTART;VALUE=DATE:20130315
SUMMARY:MobiCom 2013 Deadline
DESCRIPTION:The 19th Annual International Conference on Mobile Computing 
 and Networking
URL:http://www.wikicfp.com/cfp/servlet/event.showcfp?eventid=27246&copyow
 nerid=52623
UID:cfp368832-D@wikicfp.com
END:VEVENT
BEGIN:VEVENT
DTSTAMP:20260422T144630Z
DTSTART;VALUE=DATE:20130609
SUMMARY:MobiCom 2013 Notification Due
DESCRIPTION:The 19th Annual International Conference on Mobile Computing 
 and Networking
URL:http://www.wikicfp.com/cfp/servlet/event.showcfp?eventid=27246&copyow
 nerid=52623
UID:cfp368832-N@wikicfp.com
END:VEVENT
BEGIN:VEVENT
DTSTAMP:20260422T144630Z
DTSTART;VALUE=DATE:20130715
SUMMARY:MobiCom 2013 Final Version Due
DESCRIPTION:The 19th Annual International Conference on Mobile Computing 
 and Networking
URL:http://www.wikicfp.com/cfp/servlet/event.showcfp?eventid=27246&copyow
 nerid=52623
UID:cfp368832-N@wikicfp.com
END:VEVENT
BEGIN:VEVENT
DTSTAMP:20260422T144630Z
DTSTART;VALUE=DATE:20130908
DTEND;VALUE=DATE:20130913
SUMMARY:UbiComp 2013
DESCRIPTION:ACM International Joint Conference on Pervasive and Ubiquitou
 s Computing
URL:http://www.wikicfp.com/cfp/servlet/event.showcfp?eventid=23155&copyow
 nerid=52623
UID:cfp368839-E@wikicfp.com
END:VEVENT
BEGIN:VEVENT
DTSTAMP:20260422T144630Z
DTSTART;VALUE=DATE:20130322
SUMMARY:UbiComp 2013 Deadline
DESCRIPTION:ACM International Joint Conference on Pervasive and Ubiquitou
 s Computing
URL:http://www.wikicfp.com/cfp/servlet/event.showcfp?eventid=23155&copyow
 nerid=52623
UID:cfp368839-D@wikicfp.com
END:VEVENT
BEGIN:VEVENT
DTSTAMP:20260422T144630Z
DTSTART;VALUE=DATE:20130616
SUMMARY:UbiComp 2013 Notification Due
DESCRIPTION:ACM International Joint Conference on Pervasive and Ubiquitou
 s Computing
URL:http://www.wikicfp.com/cfp/servlet/event.showcfp?eventid=23155&copyow
 nerid=52623
UID:cfp368839-N@wikicfp.com
END:VEVENT
BEGIN:VEVENT
DTSTAMP:20260422T144630Z
DTSTART;VALUE=DATE:20130623
SUMMARY:UbiComp 2013 Final Version Due
DESCRIPTION:ACM International Joint Conference on Pervasive and Ubiquitou
 s Computing
URL:http://www.wikicfp.com/cfp/servlet/event.showcfp?eventid=23155&copyow
 nerid=52623
UID:cfp368839-N@wikicfp.com
END:VEVENT
BEGIN:VEVENT
DTSTAMP:20260422T144630Z
DTSTART;VALUE=DATE:20131103
DTEND;VALUE=DATE:20131107
SUMMARY:SOSP 2013
DESCRIPTION:24th ACM Symposium on Operating Systems Principles
URL:http://www.wikicfp.com/cfp/servlet/event.showcfp?eventid=25571&copyow
 nerid=52623
UID:cfp368834-E@wikicfp.com
END:VEVENT
BEGIN:VEVENT
DTSTAMP:20260422T144630Z
DTSTART;VALUE=DATE:20130321
SUMMARY:SOSP 2013 Abstract Due
DESCRIPTION:24th ACM Symposium on Operating Systems Principles
URL:http://www.wikicfp.com/cfp/servlet/event.showcfp?eventid=25571&copyow
 nerid=52623
UID:cfp368834-A@wikicfp.com
END:VEVENT
BEGIN:VEVENT
DTSTAMP:20260422T144630Z
DTSTART;VALUE=DATE:20130328
SUMMARY:SOSP 2013 Deadline
DESCRIPTION:24th ACM Symposium on Operating Systems Principles
URL:http://www.wikicfp.com/cfp/servlet/event.showcfp?eventid=25571&copyow
 nerid=52623
UID:cfp368834-D@wikicfp.com
END:VEVENT
BEGIN:VEVENT
DTSTAMP:20260422T144630Z
DTSTART;VALUE=DATE:20130701
SUMMARY:SOSP 2013 Notification Due
DESCRIPTION:24th ACM Symposium on Operating Systems Principles
URL:http://www.wikicfp.com/cfp/servlet/event.showcfp?eventid=25571&copyow
 nerid=52623
UID:cfp368834-N@wikicfp.com
END:VEVENT
BEGIN:VEVENT
DTSTAMP:20260422T144630Z
DTSTART;VALUE=DATE:20130823
SUMMARY:SOSP 2013 Final Version Due
DESCRIPTION:24th ACM Symposium on Operating Systems Principles
URL:http://www.wikicfp.com/cfp/servlet/event.showcfp?eventid=25571&copyow
 nerid=52623
UID:cfp368834-N@wikicfp.com
END:VEVENT
BEGIN:VEVENT
DTSTAMP:20260422T144630Z
DTSTART;VALUE=DATE:20131111
DTEND;VALUE=DATE:20131116
SUMMARY:SenSys 2013
DESCRIPTION:The 11th ACM Conference on Embedded Network Sensor Systems
URL:http://www.wikicfp.com/cfp/servlet/event.showcfp?eventid=28432&copyow
 nerid=52623
UID:cfp368833-E@wikicfp.com
END:VEVENT
BEGIN:VEVENT
DTSTAMP:20260422T144630Z
DTSTART;VALUE=DATE:20130330
SUMMARY:SenSys 2013 Abstract Due
DESCRIPTION:The 11th ACM Conference on Embedded Network Sensor Systems
URL:http://www.wikicfp.com/cfp/servlet/event.showcfp?eventid=28432&copyow
 nerid=52623
UID:cfp368833-A@wikicfp.com
END:VEVENT
BEGIN:VEVENT
DTSTAMP:20260422T144630Z
DTSTART;VALUE=DATE:20130406
SUMMARY:SenSys 2013 Deadline
DESCRIPTION:The 11th ACM Conference on Embedded Network Sensor Systems
URL:http://www.wikicfp.com/cfp/servlet/event.showcfp?eventid=28432&copyow
 nerid=52623
UID:cfp368833-D@wikicfp.com
END:VEVENT
BEGIN:VEVENT
DTSTAMP:20260422T144630Z
DTSTART;VALUE=DATE:20130715
SUMMARY:SenSys 2013 Notification Due
DESCRIPTION:The 11th ACM Conference on Embedded Network Sensor Systems
URL:http://www.wikicfp.com/cfp/servlet/event.showcfp?eventid=28432&copyow
 nerid=52623
UID:cfp368833-N@wikicfp.com
END:VEVENT
BEGIN:VEVENT
DTSTAMP:20260422T144630Z
DTSTART;VALUE=DATE:20131021
DTEND;VALUE=DATE:20131025
SUMMARY:LCN 2013
DESCRIPTION:IEEE 38th Conference on Local Computer Networks
URL:http://www.wikicfp.com/cfp/servlet/event.showcfp?eventid=25767&copyow
 nerid=52623
UID:cfp368835-E@wikicfp.com
END:VEVENT
BEGIN:VEVENT
DTSTAMP:20260422T144630Z
DTSTART;VALUE=DATE:20130426
SUMMARY:LCN 2013 Abstract Due
DESCRIPTION:IEEE 38th Conference on Local Computer Networks
URL:http://www.wikicfp.com/cfp/servlet/event.showcfp?eventid=25767&copyow
 nerid=52623
UID:cfp368835-A@wikicfp.com
END:VEVENT
BEGIN:VEVENT
DTSTAMP:20260422T144630Z
DTSTART;VALUE=DATE:20130426
SUMMARY:LCN 2013 Deadline
DESCRIPTION:IEEE 38th Conference on Local Computer Networks
URL:http://www.wikicfp.com/cfp/servlet/event.showcfp?eventid=25767&copyow
 nerid=52623
UID:cfp368835-D@wikicfp.com
END:VEVENT
BEGIN:VEVENT
DTSTAMP:20260422T144630Z
DTSTART;VALUE=DATE:20130630
SUMMARY:LCN 2013 Notification Due
DESCRIPTION:IEEE 38th Conference on Local Computer Networks
URL:http://www.wikicfp.com/cfp/servlet/event.showcfp?eventid=25767&copyow
 nerid=52623
UID:cfp368835-N@wikicfp.com
END:VEVENT
BEGIN:VEVENT
DTSTAMP:20260422T144630Z
DTSTART;VALUE=DATE:20130730
SUMMARY:LCN 2013 Final Version Due
DESCRIPTION:IEEE 38th Conference on Local Computer Networks
URL:http://www.wikicfp.com/cfp/servlet/event.showcfp?eventid=25767&copyow
 nerid=52623
UID:cfp368835-N@wikicfp.com
END:VEVENT
BEGIN:VEVENT
DTSTAMP:20260422T144630Z
DTSTART;VALUE=DATE:20131209
DTEND;VALUE=DATE:20131214
SUMMARY:Middleware 2013
DESCRIPTION:14th ACM/IFIP/USENIX International Middleware Conference
URL:http://www.wikicfp.com/cfp/servlet/event.showcfp?eventid=29504&copyow
 nerid=52623
UID:cfp368847-E@wikicfp.com
END:VEVENT
BEGIN:VEVENT
DTSTAMP:20260422T144630Z
DTSTART;VALUE=DATE:20130524
SUMMARY:Middleware 2013 Abstract Due
DESCRIPTION:14th ACM/IFIP/USENIX International Middleware Conference
URL:http://www.wikicfp.com/cfp/servlet/event.showcfp?eventid=29504&copyow
 nerid=52623
UID:cfp368847-A@wikicfp.com
END:VEVENT
BEGIN:VEVENT
DTSTAMP:20260422T144630Z
DTSTART;VALUE=DATE:20130531
SUMMARY:Middleware 2013 Deadline
DESCRIPTION:14th ACM/IFIP/USENIX International Middleware Conference
URL:http://www.wikicfp.com/cfp/servlet/event.showcfp?eventid=29504&copyow
 nerid=52623
UID:cfp368847-D@wikicfp.com
END:VEVENT
BEGIN:VEVENT
DTSTAMP:20260422T144630Z
DTSTART;VALUE=DATE:20130806
SUMMARY:Middleware 2013 Notification Due
DESCRIPTION:14th ACM/IFIP/USENIX International Middleware Conference
URL:http://www.wikicfp.com/cfp/servlet/event.showcfp?eventid=29504&copyow
 nerid=52623
UID:cfp368847-N@wikicfp.com
END:VEVENT
BEGIN:VEVENT
DTSTAMP:20260422T144630Z
DTSTART;VALUE=DATE:20130906
SUMMARY:Middleware 2013 Final Version Due
DESCRIPTION:14th ACM/IFIP/USENIX International Middleware Conference
URL:http://www.wikicfp.com/cfp/servlet/event.showcfp?eventid=29504&copyow
 nerid=52623
UID:cfp368847-N@wikicfp.com
END:VEVENT
BEGIN:VEVENT
DTSTAMP:20260422T144630Z
DTSTART;VALUE=DATE:20140106
DTEND;VALUE=DATE:20140109
SUMMARY:ICMU 2014
DESCRIPTION:The seventh International Conference on Mobile Computing and 
 Ubiquitous Networking
URL:http://www.wikicfp.com/cfp/servlet/event.showcfp?eventid=29630&copyow
 nerid=52623
UID:cfp368947-E@wikicfp.com
END:VEVENT
BEGIN:VEVENT
DTSTAMP:20260422T144630Z
DTSTART;VALUE=DATE:20130715
SUMMARY:ICMU 2014 Deadline
DESCRIPTION:The seventh International Conference on Mobile Computing and 
 Ubiquitous Networking
URL:http://www.wikicfp.com/cfp/servlet/event.showcfp?eventid=29630&copyow
 nerid=52623
UID:cfp368947-D@wikicfp.com
END:VEVENT
BEGIN:VEVENT
DTSTAMP:20260422T144630Z
DTSTART;VALUE=DATE:20130907
SUMMARY:ICMU 2014 Notification Due
DESCRIPTION:The seventh International Conference on Mobile Computing and 
 Ubiquitous Networking
URL:http://www.wikicfp.com/cfp/servlet/event.showcfp?eventid=29630&copyow
 nerid=52623
UID:cfp368947-N@wikicfp.com
END:VEVENT
BEGIN:VEVENT
DTSTAMP:20260422T144630Z
DTSTART;VALUE=DATE:20131010
SUMMARY:ICMU 2014 Final Version Due
DESCRIPTION:The seventh International Conference on Mobile Computing and 
 Ubiquitous Networking
URL:http://www.wikicfp.com/cfp/servlet/event.showcfp?eventid=29630&copyow
 nerid=52623
UID:cfp368947-N@wikicfp.com
END:VEVENT
BEGIN:VEVENT
DTSTAMP:20260422T144630Z
DTSTART;VALUE=DATE:20131107
DTEND;VALUE=DATE:20131110
SUMMARY:HCOMP 2013
DESCRIPTION:Conference on Human Computation & Crowdsourcing - Works-in-Pr
 ogress & Demonstrations
URL:http://www.wikicfp.com/cfp/servlet/event.showcfp?eventid=31535&copyow
 nerid=52623
UID:cfp368946-E@wikicfp.com
END:VEVENT
BEGIN:VEVENT
DTSTAMP:20260422T144630Z
DTSTART;VALUE=DATE:20130725
SUMMARY:HCOMP 2013 Deadline
DESCRIPTION:Conference on Human Computation & Crowdsourcing - Works-in-Pr
 ogress & Demonstrations
URL:http://www.wikicfp.com/cfp/servlet/event.showcfp?eventid=31535&copyow
 nerid=52623
UID:cfp368946-D@wikicfp.com
END:VEVENT
BEGIN:VEVENT
DTSTAMP:20260422T144630Z
DTSTART;VALUE=DATE:20130826
SUMMARY:HCOMP 2013 Notification Due
DESCRIPTION:Conference on Human Computation & Crowdsourcing - Works-in-Pr
 ogress & Demonstrations
URL:http://www.wikicfp.com/cfp/servlet/event.showcfp?eventid=31535&copyow
 nerid=52623
UID:cfp368946-N@wikicfp.com
END:VEVENT
BEGIN:VEVENT
DTSTAMP:20260422T144630Z
DTSTART;VALUE=DATE:20130906
SUMMARY:HCOMP 2013 Final Version Due
DESCRIPTION:Conference on Human Computation & Crowdsourcing - Works-in-Pr
 ogress & Demonstrations
URL:http://www.wikicfp.com/cfp/servlet/event.showcfp?eventid=31535&copyow
 nerid=52623
UID:cfp368946-N@wikicfp.com
END:VEVENT
BEGIN:VEVENT
DTSTAMP:20260422T144630Z
DTSTART;VALUE=DATE:20140324
DTEND;VALUE=DATE:20140329
SUMMARY:PerCom 2014
DESCRIPTION:IEEE International Conference on Pervasive Computing and Comm
 unications
URL:http://www.wikicfp.com/cfp/servlet/event.showcfp?eventid=30982&copyow
 nerid=52623
UID:cfp368841-E@wikicfp.com
END:VEVENT
BEGIN:VEVENT
DTSTAMP:20260422T144630Z
DTSTART;VALUE=DATE:20130920
SUMMARY:PerCom 2014 Abstract Due
DESCRIPTION:IEEE International Conference on Pervasive Computing and Comm
 unications
URL:http://www.wikicfp.com/cfp/servlet/event.showcfp?eventid=30982&copyow
 nerid=52623
UID:cfp368841-A@wikicfp.com
END:VEVENT
BEGIN:VEVENT
DTSTAMP:20260422T144630Z
DTSTART;VALUE=DATE:20130927
SUMMARY:PerCom 2014 Deadline
DESCRIPTION:IEEE International Conference on Pervasive Computing and Comm
 unications
URL:http://www.wikicfp.com/cfp/servlet/event.showcfp?eventid=30982&copyow
 nerid=52623
UID:cfp368841-D@wikicfp.com
END:VEVENT
BEGIN:VEVENT
DTSTAMP:20260422T144630Z
DTSTART;VALUE=DATE:20131211
SUMMARY:PerCom 2014 Notification Due
DESCRIPTION:IEEE International Conference on Pervasive Computing and Comm
 unications
URL:http://www.wikicfp.com/cfp/servlet/event.showcfp?eventid=30982&copyow
 nerid=52623
UID:cfp368841-N@wikicfp.com
END:VEVENT
BEGIN:VEVENT
DTSTAMP:20260422T144630Z
DTSTART;VALUE=DATE:20140124
SUMMARY:PerCom 2014 Final Version Due
DESCRIPTION:IEEE International Conference on Pervasive Computing and Comm
 unications
URL:http://www.wikicfp.com/cfp/servlet/event.showcfp?eventid=30982&copyow
 nerid=52623
UID:cfp368841-N@wikicfp.com
END:VEVENT
BEGIN:VEVENT
DTSTAMP:20260422T144630Z
DTSTART;VALUE=DATE:20140415
DTEND;VALUE=DATE:20140418
SUMMARY:IPSN 2014
DESCRIPTION:The 13th ACM/IEEE International Conference on Information Pro
 cessing in Sensor Networks
URL:http://www.wikicfp.com/cfp/servlet/event.showcfp?eventid=31784&copyow
 nerid=52623
UID:cfp372269-E@wikicfp.com
END:VEVENT
BEGIN:VEVENT
DTSTAMP:20260422T144630Z
DTSTART;VALUE=DATE:20131007
SUMMARY:IPSN 2014 Abstract Due
DESCRIPTION:The 13th ACM/IEEE International Conference on Information Pro
 cessing in Sensor Networks
URL:http://www.wikicfp.com/cfp/servlet/event.showcfp?eventid=31784&copyow
 nerid=52623
UID:cfp372269-A@wikicfp.com
END:VEVENT
BEGIN:VEVENT
DTSTAMP:20260422T144630Z
DTSTART;VALUE=DATE:20131014
SUMMARY:IPSN 2014 Deadline
DESCRIPTION:The 13th ACM/IEEE International Conference on Information Pro
 cessing in Sensor Networks
URL:http://www.wikicfp.com/cfp/servlet/event.showcfp?eventid=31784&copyow
 nerid=52623
UID:cfp372269-D@wikicfp.com
END:VEVENT
BEGIN:VEVENT
DTSTAMP:20260422T144630Z
DTSTART;VALUE=DATE:20140117
SUMMARY:IPSN 2014 Notification Due
DESCRIPTION:The 13th ACM/IEEE International Conference on Information Pro
 cessing in Sensor Networks
URL:http://www.wikicfp.com/cfp/servlet/event.showcfp?eventid=31784&copyow
 nerid=52623
UID:cfp372269-N@wikicfp.com
END:VEVENT
BEGIN:VEVENT
DTSTAMP:20260422T144630Z
DTSTART;VALUE=DATE:20181008
DTEND;VALUE=DATE:20181009
SUMMARY:WellComp 2018
DESCRIPTION:International Workshop on Computing for Well-being
URL:http://www.wikicfp.com/cfp/servlet/event.showcfp?eventid=77888&copyow
 nerid=52623
UID:cfp731420-E@wikicfp.com
END:VEVENT
BEGIN:VEVENT
DTSTAMP:20260422T144630Z
DTSTART;VALUE=DATE:20180720
SUMMARY:WellComp 2018 Deadline
DESCRIPTION:International Workshop on Computing for Well-being
URL:http://www.wikicfp.com/cfp/servlet/event.showcfp?eventid=77888&copyow
 nerid=52623
UID:cfp731420-D@wikicfp.com
END:VEVENT
BEGIN:VEVENT
DTSTAMP:20260422T144630Z
DTSTART;VALUE=DATE:20180810
SUMMARY:WellComp 2018 Notification Due
DESCRIPTION:International Workshop on Computing for Well-being
URL:http://www.wikicfp.com/cfp/servlet/event.showcfp?eventid=77888&copyow
 nerid=52623
UID:cfp731420-N@wikicfp.com
END:VEVENT
BEGIN:VEVENT
DTSTAMP:20260422T144630Z
DTSTART;VALUE=DATE:20180817
SUMMARY:WellComp 2018 Final Version Due
DESCRIPTION:International Workshop on Computing for Well-being
URL:http://www.wikicfp.com/cfp/servlet/event.showcfp?eventid=77888&copyow
 nerid=52623
UID:cfp731420-N@wikicfp.com
END:VEVENT
END:VCALENDAR
