BEGIN:VCALENDAR
PRODID:-//WikiCFP//elmer 1.0//EN
VERSION:2.0
CALSCALE:GREGORIAN
BEGIN:VEVENT
DTSTAMP:20260421T180550Z
DTSTART;VALUE=DATE:20130403
DTEND;VALUE=DATE:20130406
SUMMARY:Persuasive 2013
DESCRIPTION:Persuasive Technology 2013
URL:http://www.wikicfp.com/cfp/servlet/event.showcfp?eventid=24441&copyow
 nerid=51803
UID:cfp378438-E@wikicfp.com
END:VEVENT
BEGIN:VEVENT
DTSTAMP:20260421T180550Z
DTSTART;VALUE=DATE:20121110
SUMMARY:Persuasive 2013 Abstract Due
DESCRIPTION:Persuasive Technology 2013
URL:http://www.wikicfp.com/cfp/servlet/event.showcfp?eventid=24441&copyow
 nerid=51803
UID:cfp378438-A@wikicfp.com
END:VEVENT
BEGIN:VEVENT
DTSTAMP:20260421T180550Z
DTSTART;VALUE=DATE:20121115
SUMMARY:Persuasive 2013 Deadline
DESCRIPTION:Persuasive Technology 2013
URL:http://www.wikicfp.com/cfp/servlet/event.showcfp?eventid=24441&copyow
 nerid=51803
UID:cfp378438-D@wikicfp.com
END:VEVENT
BEGIN:VEVENT
DTSTAMP:20260421T180550Z
DTSTART;VALUE=DATE:20121221
SUMMARY:Persuasive 2013 Notification Due
DESCRIPTION:Persuasive Technology 2013
URL:http://www.wikicfp.com/cfp/servlet/event.showcfp?eventid=24441&copyow
 nerid=51803
UID:cfp378438-N@wikicfp.com
END:VEVENT
BEGIN:VEVENT
DTSTAMP:20260421T180550Z
DTSTART;VALUE=DATE:20130121
SUMMARY:Persuasive 2013 Final Version Due
DESCRIPTION:Persuasive Technology 2013
URL:http://www.wikicfp.com/cfp/servlet/event.showcfp?eventid=24441&copyow
 nerid=51803
UID:cfp378438-N@wikicfp.com
END:VEVENT
BEGIN:VEVENT
DTSTAMP:20260421T180550Z
DTSTART;VALUE=DATE:20130724
DTEND;VALUE=DATE:20130727
SUMMARY:SOUPS 2013
DESCRIPTION:Symposium On Usable Privacy and Security (SOUPS)
URL:http://www.wikicfp.com/cfp/servlet/event.showcfp?eventid=27545&copyow
 nerid=51803
UID:cfp363724-E@wikicfp.com
END:VEVENT
BEGIN:VEVENT
DTSTAMP:20260421T180550Z
DTSTART;VALUE=DATE:20130308
SUMMARY:SOUPS 2013 Deadline
DESCRIPTION:Symposium On Usable Privacy and Security (SOUPS)
URL:http://www.wikicfp.com/cfp/servlet/event.showcfp?eventid=27545&copyow
 nerid=51803
UID:cfp363724-D@wikicfp.com
END:VEVENT
BEGIN:VEVENT
DTSTAMP:20260421T180550Z
DTSTART;VALUE=DATE:20130527
SUMMARY:SOUPS 2013 Notification Due
DESCRIPTION:Symposium On Usable Privacy and Security (SOUPS)
URL:http://www.wikicfp.com/cfp/servlet/event.showcfp?eventid=27545&copyow
 nerid=51803
UID:cfp363724-N@wikicfp.com
END:VEVENT
BEGIN:VEVENT
DTSTAMP:20260421T180550Z
DTSTART;VALUE=DATE:20130624
SUMMARY:SOUPS 2013 Final Version Due
DESCRIPTION:Symposium On Usable Privacy and Security (SOUPS)
URL:http://www.wikicfp.com/cfp/servlet/event.showcfp?eventid=27545&copyow
 nerid=51803
UID:cfp363724-N@wikicfp.com
END:VEVENT
BEGIN:VEVENT
DTSTAMP:20260421T180550Z
DTSTART;VALUE=DATE:20130909
DTEND;VALUE=DATE:20130912
SUMMARY:ESORICS 2013
DESCRIPTION:18th European Symposium on Research in Computer Security
URL:http://www.wikicfp.com/cfp/servlet/event.showcfp?eventid=28195&copyow
 nerid=51803
UID:cfp378044-E@wikicfp.com
END:VEVENT
BEGIN:VEVENT
DTSTAMP:20260421T180550Z
DTSTART;VALUE=DATE:20130331
SUMMARY:ESORICS 2013 Abstract Due
DESCRIPTION:18th European Symposium on Research in Computer Security
URL:http://www.wikicfp.com/cfp/servlet/event.showcfp?eventid=28195&copyow
 nerid=51803
UID:cfp378044-A@wikicfp.com
END:VEVENT
BEGIN:VEVENT
DTSTAMP:20260421T180550Z
DTSTART;VALUE=DATE:20130410
SUMMARY:ESORICS 2013 Deadline
DESCRIPTION:18th European Symposium on Research in Computer Security
URL:http://www.wikicfp.com/cfp/servlet/event.showcfp?eventid=28195&copyow
 nerid=51803
UID:cfp378044-D@wikicfp.com
END:VEVENT
BEGIN:VEVENT
DTSTAMP:20260421T180550Z
DTSTART;VALUE=DATE:20130610
SUMMARY:ESORICS 2013 Notification Due
DESCRIPTION:18th European Symposium on Research in Computer Security
URL:http://www.wikicfp.com/cfp/servlet/event.showcfp?eventid=28195&copyow
 nerid=51803
UID:cfp378044-N@wikicfp.com
END:VEVENT
BEGIN:VEVENT
DTSTAMP:20260421T180550Z
DTSTART;VALUE=DATE:20130621
SUMMARY:ESORICS 2013 Final Version Due
DESCRIPTION:18th European Symposium on Research in Computer Security
URL:http://www.wikicfp.com/cfp/servlet/event.showcfp?eventid=28195&copyow
 nerid=51803
UID:cfp378044-N@wikicfp.com
END:VEVENT
BEGIN:VEVENT
DTSTAMP:20260421T180550Z
DTSTART;VALUE=DATE:20130909
DTEND;VALUE=DATE:20130913
SUMMARY:NSPW 2013
DESCRIPTION: New Security Paradigms Workshop
URL:http://www.wikicfp.com/cfp/servlet/event.showcfp?eventid=27839&copyow
 nerid=51803
UID:cfp378047-E@wikicfp.com
END:VEVENT
BEGIN:VEVENT
DTSTAMP:20260421T180550Z
DTSTART;VALUE=DATE:20130412
SUMMARY:NSPW 2013 Deadline
DESCRIPTION: New Security Paradigms Workshop
URL:http://www.wikicfp.com/cfp/servlet/event.showcfp?eventid=27839&copyow
 nerid=51803
UID:cfp378047-D@wikicfp.com
END:VEVENT
BEGIN:VEVENT
DTSTAMP:20260421T180550Z
DTSTART;VALUE=DATE:20130812
DTEND;VALUE=DATE:20130815
SUMMARY:EISIC 2013
DESCRIPTION:European Intelligence & Security Informatics Conference
URL:http://www.wikicfp.com/cfp/servlet/event.showcfp?eventid=29728&copyow
 nerid=51803
UID:cfp378046-E@wikicfp.com
END:VEVENT
BEGIN:VEVENT
DTSTAMP:20260421T180550Z
DTSTART;VALUE=DATE:20130510
SUMMARY:EISIC 2013 Deadline
DESCRIPTION:European Intelligence & Security Informatics Conference
URL:http://www.wikicfp.com/cfp/servlet/event.showcfp?eventid=29728&copyow
 nerid=51803
UID:cfp378046-D@wikicfp.com
END:VEVENT
BEGIN:VEVENT
DTSTAMP:20260421T180550Z
DTSTART;VALUE=DATE:20130530
SUMMARY:EISIC 2013 Notification Due
DESCRIPTION:European Intelligence & Security Informatics Conference
URL:http://www.wikicfp.com/cfp/servlet/event.showcfp?eventid=29728&copyow
 nerid=51803
UID:cfp378046-N@wikicfp.com
END:VEVENT
BEGIN:VEVENT
DTSTAMP:20260421T180550Z
DTSTART;VALUE=DATE:20130615
SUMMARY:EISIC 2013 Final Version Due
DESCRIPTION:European Intelligence & Security Informatics Conference
URL:http://www.wikicfp.com/cfp/servlet/event.showcfp?eventid=29728&copyow
 nerid=51803
UID:cfp378046-N@wikicfp.com
END:VEVENT
BEGIN:VEVENT
DTSTAMP:20260421T180550Z
DTSTART;VALUE=DATE:20131014
DTEND;VALUE=DATE:20131015
SUMMARY:VizSec 2013
DESCRIPTION:Visualization for Cyber Security
URL:http://www.wikicfp.com/cfp/servlet/event.showcfp?eventid=29253&copyow
 nerid=51803
UID:cfp378045-E@wikicfp.com
END:VEVENT
BEGIN:VEVENT
DTSTAMP:20260421T180550Z
DTSTART;VALUE=DATE:20130722
SUMMARY:VizSec 2013 Deadline
DESCRIPTION:Visualization for Cyber Security
URL:http://www.wikicfp.com/cfp/servlet/event.showcfp?eventid=29253&copyow
 nerid=51803
UID:cfp378045-D@wikicfp.com
END:VEVENT
BEGIN:VEVENT
DTSTAMP:20260421T180550Z
DTSTART;VALUE=DATE:20130823
SUMMARY:VizSec 2013 Notification Due
DESCRIPTION:Visualization for Cyber Security
URL:http://www.wikicfp.com/cfp/servlet/event.showcfp?eventid=29253&copyow
 nerid=51803
UID:cfp378045-N@wikicfp.com
END:VEVENT
BEGIN:VEVENT
DTSTAMP:20260421T180550Z
DTSTART;VALUE=DATE:20130906
SUMMARY:VizSec 2013 Final Version Due
DESCRIPTION:Visualization for Cyber Security
URL:http://www.wikicfp.com/cfp/servlet/event.showcfp?eventid=29253&copyow
 nerid=51803
UID:cfp378045-N@wikicfp.com
END:VEVENT
BEGIN:VEVENT
DTSTAMP:20260421T180550Z
DTSTART;VALUE=DATE:20140709
DTEND;VALUE=DATE:20140712
SUMMARY:SOUPS 2014
DESCRIPTION:Symposium On Usable Privacy and Security
URL:http://www.wikicfp.com/cfp/servlet/event.showcfp?eventid=34225&copyow
 nerid=51803
UID:cfp405571-E@wikicfp.com
END:VEVENT
BEGIN:VEVENT
DTSTAMP:20260421T180550Z
DTSTART;VALUE=DATE:20140228
SUMMARY:SOUPS 2014 Abstract Due
DESCRIPTION:Symposium On Usable Privacy and Security
URL:http://www.wikicfp.com/cfp/servlet/event.showcfp?eventid=34225&copyow
 nerid=51803
UID:cfp405571-A@wikicfp.com
END:VEVENT
BEGIN:VEVENT
DTSTAMP:20260421T180550Z
DTSTART;VALUE=DATE:20140306
SUMMARY:SOUPS 2014 Deadline
DESCRIPTION:Symposium On Usable Privacy and Security
URL:http://www.wikicfp.com/cfp/servlet/event.showcfp?eventid=34225&copyow
 nerid=51803
UID:cfp405571-D@wikicfp.com
END:VEVENT
BEGIN:VEVENT
DTSTAMP:20260421T180550Z
DTSTART;VALUE=DATE:20140630
DTEND;VALUE=DATE:20140703
SUMMARY:WISTP 2014
DESCRIPTION:8th Workshop in Information Security Theory and Practice (WIS
 TP 2014)
URL:http://www.wikicfp.com/cfp/servlet/event.showcfp?eventid=33904&copyow
 nerid=51803
UID:cfp410239-E@wikicfp.com
END:VEVENT
BEGIN:VEVENT
DTSTAMP:20260421T180550Z
DTSTART;VALUE=DATE:20140314
SUMMARY:WISTP 2014 Deadline
DESCRIPTION:8th Workshop in Information Security Theory and Practice (WIS
 TP 2014)
URL:http://www.wikicfp.com/cfp/servlet/event.showcfp?eventid=33904&copyow
 nerid=51803
UID:cfp410239-D@wikicfp.com
END:VEVENT
BEGIN:VEVENT
DTSTAMP:20260421T180550Z
DTSTART;VALUE=DATE:20140407
SUMMARY:WISTP 2014 Notification Due
DESCRIPTION:8th Workshop in Information Security Theory and Practice (WIS
 TP 2014)
URL:http://www.wikicfp.com/cfp/servlet/event.showcfp?eventid=33904&copyow
 nerid=51803
UID:cfp410239-N@wikicfp.com
END:VEVENT
BEGIN:VEVENT
DTSTAMP:20260421T180550Z
DTSTART;VALUE=DATE:20140421
SUMMARY:WISTP 2014 Final Version Due
DESCRIPTION:8th Workshop in Information Security Theory and Practice (WIS
 TP 2014)
URL:http://www.wikicfp.com/cfp/servlet/event.showcfp?eventid=33904&copyow
 nerid=51803
UID:cfp410239-N@wikicfp.com
END:VEVENT
BEGIN:VEVENT
DTSTAMP:20260421T180550Z
DTSTART;VALUE=DATE:20140907
DTEND;VALUE=DATE:20140912
SUMMARY:ESORICS 2014
DESCRIPTION:19th European Symposium on Research in Computer Security
URL:http://www.wikicfp.com/cfp/servlet/event.showcfp?eventid=34286&copyow
 nerid=51803
UID:cfp406151-E@wikicfp.com
END:VEVENT
BEGIN:VEVENT
DTSTAMP:20260421T180550Z
DTSTART;VALUE=DATE:20140409
SUMMARY:ESORICS 2014 Deadline
DESCRIPTION:19th European Symposium on Research in Computer Security
URL:http://www.wikicfp.com/cfp/servlet/event.showcfp?eventid=34286&copyow
 nerid=51803
UID:cfp406151-D@wikicfp.com
END:VEVENT
BEGIN:VEVENT
DTSTAMP:20260421T180550Z
DTSTART;VALUE=DATE:20140610
SUMMARY:ESORICS 2014 Notification Due
DESCRIPTION:19th European Symposium on Research in Computer Security
URL:http://www.wikicfp.com/cfp/servlet/event.showcfp?eventid=34286&copyow
 nerid=51803
UID:cfp406151-N@wikicfp.com
END:VEVENT
BEGIN:VEVENT
DTSTAMP:20260421T180550Z
DTSTART;VALUE=DATE:20140621
SUMMARY:ESORICS 2014 Final Version Due
DESCRIPTION:19th European Symposium on Research in Computer Security
URL:http://www.wikicfp.com/cfp/servlet/event.showcfp?eventid=34286&copyow
 nerid=51803
UID:cfp406151-N@wikicfp.com
END:VEVENT
BEGIN:VEVENT
DTSTAMP:20260421T180550Z
DTSTART;VALUE=DATE:20140915
DTEND;VALUE=DATE:20140919
SUMMARY:NSPW 2014
DESCRIPTION:New Security Paradigms Workshop (NSPW)
URL:http://www.wikicfp.com/cfp/servlet/event.showcfp?eventid=35800&copyow
 nerid=51803
UID:cfp421563-E@wikicfp.com
END:VEVENT
BEGIN:VEVENT
DTSTAMP:20260421T180550Z
DTSTART;VALUE=DATE:20140418
SUMMARY:NSPW 2014 Deadline
DESCRIPTION:New Security Paradigms Workshop (NSPW)
URL:http://www.wikicfp.com/cfp/servlet/event.showcfp?eventid=35800&copyow
 nerid=51803
UID:cfp421563-D@wikicfp.com
END:VEVENT
BEGIN:VEVENT
DTSTAMP:20260421T180550Z
DTSTART;VALUE=DATE:20140606
SUMMARY:NSPW 2014 Notification Due
DESCRIPTION:New Security Paradigms Workshop (NSPW)
URL:http://www.wikicfp.com/cfp/servlet/event.showcfp?eventid=35800&copyow
 nerid=51803
UID:cfp421563-N@wikicfp.com
END:VEVENT
BEGIN:VEVENT
DTSTAMP:20260421T180550Z
DTSTART;VALUE=DATE:20140802
SUMMARY:NSPW 2014 Final Version Due
DESCRIPTION:New Security Paradigms Workshop (NSPW)
URL:http://www.wikicfp.com/cfp/servlet/event.showcfp?eventid=35800&copyow
 nerid=51803
UID:cfp421563-N@wikicfp.com
END:VEVENT
BEGIN:VEVENT
DTSTAMP:20260421T180550Z
DTSTART;VALUE=DATE:20141103
DTEND;VALUE=DATE:20141108
SUMMARY:CCS 2014
DESCRIPTION:21st ACM Conference on Computer and Communications Security
URL:http://www.wikicfp.com/cfp/servlet/event.showcfp?eventid=35798&copyow
 nerid=51803
UID:cfp495729-E@wikicfp.com
END:VEVENT
BEGIN:VEVENT
DTSTAMP:20260421T180550Z
DTSTART;VALUE=DATE:20140516
SUMMARY:CCS 2014 Deadline
DESCRIPTION:21st ACM Conference on Computer and Communications Security
URL:http://www.wikicfp.com/cfp/servlet/event.showcfp?eventid=35798&copyow
 nerid=51803
UID:cfp495729-D@wikicfp.com
END:VEVENT
BEGIN:VEVENT
DTSTAMP:20260421T180550Z
DTSTART;VALUE=DATE:20140722
SUMMARY:CCS 2014 Notification Due
DESCRIPTION:21st ACM Conference on Computer and Communications Security
URL:http://www.wikicfp.com/cfp/servlet/event.showcfp?eventid=35798&copyow
 nerid=51803
UID:cfp495729-N@wikicfp.com
END:VEVENT
BEGIN:VEVENT
DTSTAMP:20260421T180550Z
DTSTART;VALUE=DATE:20140824
SUMMARY:CCS 2014 Final Version Due
DESCRIPTION:21st ACM Conference on Computer and Communications Security
URL:http://www.wikicfp.com/cfp/servlet/event.showcfp?eventid=35798&copyow
 nerid=51803
UID:cfp495729-N@wikicfp.com
END:VEVENT
BEGIN:VEVENT
DTSTAMP:20260421T180550Z
DTSTART;VALUE=DATE:20141110
DTEND;VALUE=DATE:20141111
SUMMARY:VizSec 2014
DESCRIPTION:Visualization for Cyber Security 2014
URL:http://www.wikicfp.com/cfp/servlet/event.showcfp?eventid=36674&copyow
 nerid=51803
UID:cfp432362-E@wikicfp.com
END:VEVENT
BEGIN:VEVENT
DTSTAMP:20260421T180550Z
DTSTART;VALUE=DATE:20140801
SUMMARY:VizSec 2014 Deadline
DESCRIPTION:Visualization for Cyber Security 2014
URL:http://www.wikicfp.com/cfp/servlet/event.showcfp?eventid=36674&copyow
 nerid=51803
UID:cfp432362-D@wikicfp.com
END:VEVENT
BEGIN:VEVENT
DTSTAMP:20260421T180550Z
DTSTART;VALUE=DATE:20140905
SUMMARY:VizSec 2014 Notification Due
DESCRIPTION:Visualization for Cyber Security 2014
URL:http://www.wikicfp.com/cfp/servlet/event.showcfp?eventid=36674&copyow
 nerid=51803
UID:cfp432362-N@wikicfp.com
END:VEVENT
BEGIN:VEVENT
DTSTAMP:20260421T180550Z
DTSTART;VALUE=DATE:20140926
SUMMARY:VizSec 2014 Final Version Due
DESCRIPTION:Visualization for Cyber Security 2014
URL:http://www.wikicfp.com/cfp/servlet/event.showcfp?eventid=36674&copyow
 nerid=51803
UID:cfp432362-N@wikicfp.com
END:VEVENT
BEGIN:VEVENT
DTSTAMP:20260421T180550Z
DTSTART;VALUE=DATE:20150518
DTEND;VALUE=DATE:20150521
SUMMARY:IEEE S&P 2015
DESCRIPTION:36th IEEE Symposium on Security and Privacy
URL:http://www.wikicfp.com/cfp/servlet/event.showcfp?eventid=40476&copyow
 nerid=51803
UID:cfp495730-E@wikicfp.com
END:VEVENT
BEGIN:VEVENT
DTSTAMP:20260421T180550Z
DTSTART;VALUE=DATE:20141114
SUMMARY:IEEE S&P 2015 Deadline
DESCRIPTION:36th IEEE Symposium on Security and Privacy
URL:http://www.wikicfp.com/cfp/servlet/event.showcfp?eventid=40476&copyow
 nerid=51803
UID:cfp495730-D@wikicfp.com
END:VEVENT
BEGIN:VEVENT
DTSTAMP:20260421T180550Z
DTSTART;VALUE=DATE:20150116
SUMMARY:IEEE S&P 2015 Notification Due
DESCRIPTION:36th IEEE Symposium on Security and Privacy
URL:http://www.wikicfp.com/cfp/servlet/event.showcfp?eventid=40476&copyow
 nerid=51803
UID:cfp495730-N@wikicfp.com
END:VEVENT
BEGIN:VEVENT
DTSTAMP:20260421T180550Z
DTSTART;VALUE=DATE:20150305
SUMMARY:IEEE S&P 2015 Final Version Due
DESCRIPTION:36th IEEE Symposium on Security and Privacy
URL:http://www.wikicfp.com/cfp/servlet/event.showcfp?eventid=40476&copyow
 nerid=51803
UID:cfp495730-N@wikicfp.com
END:VEVENT
END:VCALENDAR
