BEGIN:VCALENDAR
PRODID:-//WikiCFP//tanmoy 1.0//EN
VERSION:2.0
CALSCALE:GREGORIAN
BEGIN:VEVENT
DTSTAMP:20260419T203923Z
DTSTART;VALUE=DATE:20131209
DTEND;VALUE=DATE:20131212
SUMMARY:IEEE ICIIP 2013
DESCRIPTION:Second IEEE International Conference on Image Information Pro
 cessing (ICIIP-2013)
URL:http://www.wikicfp.com/cfp/servlet/event.showcfp?eventid=30546&copyow
 nerid=51711
UID:cfp363109-E@wikicfp.com
END:VEVENT
BEGIN:VEVENT
DTSTAMP:20260419T203923Z
DTSTART;VALUE=DATE:20130625
SUMMARY:IEEE ICIIP 2013 Deadline
DESCRIPTION:Second IEEE International Conference on Image Information Pro
 cessing (ICIIP-2013)
URL:http://www.wikicfp.com/cfp/servlet/event.showcfp?eventid=30546&copyow
 nerid=51711
UID:cfp363109-D@wikicfp.com
END:VEVENT
BEGIN:VEVENT
DTSTAMP:20260419T203923Z
DTSTART;VALUE=DATE:20130915
SUMMARY:IEEE ICIIP 2013 Notification Due
DESCRIPTION:Second IEEE International Conference on Image Information Pro
 cessing (ICIIP-2013)
URL:http://www.wikicfp.com/cfp/servlet/event.showcfp?eventid=30546&copyow
 nerid=51711
UID:cfp363109-N@wikicfp.com
END:VEVENT
BEGIN:VEVENT
DTSTAMP:20260419T203923Z
DTSTART;VALUE=DATE:20131015
SUMMARY:IEEE ICIIP 2013 Final Version Due
DESCRIPTION:Second IEEE International Conference on Image Information Pro
 cessing (ICIIP-2013)
URL:http://www.wikicfp.com/cfp/servlet/event.showcfp?eventid=30546&copyow
 nerid=51711
UID:cfp363109-N@wikicfp.com
END:VEVENT
BEGIN:VEVENT
DTSTAMP:20260419T203923Z
DTSTART;VALUE=DATE:20131215
DTEND;VALUE=DATE:20131219
SUMMARY:SoCPaR 2013
DESCRIPTION:Soft Computing and Pattern Recognition
URL:http://www.wikicfp.com/cfp/servlet/event.showcfp?eventid=30540&copyow
 nerid=51711
UID:cfp363108-E@wikicfp.com
END:VEVENT
BEGIN:VEVENT
DTSTAMP:20260419T203923Z
DTSTART;VALUE=DATE:20130915
SUMMARY:SoCPaR 2013 Deadline
DESCRIPTION:Soft Computing and Pattern Recognition
URL:http://www.wikicfp.com/cfp/servlet/event.showcfp?eventid=30540&copyow
 nerid=51711
UID:cfp363108-D@wikicfp.com
END:VEVENT
BEGIN:VEVENT
DTSTAMP:20260419T203923Z
DTSTART;VALUE=DATE:20131010
SUMMARY:SoCPaR 2013 Notification Due
DESCRIPTION:Soft Computing and Pattern Recognition
URL:http://www.wikicfp.com/cfp/servlet/event.showcfp?eventid=30540&copyow
 nerid=51711
UID:cfp363108-N@wikicfp.com
END:VEVENT
BEGIN:VEVENT
DTSTAMP:20260419T203923Z
DTSTART;VALUE=DATE:20131105
SUMMARY:SoCPaR 2013 Final Version Due
DESCRIPTION:Soft Computing and Pattern Recognition
URL:http://www.wikicfp.com/cfp/servlet/event.showcfp?eventid=30540&copyow
 nerid=51711
UID:cfp363108-N@wikicfp.com
END:VEVENT
BEGIN:VEVENT
DTSTAMP:20260419T203923Z
DTSTART;VALUE=DATE:20140824
DTEND;VALUE=DATE:20140829
SUMMARY:ICPR 2014
DESCRIPTION:International Conference on Pattern Recognition
URL:http://www.wikicfp.com/cfp/servlet/event.showcfp?eventid=24167&copyow
 nerid=51711
UID:cfp363107-E@wikicfp.com
END:VEVENT
BEGIN:VEVENT
DTSTAMP:20260419T203923Z
DTSTART;VALUE=DATE:20131220
SUMMARY:ICPR 2014 Deadline
DESCRIPTION:International Conference on Pattern Recognition
URL:http://www.wikicfp.com/cfp/servlet/event.showcfp?eventid=24167&copyow
 nerid=51711
UID:cfp363107-D@wikicfp.com
END:VEVENT
BEGIN:VEVENT
DTSTAMP:20260419T203923Z
DTSTART;VALUE=DATE:20140324
SUMMARY:ICPR 2014 Notification Due
DESCRIPTION:International Conference on Pattern Recognition
URL:http://www.wikicfp.com/cfp/servlet/event.showcfp?eventid=24167&copyow
 nerid=51711
UID:cfp363107-N@wikicfp.com
END:VEVENT
BEGIN:VEVENT
DTSTAMP:20260419T203923Z
DTSTART;VALUE=DATE:20140524
SUMMARY:ICPR 2014 Final Version Due
DESCRIPTION:International Conference on Pattern Recognition
URL:http://www.wikicfp.com/cfp/servlet/event.showcfp?eventid=24167&copyow
 nerid=51711
UID:cfp363107-N@wikicfp.com
END:VEVENT
END:VCALENDAR
