BEGIN:VCALENDAR
PRODID:-//WikiCFP//bedo 1.0//EN
VERSION:2.0
CALSCALE:GREGORIAN
BEGIN:VEVENT
DTSTAMP:20260421T003357Z
DTSTART;VALUE=DATE:20130803
DTEND;VALUE=DATE:20130804
SUMMARY:NetMed 2013
DESCRIPTION:IJCAI Second International Workshop on Artificial Intelligenc
 e and NetMedicine
URL:http://www.wikicfp.com/cfp/servlet/event.showcfp?eventid=27555&copyow
 nerid=51221
UID:cfp359431-E@wikicfp.com
END:VEVENT
BEGIN:VEVENT
DTSTAMP:20260421T003357Z
DTSTART;VALUE=DATE:20130510
SUMMARY:NetMed 2013 Deadline
DESCRIPTION:IJCAI Second International Workshop on Artificial Intelligenc
 e and NetMedicine
URL:http://www.wikicfp.com/cfp/servlet/event.showcfp?eventid=27555&copyow
 nerid=51221
UID:cfp359431-D@wikicfp.com
END:VEVENT
BEGIN:VEVENT
DTSTAMP:20260421T003357Z
DTSTART;VALUE=DATE:20130529
SUMMARY:NetMed 2013 Notification Due
DESCRIPTION:IJCAI Second International Workshop on Artificial Intelligenc
 e and NetMedicine
URL:http://www.wikicfp.com/cfp/servlet/event.showcfp?eventid=27555&copyow
 nerid=51221
UID:cfp359431-N@wikicfp.com
END:VEVENT
BEGIN:VEVENT
DTSTAMP:20260421T003357Z
DTSTART;VALUE=DATE:20130614
SUMMARY:NetMed 2013 Final Version Due
DESCRIPTION:IJCAI Second International Workshop on Artificial Intelligenc
 e and NetMedicine
URL:http://www.wikicfp.com/cfp/servlet/event.showcfp?eventid=27555&copyow
 nerid=51221
UID:cfp359431-N@wikicfp.com
END:VEVENT
END:VCALENDAR
