BEGIN:VCALENDAR
PRODID:-//WikiCFP//goeschka 1.0//EN
VERSION:2.0
CALSCALE:GREGORIAN
BEGIN:VEVENT
DTSTAMP:20260423T130613Z
DTSTART;VALUE=DATE:20091130
DTEND;VALUE=DATE:20091205
SUMMARY:ACM MW4SOC 2009
DESCRIPTION:ACM Middleware Workshop for Service oriented Computing 2009
URL:http://www.wikicfp.com/cfp/servlet/event.showcfp?eventid=5812&copyown
 erid=5115
UID:cfp39764-E@wikicfp.com
END:VEVENT
BEGIN:VEVENT
DTSTAMP:20260423T130613Z
DTSTART;VALUE=DATE:20090801
SUMMARY:ACM MW4SOC 2009 Deadline
DESCRIPTION:ACM Middleware Workshop for Service oriented Computing 2009
URL:http://www.wikicfp.com/cfp/servlet/event.showcfp?eventid=5812&copyown
 erid=5115
UID:cfp39764-D@wikicfp.com
END:VEVENT
BEGIN:VEVENT
DTSTAMP:20260423T130613Z
DTSTART;VALUE=DATE:20090915
SUMMARY:ACM MW4SOC 2009 Notification Due
DESCRIPTION:ACM Middleware Workshop for Service oriented Computing 2009
URL:http://www.wikicfp.com/cfp/servlet/event.showcfp?eventid=5812&copyown
 erid=5115
UID:cfp39764-N@wikicfp.com
END:VEVENT
BEGIN:VEVENT
DTSTAMP:20260423T130613Z
DTSTART;VALUE=DATE:20091001
SUMMARY:ACM MW4SOC 2009 Final Version Due
DESCRIPTION:ACM Middleware Workshop for Service oriented Computing 2009
URL:http://www.wikicfp.com/cfp/servlet/event.showcfp?eventid=5812&copyown
 erid=5115
UID:cfp39764-N@wikicfp.com
END:VEVENT
BEGIN:VEVENT
DTSTAMP:20260423T130613Z
DTSTART;VALUE=DATE:20100322
DTEND;VALUE=DATE:20100327
SUMMARY:DADS 2010
DESCRIPTION:Dependable and Adaptive Distributed Systems Track at ACM SAC 
 2010
URL:http://www.wikicfp.com/cfp/servlet/event.showcfp?eventid=5924&copyown
 erid=5115
UID:cfp40825-E@wikicfp.com
END:VEVENT
BEGIN:VEVENT
DTSTAMP:20260423T130613Z
DTSTART;VALUE=DATE:20090908
SUMMARY:DADS 2010 Deadline
DESCRIPTION:Dependable and Adaptive Distributed Systems Track at ACM SAC 
 2010
URL:http://www.wikicfp.com/cfp/servlet/event.showcfp?eventid=5924&copyown
 erid=5115
UID:cfp40825-D@wikicfp.com
END:VEVENT
BEGIN:VEVENT
DTSTAMP:20260423T130613Z
DTSTART;VALUE=DATE:20091019
SUMMARY:DADS 2010 Notification Due
DESCRIPTION:Dependable and Adaptive Distributed Systems Track at ACM SAC 
 2010
URL:http://www.wikicfp.com/cfp/servlet/event.showcfp?eventid=5924&copyown
 erid=5115
UID:cfp40825-N@wikicfp.com
END:VEVENT
BEGIN:VEVENT
DTSTAMP:20260423T130613Z
DTSTART;VALUE=DATE:20091102
SUMMARY:DADS 2010 Final Version Due
DESCRIPTION:Dependable and Adaptive Distributed Systems Track at ACM SAC 
 2010
URL:http://www.wikicfp.com/cfp/servlet/event.showcfp?eventid=5924&copyown
 erid=5115
UID:cfp40825-N@wikicfp.com
END:VEVENT
BEGIN:VEVENT
DTSTAMP:20260423T130613Z
DTSTART;VALUE=DATE:20100208
SUMMARY:IJSSOE 2010 Deadline
DESCRIPTION:Special issue: Engineering Middleware for Service-Oriented Co
 mputing
URL:http://www.wikicfp.com/cfp/servlet/event.showcfp?eventid=7318&copyown
 erid=5115
UID:cfp56859-D@wikicfp.com
END:VEVENT
BEGIN:VEVENT
DTSTAMP:20260423T130613Z
DTSTART;VALUE=DATE:20100315
SUMMARY:IJSSOE 2010 Notification Due
DESCRIPTION:Special issue: Engineering Middleware for Service-Oriented Co
 mputing
URL:http://www.wikicfp.com/cfp/servlet/event.showcfp?eventid=7318&copyown
 erid=5115
UID:cfp56859-N@wikicfp.com
END:VEVENT
BEGIN:VEVENT
DTSTAMP:20260423T130613Z
DTSTART;VALUE=DATE:20100328
SUMMARY:IJSSOE 2010 Final Version Due
DESCRIPTION:Special issue: Engineering Middleware for Service-Oriented Co
 mputing
URL:http://www.wikicfp.com/cfp/servlet/event.showcfp?eventid=7318&copyown
 erid=5115
UID:cfp56859-N@wikicfp.com
END:VEVENT
BEGIN:VEVENT
DTSTAMP:20260423T130613Z
DTSTART;VALUE=DATE:20101129
DTEND;VALUE=DATE:20101204
SUMMARY:MW4SOC 2010
DESCRIPTION:ACM Middleware Workshop for Service oriented Computing 2010
URL:http://www.wikicfp.com/cfp/servlet/event.showcfp?eventid=10441&copyow
 nerid=5115
UID:cfp92636-E@wikicfp.com
END:VEVENT
BEGIN:VEVENT
DTSTAMP:20260423T130613Z
DTSTART;VALUE=DATE:20100809
SUMMARY:MW4SOC 2010 Deadline
DESCRIPTION:ACM Middleware Workshop for Service oriented Computing 2010
URL:http://www.wikicfp.com/cfp/servlet/event.showcfp?eventid=10441&copyow
 nerid=5115
UID:cfp92636-D@wikicfp.com
END:VEVENT
BEGIN:VEVENT
DTSTAMP:20260423T130613Z
DTSTART;VALUE=DATE:20100915
SUMMARY:MW4SOC 2010 Notification Due
DESCRIPTION:ACM Middleware Workshop for Service oriented Computing 2010
URL:http://www.wikicfp.com/cfp/servlet/event.showcfp?eventid=10441&copyow
 nerid=5115
UID:cfp92636-N@wikicfp.com
END:VEVENT
BEGIN:VEVENT
DTSTAMP:20260423T130613Z
DTSTART;VALUE=DATE:20101001
SUMMARY:MW4SOC 2010 Final Version Due
DESCRIPTION:ACM Middleware Workshop for Service oriented Computing 2010
URL:http://www.wikicfp.com/cfp/servlet/event.showcfp?eventid=10441&copyow
 nerid=5115
UID:cfp92636-N@wikicfp.com
END:VEVENT
BEGIN:VEVENT
DTSTAMP:20260423T130613Z
DTSTART;VALUE=DATE:20110321
DTEND;VALUE=DATE:20110326
SUMMARY:ACM DADS 2011
DESCRIPTION:Dependable and Adaptive Distributed Systems Track at ACM SAC 
 2011
URL:http://www.wikicfp.com/cfp/servlet/event.showcfp?eventid=10513&copyow
 nerid=5115
UID:cfp93375-E@wikicfp.com
END:VEVENT
BEGIN:VEVENT
DTSTAMP:20260423T130613Z
DTSTART;VALUE=DATE:20100824
SUMMARY:ACM DADS 2011 Deadline
DESCRIPTION:Dependable and Adaptive Distributed Systems Track at ACM SAC 
 2011
URL:http://www.wikicfp.com/cfp/servlet/event.showcfp?eventid=10513&copyow
 nerid=5115
UID:cfp93375-D@wikicfp.com
END:VEVENT
BEGIN:VEVENT
DTSTAMP:20260423T130613Z
DTSTART;VALUE=DATE:20101012
SUMMARY:ACM DADS 2011 Notification Due
DESCRIPTION:Dependable and Adaptive Distributed Systems Track at ACM SAC 
 2011
URL:http://www.wikicfp.com/cfp/servlet/event.showcfp?eventid=10513&copyow
 nerid=5115
UID:cfp93375-N@wikicfp.com
END:VEVENT
BEGIN:VEVENT
DTSTAMP:20260423T130613Z
DTSTART;VALUE=DATE:20101102
SUMMARY:ACM DADS 2011 Final Version Due
DESCRIPTION:Dependable and Adaptive Distributed Systems Track at ACM SAC 
 2011
URL:http://www.wikicfp.com/cfp/servlet/event.showcfp?eventid=10513&copyow
 nerid=5115
UID:cfp93375-N@wikicfp.com
END:VEVENT
BEGIN:VEVENT
DTSTAMP:20260423T130613Z
DTSTART;VALUE=DATE:20111212
DTEND;VALUE=DATE:20111217
SUMMARY:MW4SOC 2011
DESCRIPTION:ACM Middleware for Service-Oriented Computing - Call for pape
 rs
URL:http://www.wikicfp.com/cfp/servlet/event.showcfp?eventid=17236&copyow
 nerid=5115
UID:cfp189001-E@wikicfp.com
END:VEVENT
BEGIN:VEVENT
DTSTAMP:20260423T130613Z
DTSTART;VALUE=DATE:20110815
SUMMARY:MW4SOC 2011 Deadline
DESCRIPTION:ACM Middleware for Service-Oriented Computing - Call for pape
 rs
URL:http://www.wikicfp.com/cfp/servlet/event.showcfp?eventid=17236&copyow
 nerid=5115
UID:cfp189001-D@wikicfp.com
END:VEVENT
BEGIN:VEVENT
DTSTAMP:20260423T130613Z
DTSTART;VALUE=DATE:20110929
SUMMARY:MW4SOC 2011 Notification Due
DESCRIPTION:ACM Middleware for Service-Oriented Computing - Call for pape
 rs
URL:http://www.wikicfp.com/cfp/servlet/event.showcfp?eventid=17236&copyow
 nerid=5115
UID:cfp189001-N@wikicfp.com
END:VEVENT
BEGIN:VEVENT
DTSTAMP:20260423T130613Z
DTSTART;VALUE=DATE:20111010
SUMMARY:MW4SOC 2011 Final Version Due
DESCRIPTION:ACM Middleware for Service-Oriented Computing - Call for pape
 rs
URL:http://www.wikicfp.com/cfp/servlet/event.showcfp?eventid=17236&copyow
 nerid=5115
UID:cfp189001-N@wikicfp.com
END:VEVENT
BEGIN:VEVENT
DTSTAMP:20260423T130613Z
DTSTART;VALUE=DATE:20120325
DTEND;VALUE=DATE:20120330
SUMMARY:DADS 2012
DESCRIPTION:Dependable and Adaptive Distributed Systems
URL:http://www.wikicfp.com/cfp/servlet/event.showcfp?eventid=17190&copyow
 nerid=5115
UID:cfp187952-E@wikicfp.com
END:VEVENT
BEGIN:VEVENT
DTSTAMP:20260423T130613Z
DTSTART;VALUE=DATE:20110831
SUMMARY:DADS 2012 Deadline
DESCRIPTION:Dependable and Adaptive Distributed Systems
URL:http://www.wikicfp.com/cfp/servlet/event.showcfp?eventid=17190&copyow
 nerid=5115
UID:cfp187952-D@wikicfp.com
END:VEVENT
BEGIN:VEVENT
DTSTAMP:20260423T130613Z
DTSTART;VALUE=DATE:20111012
SUMMARY:DADS 2012 Notification Due
DESCRIPTION:Dependable and Adaptive Distributed Systems
URL:http://www.wikicfp.com/cfp/servlet/event.showcfp?eventid=17190&copyow
 nerid=5115
UID:cfp187952-N@wikicfp.com
END:VEVENT
BEGIN:VEVENT
DTSTAMP:20260423T130613Z
DTSTART;VALUE=DATE:20111102
SUMMARY:DADS 2012 Final Version Due
DESCRIPTION:Dependable and Adaptive Distributed Systems
URL:http://www.wikicfp.com/cfp/servlet/event.showcfp?eventid=17190&copyow
 nerid=5115
UID:cfp187952-N@wikicfp.com
END:VEVENT
BEGIN:VEVENT
DTSTAMP:20260423T130613Z
DTSTART;VALUE=DATE:20120613
DTEND;VALUE=DATE:20120617
SUMMARY:DAIS 2012
DESCRIPTION:12th International IFIP Conference on Distributed Application
 s and Interoperable Systems
URL:http://www.wikicfp.com/cfp/servlet/event.showcfp?eventid=21613&copyow
 nerid=5115
UID:cfp247209-E@wikicfp.com
END:VEVENT
BEGIN:VEVENT
DTSTAMP:20260423T130613Z
DTSTART;VALUE=DATE:20120217
SUMMARY:DAIS 2012 Deadline
DESCRIPTION:12th International IFIP Conference on Distributed Application
 s and Interoperable Systems
URL:http://www.wikicfp.com/cfp/servlet/event.showcfp?eventid=21613&copyow
 nerid=5115
UID:cfp247209-D@wikicfp.com
END:VEVENT
BEGIN:VEVENT
DTSTAMP:20260423T130613Z
DTSTART;VALUE=DATE:20120326
SUMMARY:DAIS 2012 Notification Due
DESCRIPTION:12th International IFIP Conference on Distributed Application
 s and Interoperable Systems
URL:http://www.wikicfp.com/cfp/servlet/event.showcfp?eventid=21613&copyow
 nerid=5115
UID:cfp247209-N@wikicfp.com
END:VEVENT
BEGIN:VEVENT
DTSTAMP:20260423T130613Z
DTSTART;VALUE=DATE:20120409
SUMMARY:DAIS 2012 Final Version Due
DESCRIPTION:12th International IFIP Conference on Distributed Application
 s and Interoperable Systems
URL:http://www.wikicfp.com/cfp/servlet/event.showcfp?eventid=21613&copyow
 nerid=5115
UID:cfp247209-N@wikicfp.com
END:VEVENT
BEGIN:VEVENT
DTSTAMP:20260423T130613Z
DTSTART;VALUE=DATE:20121203
DTEND;VALUE=DATE:20121208
SUMMARY:mw4ng 2012
DESCRIPTION:Middleware for Next Generation Internet Computing
URL:http://www.wikicfp.com/cfp/servlet/event.showcfp?eventid=24526&copyow
 nerid=5115
UID:cfp284671-E@wikicfp.com
END:VEVENT
BEGIN:VEVENT
DTSTAMP:20260423T130613Z
DTSTART;VALUE=DATE:20120815
SUMMARY:mw4ng 2012 Deadline
DESCRIPTION:Middleware for Next Generation Internet Computing
URL:http://www.wikicfp.com/cfp/servlet/event.showcfp?eventid=24526&copyow
 nerid=5115
UID:cfp284671-D@wikicfp.com
END:VEVENT
BEGIN:VEVENT
DTSTAMP:20260423T130613Z
DTSTART;VALUE=DATE:20120921
SUMMARY:mw4ng 2012 Notification Due
DESCRIPTION:Middleware for Next Generation Internet Computing
URL:http://www.wikicfp.com/cfp/servlet/event.showcfp?eventid=24526&copyow
 nerid=5115
UID:cfp284671-N@wikicfp.com
END:VEVENT
BEGIN:VEVENT
DTSTAMP:20260423T130613Z
DTSTART;VALUE=DATE:20121005
SUMMARY:mw4ng 2012 Final Version Due
DESCRIPTION:Middleware for Next Generation Internet Computing
URL:http://www.wikicfp.com/cfp/servlet/event.showcfp?eventid=24526&copyow
 nerid=5115
UID:cfp284671-N@wikicfp.com
END:VEVENT
BEGIN:VEVENT
DTSTAMP:20260423T130613Z
DTSTART;VALUE=DATE:20130318
DTEND;VALUE=DATE:20130323
SUMMARY:DADS 2013
DESCRIPTION:Dependable and Adaptive Distributed Systems Track at ACM SAC 
 2013
URL:http://www.wikicfp.com/cfp/servlet/event.showcfp?eventid=24005&copyow
 nerid=5115
UID:cfp278062-E@wikicfp.com
END:VEVENT
BEGIN:VEVENT
DTSTAMP:20260423T130613Z
DTSTART;VALUE=DATE:20120921
SUMMARY:DADS 2013 Deadline
DESCRIPTION:Dependable and Adaptive Distributed Systems Track at ACM SAC 
 2013
URL:http://www.wikicfp.com/cfp/servlet/event.showcfp?eventid=24005&copyow
 nerid=5115
UID:cfp278062-D@wikicfp.com
END:VEVENT
BEGIN:VEVENT
DTSTAMP:20260423T130613Z
DTSTART;VALUE=DATE:20121110
SUMMARY:DADS 2013 Notification Due
DESCRIPTION:Dependable and Adaptive Distributed Systems Track at ACM SAC 
 2013
URL:http://www.wikicfp.com/cfp/servlet/event.showcfp?eventid=24005&copyow
 nerid=5115
UID:cfp278062-N@wikicfp.com
END:VEVENT
BEGIN:VEVENT
DTSTAMP:20260423T130613Z
DTSTART;VALUE=DATE:20121130
SUMMARY:DADS 2013 Final Version Due
DESCRIPTION:Dependable and Adaptive Distributed Systems Track at ACM SAC 
 2013
URL:http://www.wikicfp.com/cfp/servlet/event.showcfp?eventid=24005&copyow
 nerid=5115
UID:cfp278062-N@wikicfp.com
END:VEVENT
BEGIN:VEVENT
DTSTAMP:20260423T130613Z
DTSTART;VALUE=DATE:20131209
DTEND;VALUE=DATE:20131214
SUMMARY:mw4ng 2013
DESCRIPTION:ACM Workshop on Middleware for Next Generation Internet Compu
 ting
URL:http://www.wikicfp.com/cfp/servlet/event.showcfp?eventid=31680&copyow
 nerid=5115
UID:cfp370875-E@wikicfp.com
END:VEVENT
BEGIN:VEVENT
DTSTAMP:20260423T130613Z
DTSTART;VALUE=DATE:20130823
SUMMARY:mw4ng 2013 Deadline
DESCRIPTION:ACM Workshop on Middleware for Next Generation Internet Compu
 ting
URL:http://www.wikicfp.com/cfp/servlet/event.showcfp?eventid=31680&copyow
 nerid=5115
UID:cfp370875-D@wikicfp.com
END:VEVENT
BEGIN:VEVENT
DTSTAMP:20260423T130613Z
DTSTART;VALUE=DATE:20130930
SUMMARY:mw4ng 2013 Notification Due
DESCRIPTION:ACM Workshop on Middleware for Next Generation Internet Compu
 ting
URL:http://www.wikicfp.com/cfp/servlet/event.showcfp?eventid=31680&copyow
 nerid=5115
UID:cfp370875-N@wikicfp.com
END:VEVENT
BEGIN:VEVENT
DTSTAMP:20260423T130613Z
DTSTART;VALUE=DATE:20131011
SUMMARY:mw4ng 2013 Final Version Due
DESCRIPTION:ACM Workshop on Middleware for Next Generation Internet Compu
 ting
URL:http://www.wikicfp.com/cfp/servlet/event.showcfp?eventid=31680&copyow
 nerid=5115
UID:cfp370875-N@wikicfp.com
END:VEVENT
BEGIN:VEVENT
DTSTAMP:20260423T130613Z
DTSTART;VALUE=DATE:20140324
DTEND;VALUE=DATE:20140329
SUMMARY:DADS 2014
DESCRIPTION:Dependable and Adaptive Distributed Systems - Track at ACM SA
 C 2014
URL:http://www.wikicfp.com/cfp/servlet/event.showcfp?eventid=31190&copyow
 nerid=5115
UID:cfp364335-E@wikicfp.com
END:VEVENT
BEGIN:VEVENT
DTSTAMP:20260423T130613Z
DTSTART;VALUE=DATE:20130913
SUMMARY:DADS 2014 Deadline
DESCRIPTION:Dependable and Adaptive Distributed Systems - Track at ACM SA
 C 2014
URL:http://www.wikicfp.com/cfp/servlet/event.showcfp?eventid=31190&copyow
 nerid=5115
UID:cfp364335-D@wikicfp.com
END:VEVENT
BEGIN:VEVENT
DTSTAMP:20260423T130613Z
DTSTART;VALUE=DATE:20131115
SUMMARY:DADS 2014 Notification Due
DESCRIPTION:Dependable and Adaptive Distributed Systems - Track at ACM SA
 C 2014
URL:http://www.wikicfp.com/cfp/servlet/event.showcfp?eventid=31190&copyow
 nerid=5115
UID:cfp364335-N@wikicfp.com
END:VEVENT
BEGIN:VEVENT
DTSTAMP:20260423T130613Z
DTSTART;VALUE=DATE:20131206
SUMMARY:DADS 2014 Final Version Due
DESCRIPTION:Dependable and Adaptive Distributed Systems - Track at ACM SA
 C 2014
URL:http://www.wikicfp.com/cfp/servlet/event.showcfp?eventid=31190&copyow
 nerid=5115
UID:cfp364335-N@wikicfp.com
END:VEVENT
BEGIN:VEVENT
DTSTAMP:20260423T130613Z
DTSTART;VALUE=DATE:20150413
DTEND;VALUE=DATE:20150418
SUMMARY:ACM SAC 2015
DESCRIPTION:ACM Dependable and Adaptive Distributed Systems
URL:http://www.wikicfp.com/cfp/servlet/event.showcfp?eventid=38866&copyow
 nerid=5115
UID:cfp455777-E@wikicfp.com
END:VEVENT
BEGIN:VEVENT
DTSTAMP:20260423T130613Z
DTSTART;VALUE=DATE:20140912
SUMMARY:ACM SAC 2015 Deadline
DESCRIPTION:ACM Dependable and Adaptive Distributed Systems
URL:http://www.wikicfp.com/cfp/servlet/event.showcfp?eventid=38866&copyow
 nerid=5115
UID:cfp455777-D@wikicfp.com
END:VEVENT
BEGIN:VEVENT
DTSTAMP:20260423T130613Z
DTSTART;VALUE=DATE:20141117
SUMMARY:ACM SAC 2015 Notification Due
DESCRIPTION:ACM Dependable and Adaptive Distributed Systems
URL:http://www.wikicfp.com/cfp/servlet/event.showcfp?eventid=38866&copyow
 nerid=5115
UID:cfp455777-N@wikicfp.com
END:VEVENT
BEGIN:VEVENT
DTSTAMP:20260423T130613Z
DTSTART;VALUE=DATE:20141208
SUMMARY:ACM SAC 2015 Final Version Due
DESCRIPTION:ACM Dependable and Adaptive Distributed Systems
URL:http://www.wikicfp.com/cfp/servlet/event.showcfp?eventid=38866&copyow
 nerid=5115
UID:cfp455777-N@wikicfp.com
END:VEVENT
BEGIN:VEVENT
DTSTAMP:20260423T130613Z
DTSTART;VALUE=DATE:20160404
DTEND;VALUE=DATE:20160409
SUMMARY:DADS 2016
DESCRIPTION:ACM Dependable and Adaptive Distributed Systems
URL:http://www.wikicfp.com/cfp/servlet/event.showcfp?eventid=48374&copyow
 nerid=5115
UID:cfp549747-E@wikicfp.com
END:VEVENT
BEGIN:VEVENT
DTSTAMP:20260423T130613Z
DTSTART;VALUE=DATE:20150921
SUMMARY:DADS 2016 Deadline
DESCRIPTION:ACM Dependable and Adaptive Distributed Systems
URL:http://www.wikicfp.com/cfp/servlet/event.showcfp?eventid=48374&copyow
 nerid=5115
UID:cfp549747-D@wikicfp.com
END:VEVENT
BEGIN:VEVENT
DTSTAMP:20260423T130613Z
DTSTART;VALUE=DATE:20151113
SUMMARY:DADS 2016 Notification Due
DESCRIPTION:ACM Dependable and Adaptive Distributed Systems
URL:http://www.wikicfp.com/cfp/servlet/event.showcfp?eventid=48374&copyow
 nerid=5115
UID:cfp549747-N@wikicfp.com
END:VEVENT
BEGIN:VEVENT
DTSTAMP:20260423T130613Z
DTSTART;VALUE=DATE:20151211
SUMMARY:DADS 2016 Final Version Due
DESCRIPTION:ACM Dependable and Adaptive Distributed Systems
URL:http://www.wikicfp.com/cfp/servlet/event.showcfp?eventid=48374&copyow
 nerid=5115
UID:cfp549747-N@wikicfp.com
END:VEVENT
BEGIN:VEVENT
DTSTAMP:20260423T130613Z
DTSTART;VALUE=DATE:20170403
DTEND;VALUE=DATE:20170408
SUMMARY:DADS 2017
DESCRIPTION:ACM Dependable\, Adaptive\, and Trustworthy Distributed Syste
 ms
URL:http://www.wikicfp.com/cfp/servlet/event.showcfp?eventid=57371&copyow
 nerid=5115
UID:cfp619532-E@wikicfp.com
END:VEVENT
BEGIN:VEVENT
DTSTAMP:20260423T130613Z
DTSTART;VALUE=DATE:20160929
SUMMARY:DADS 2017 Deadline
DESCRIPTION:ACM Dependable\, Adaptive\, and Trustworthy Distributed Syste
 ms
URL:http://www.wikicfp.com/cfp/servlet/event.showcfp?eventid=57371&copyow
 nerid=5115
UID:cfp619532-D@wikicfp.com
END:VEVENT
BEGIN:VEVENT
DTSTAMP:20260423T130613Z
DTSTART;VALUE=DATE:20161110
SUMMARY:DADS 2017 Notification Due
DESCRIPTION:ACM Dependable\, Adaptive\, and Trustworthy Distributed Syste
 ms
URL:http://www.wikicfp.com/cfp/servlet/event.showcfp?eventid=57371&copyow
 nerid=5115
UID:cfp619532-N@wikicfp.com
END:VEVENT
BEGIN:VEVENT
DTSTAMP:20260423T130613Z
DTSTART;VALUE=DATE:20161125
SUMMARY:DADS 2017 Final Version Due
DESCRIPTION:ACM Dependable\, Adaptive\, and Trustworthy Distributed Syste
 ms
URL:http://www.wikicfp.com/cfp/servlet/event.showcfp?eventid=57371&copyow
 nerid=5115
UID:cfp619532-N@wikicfp.com
END:VEVENT
BEGIN:VEVENT
DTSTAMP:20260423T130613Z
DTSTART;VALUE=DATE:20180409
DTEND;VALUE=DATE:20180414
SUMMARY:ACM DADS 2018
DESCRIPTION:ACM Dependable\, Adaptive\, and Trustworthy Distributed Syste
 ms
URL:http://www.wikicfp.com/cfp/servlet/event.showcfp?eventid=68067&copyow
 nerid=5115
UID:cfp685761-E@wikicfp.com
END:VEVENT
BEGIN:VEVENT
DTSTAMP:20260423T130613Z
DTSTART;VALUE=DATE:20170925
SUMMARY:ACM DADS 2018 Deadline
DESCRIPTION:ACM Dependable\, Adaptive\, and Trustworthy Distributed Syste
 ms
URL:http://www.wikicfp.com/cfp/servlet/event.showcfp?eventid=68067&copyow
 nerid=5115
UID:cfp685761-D@wikicfp.com
END:VEVENT
BEGIN:VEVENT
DTSTAMP:20260423T130613Z
DTSTART;VALUE=DATE:20171110
SUMMARY:ACM DADS 2018 Notification Due
DESCRIPTION:ACM Dependable\, Adaptive\, and Trustworthy Distributed Syste
 ms
URL:http://www.wikicfp.com/cfp/servlet/event.showcfp?eventid=68067&copyow
 nerid=5115
UID:cfp685761-N@wikicfp.com
END:VEVENT
BEGIN:VEVENT
DTSTAMP:20260423T130613Z
DTSTART;VALUE=DATE:20171125
SUMMARY:ACM DADS 2018 Final Version Due
DESCRIPTION:ACM Dependable\, Adaptive\, and Trustworthy Distributed Syste
 ms
URL:http://www.wikicfp.com/cfp/servlet/event.showcfp?eventid=68067&copyow
 nerid=5115
UID:cfp685761-N@wikicfp.com
END:VEVENT
BEGIN:VEVENT
DTSTAMP:20260423T130613Z
DTSTART;VALUE=DATE:20190408
DTEND;VALUE=DATE:20190413
SUMMARY:ACM DADS 2019
DESCRIPTION:ACM Dependable\, Adaptive\, and Trustworthy Distributed Syste
 ms
URL:http://www.wikicfp.com/cfp/servlet/event.showcfp?eventid=79006&copyow
 nerid=5115
UID:cfp736444-E@wikicfp.com
END:VEVENT
BEGIN:VEVENT
DTSTAMP:20260423T130613Z
DTSTART;VALUE=DATE:20180910
SUMMARY:ACM DADS 2019 Deadline
DESCRIPTION:ACM Dependable\, Adaptive\, and Trustworthy Distributed Syste
 ms
URL:http://www.wikicfp.com/cfp/servlet/event.showcfp?eventid=79006&copyow
 nerid=5115
UID:cfp736444-D@wikicfp.com
END:VEVENT
BEGIN:VEVENT
DTSTAMP:20260423T130613Z
DTSTART;VALUE=DATE:20181110
SUMMARY:ACM DADS 2019 Notification Due
DESCRIPTION:ACM Dependable\, Adaptive\, and Trustworthy Distributed Syste
 ms
URL:http://www.wikicfp.com/cfp/servlet/event.showcfp?eventid=79006&copyow
 nerid=5115
UID:cfp736444-N@wikicfp.com
END:VEVENT
BEGIN:VEVENT
DTSTAMP:20260423T130613Z
DTSTART;VALUE=DATE:20181125
SUMMARY:ACM DADS 2019 Final Version Due
DESCRIPTION:ACM Dependable\, Adaptive\, and Trustworthy Distributed Syste
 ms
URL:http://www.wikicfp.com/cfp/servlet/event.showcfp?eventid=79006&copyow
 nerid=5115
UID:cfp736444-N@wikicfp.com
END:VEVENT
BEGIN:VEVENT
DTSTAMP:20260423T130613Z
DTSTART;VALUE=DATE:20200330
DTEND;VALUE=DATE:20200404
SUMMARY:ACM SAC DADS 2020
DESCRIPTION:ACM Dependable\, Adaptive\, and Secure Distributed Systems
URL:http://www.wikicfp.com/cfp/servlet/event.showcfp?eventid=93823&copyow
 nerid=5115
UID:cfp803713-E@wikicfp.com
END:VEVENT
BEGIN:VEVENT
DTSTAMP:20260423T130613Z
DTSTART;VALUE=DATE:20190929
SUMMARY:ACM SAC DADS 2020 Deadline
DESCRIPTION:ACM Dependable\, Adaptive\, and Secure Distributed Systems
URL:http://www.wikicfp.com/cfp/servlet/event.showcfp?eventid=93823&copyow
 nerid=5115
UID:cfp803713-D@wikicfp.com
END:VEVENT
BEGIN:VEVENT
DTSTAMP:20260423T130613Z
DTSTART;VALUE=DATE:20191124
SUMMARY:ACM SAC DADS 2020 Notification Due
DESCRIPTION:ACM Dependable\, Adaptive\, and Secure Distributed Systems
URL:http://www.wikicfp.com/cfp/servlet/event.showcfp?eventid=93823&copyow
 nerid=5115
UID:cfp803713-N@wikicfp.com
END:VEVENT
BEGIN:VEVENT
DTSTAMP:20260423T130613Z
DTSTART;VALUE=DATE:20191009
SUMMARY:ACM SAC DADS 2020 Final Version Due
DESCRIPTION:ACM Dependable\, Adaptive\, and Secure Distributed Systems
URL:http://www.wikicfp.com/cfp/servlet/event.showcfp?eventid=93823&copyow
 nerid=5115
UID:cfp803713-N@wikicfp.com
END:VEVENT
BEGIN:VEVENT
DTSTAMP:20260423T130613Z
DTSTART;VALUE=DATE:20210322
DTEND;VALUE=DATE:20210327
SUMMARY:DADS 2021
DESCRIPTION:ACM Dependable\, Adaptive\, and Secure Distributed Systems
URL:http://www.wikicfp.com/cfp/servlet/event.showcfp?eventid=112019&copyo
 wnerid=5115
UID:cfp850715-E@wikicfp.com
END:VEVENT
BEGIN:VEVENT
DTSTAMP:20260423T130613Z
DTSTART;VALUE=DATE:20200915
SUMMARY:DADS 2021 Deadline
DESCRIPTION:ACM Dependable\, Adaptive\, and Secure Distributed Systems
URL:http://www.wikicfp.com/cfp/servlet/event.showcfp?eventid=112019&copyo
 wnerid=5115
UID:cfp850715-D@wikicfp.com
END:VEVENT
BEGIN:VEVENT
DTSTAMP:20260423T130613Z
DTSTART;VALUE=DATE:20201110
SUMMARY:DADS 2021 Notification Due
DESCRIPTION:ACM Dependable\, Adaptive\, and Secure Distributed Systems
URL:http://www.wikicfp.com/cfp/servlet/event.showcfp?eventid=112019&copyo
 wnerid=5115
UID:cfp850715-N@wikicfp.com
END:VEVENT
BEGIN:VEVENT
DTSTAMP:20260423T130613Z
DTSTART;VALUE=DATE:20201125
SUMMARY:DADS 2021 Final Version Due
DESCRIPTION:ACM Dependable\, Adaptive\, and Secure Distributed Systems
URL:http://www.wikicfp.com/cfp/servlet/event.showcfp?eventid=112019&copyo
 wnerid=5115
UID:cfp850715-N@wikicfp.com
END:VEVENT
BEGIN:VEVENT
DTSTAMP:20260423T130613Z
DTSTART;VALUE=DATE:20220425
DTEND;VALUE=DATE:20220430
SUMMARY:ACM DADS 2022
DESCRIPTION:ACM Dependable\, Adaptive\, and Secure Distributed Systems
URL:http://www.wikicfp.com/cfp/servlet/event.showcfp?eventid=147822&copyo
 wnerid=5115
UID:cfp907192-E@wikicfp.com
END:VEVENT
BEGIN:VEVENT
DTSTAMP:20260423T130613Z
DTSTART;VALUE=DATE:20211015
SUMMARY:ACM DADS 2022 Deadline
DESCRIPTION:ACM Dependable\, Adaptive\, and Secure Distributed Systems
URL:http://www.wikicfp.com/cfp/servlet/event.showcfp?eventid=147822&copyo
 wnerid=5115
UID:cfp907192-D@wikicfp.com
END:VEVENT
BEGIN:VEVENT
DTSTAMP:20260423T130613Z
DTSTART;VALUE=DATE:20211210
SUMMARY:ACM DADS 2022 Notification Due
DESCRIPTION:ACM Dependable\, Adaptive\, and Secure Distributed Systems
URL:http://www.wikicfp.com/cfp/servlet/event.showcfp?eventid=147822&copyo
 wnerid=5115
UID:cfp907192-N@wikicfp.com
END:VEVENT
BEGIN:VEVENT
DTSTAMP:20260423T130613Z
DTSTART;VALUE=DATE:20211221
SUMMARY:ACM DADS 2022 Final Version Due
DESCRIPTION:ACM Dependable\, Adaptive\, and Secure Distributed Systems
URL:http://www.wikicfp.com/cfp/servlet/event.showcfp?eventid=147822&copyo
 wnerid=5115
UID:cfp907192-N@wikicfp.com
END:VEVENT
BEGIN:VEVENT
DTSTAMP:20260423T130613Z
DTSTART;VALUE=DATE:20240408
DTEND;VALUE=DATE:20240413
SUMMARY:DADS 2024
DESCRIPTION:ACM Dependable\, Adaptive\, and Secure Distributed Systems
URL:http://www.wikicfp.com/cfp/servlet/event.showcfp?eventid=176303&copyo
 wnerid=5115
UID:cfp975287-E@wikicfp.com
END:VEVENT
BEGIN:VEVENT
DTSTAMP:20260423T130613Z
DTSTART;VALUE=DATE:20230929
SUMMARY:DADS 2024 Deadline
DESCRIPTION:ACM Dependable\, Adaptive\, and Secure Distributed Systems
URL:http://www.wikicfp.com/cfp/servlet/event.showcfp?eventid=176303&copyo
 wnerid=5115
UID:cfp975287-D@wikicfp.com
END:VEVENT
BEGIN:VEVENT
DTSTAMP:20260423T130613Z
DTSTART;VALUE=DATE:20231030
SUMMARY:DADS 2024 Notification Due
DESCRIPTION:ACM Dependable\, Adaptive\, and Secure Distributed Systems
URL:http://www.wikicfp.com/cfp/servlet/event.showcfp?eventid=176303&copyo
 wnerid=5115
UID:cfp975287-N@wikicfp.com
END:VEVENT
BEGIN:VEVENT
DTSTAMP:20260423T130613Z
DTSTART;VALUE=DATE:20231130
SUMMARY:DADS 2024 Final Version Due
DESCRIPTION:ACM Dependable\, Adaptive\, and Secure Distributed Systems
URL:http://www.wikicfp.com/cfp/servlet/event.showcfp?eventid=176303&copyo
 wnerid=5115
UID:cfp975287-N@wikicfp.com
END:VEVENT
BEGIN:VEVENT
DTSTAMP:20260423T130613Z
DTSTART;VALUE=DATE:20250331
DTEND;VALUE=DATE:20250405
SUMMARY:DADS 2025
DESCRIPTION:ACM Dependable\, Adaptive\, and Secure Distributed Systems
URL:http://www.wikicfp.com/cfp/servlet/event.showcfp?eventid=182623&copyo
 wnerid=5115
UID:cfp999386-E@wikicfp.com
END:VEVENT
BEGIN:VEVENT
DTSTAMP:20260423T130613Z
DTSTART;VALUE=DATE:20241004
SUMMARY:DADS 2025 Deadline
DESCRIPTION:ACM Dependable\, Adaptive\, and Secure Distributed Systems
URL:http://www.wikicfp.com/cfp/servlet/event.showcfp?eventid=182623&copyo
 wnerid=5115
UID:cfp999386-D@wikicfp.com
END:VEVENT
BEGIN:VEVENT
DTSTAMP:20260423T130613Z
DTSTART;VALUE=DATE:20241030
SUMMARY:DADS 2025 Notification Due
DESCRIPTION:ACM Dependable\, Adaptive\, and Secure Distributed Systems
URL:http://www.wikicfp.com/cfp/servlet/event.showcfp?eventid=182623&copyo
 wnerid=5115
UID:cfp999386-N@wikicfp.com
END:VEVENT
BEGIN:VEVENT
DTSTAMP:20260423T130613Z
DTSTART;VALUE=DATE:20241129
SUMMARY:DADS 2025 Final Version Due
DESCRIPTION:ACM Dependable\, Adaptive\, and Secure Distributed Systems
URL:http://www.wikicfp.com/cfp/servlet/event.showcfp?eventid=182623&copyo
 wnerid=5115
UID:cfp999386-N@wikicfp.com
END:VEVENT
BEGIN:VEVENT
DTSTAMP:20260423T130613Z
DTSTART;VALUE=DATE:20260323
DTEND;VALUE=DATE:20260328
SUMMARY:DADS 2026
DESCRIPTION:Dependable\, Adaptive\, and Secure Distributed Systems
URL:http://www.wikicfp.com/cfp/servlet/event.showcfp?eventid=189198&copyo
 wnerid=5115
UID:cfp1019023-E@wikicfp.com
END:VEVENT
BEGIN:VEVENT
DTSTAMP:20260423T130613Z
DTSTART;VALUE=DATE:20250926
SUMMARY:DADS 2026 Deadline
DESCRIPTION:Dependable\, Adaptive\, and Secure Distributed Systems
URL:http://www.wikicfp.com/cfp/servlet/event.showcfp?eventid=189198&copyo
 wnerid=5115
UID:cfp1019023-D@wikicfp.com
END:VEVENT
BEGIN:VEVENT
DTSTAMP:20260423T130613Z
DTSTART;VALUE=DATE:20251031
SUMMARY:DADS 2026 Notification Due
DESCRIPTION:Dependable\, Adaptive\, and Secure Distributed Systems
URL:http://www.wikicfp.com/cfp/servlet/event.showcfp?eventid=189198&copyo
 wnerid=5115
UID:cfp1019023-N@wikicfp.com
END:VEVENT
BEGIN:VEVENT
DTSTAMP:20260423T130613Z
DTSTART;VALUE=DATE:20251205
SUMMARY:DADS 2026 Final Version Due
DESCRIPTION:Dependable\, Adaptive\, and Secure Distributed Systems
URL:http://www.wikicfp.com/cfp/servlet/event.showcfp?eventid=189198&copyo
 wnerid=5115
UID:cfp1019023-N@wikicfp.com
END:VEVENT
END:VCALENDAR
