BEGIN:VCALENDAR
PRODID:-//WikiCFP//amany80 1.0//EN
VERSION:2.0
CALSCALE:GREGORIAN
BEGIN:VEVENT
DTSTAMP:20260425T020619Z
DTSTART;VALUE=DATE:20130714
DTEND;VALUE=DATE:20130717
SUMMARY:CSIP 2013
DESCRIPTION:International Conference on Signal and Image Processing
URL:http://www.wikicfp.com/cfp/servlet/event.showcfp?eventid=30340&copyow
 nerid=50934
UID:cfp357927-E@wikicfp.com
END:VEVENT
BEGIN:VEVENT
DTSTAMP:20260425T020619Z
DTSTART;VALUE=DATE:20130515
SUMMARY:CSIP 2013 Deadline
DESCRIPTION:International Conference on Signal and Image Processing
URL:http://www.wikicfp.com/cfp/servlet/event.showcfp?eventid=30340&copyow
 nerid=50934
UID:cfp357927-D@wikicfp.com
END:VEVENT
BEGIN:VEVENT
DTSTAMP:20260425T020619Z
DTSTART;VALUE=DATE:20130525
SUMMARY:CSIP 2013 Notification Due
DESCRIPTION:International Conference on Signal and Image Processing
URL:http://www.wikicfp.com/cfp/servlet/event.showcfp?eventid=30340&copyow
 nerid=50934
UID:cfp357927-N@wikicfp.com
END:VEVENT
BEGIN:VEVENT
DTSTAMP:20260425T020619Z
DTSTART;VALUE=DATE:20130810
DTEND;VALUE=DATE:20130812
SUMMARY:ICSIA 2013
DESCRIPTION:2013 3rd International Conference on Signal\, Image Processin
 g and Applications
URL:http://www.wikicfp.com/cfp/servlet/event.showcfp?eventid=28688&copyow
 nerid=50934
UID:cfp357922-E@wikicfp.com
END:VEVENT
BEGIN:VEVENT
DTSTAMP:20260425T020619Z
DTSTART;VALUE=DATE:20130520
SUMMARY:ICSIA 2013 Deadline
DESCRIPTION:2013 3rd International Conference on Signal\, Image Processin
 g and Applications
URL:http://www.wikicfp.com/cfp/servlet/event.showcfp?eventid=28688&copyow
 nerid=50934
UID:cfp357922-D@wikicfp.com
END:VEVENT
BEGIN:VEVENT
DTSTAMP:20260425T020619Z
DTSTART;VALUE=DATE:20130615
SUMMARY:ICSIA 2013 Notification Due
DESCRIPTION:2013 3rd International Conference on Signal\, Image Processin
 g and Applications
URL:http://www.wikicfp.com/cfp/servlet/event.showcfp?eventid=28688&copyow
 nerid=50934
UID:cfp357922-N@wikicfp.com
END:VEVENT
BEGIN:VEVENT
DTSTAMP:20260425T020619Z
DTSTART;VALUE=DATE:20130630
SUMMARY:ICSIA 2013 Final Version Due
DESCRIPTION:2013 3rd International Conference on Signal\, Image Processin
 g and Applications
URL:http://www.wikicfp.com/cfp/servlet/event.showcfp?eventid=28688&copyow
 nerid=50934
UID:cfp357922-N@wikicfp.com
END:VEVENT
BEGIN:VEVENT
DTSTAMP:20260425T020619Z
DTSTART;VALUE=DATE:20130829
DTEND;VALUE=DATE:20130901
SUMMARY:INTECH 2013
DESCRIPTION:Third International Conference on Innovative Computing Techno
 logy
URL:http://www.wikicfp.com/cfp/servlet/event.showcfp?eventid=29706&copyow
 nerid=50934
UID:cfp357924-E@wikicfp.com
END:VEVENT
BEGIN:VEVENT
DTSTAMP:20260425T020619Z
DTSTART;VALUE=DATE:20130520
SUMMARY:INTECH 2013 Deadline
DESCRIPTION:Third International Conference on Innovative Computing Techno
 logy
URL:http://www.wikicfp.com/cfp/servlet/event.showcfp?eventid=29706&copyow
 nerid=50934
UID:cfp357924-D@wikicfp.com
END:VEVENT
BEGIN:VEVENT
DTSTAMP:20260425T020619Z
DTSTART;VALUE=DATE:20130630
SUMMARY:INTECH 2013 Notification Due
DESCRIPTION:Third International Conference on Innovative Computing Techno
 logy
URL:http://www.wikicfp.com/cfp/servlet/event.showcfp?eventid=29706&copyow
 nerid=50934
UID:cfp357924-N@wikicfp.com
END:VEVENT
BEGIN:VEVENT
DTSTAMP:20260425T020619Z
DTSTART;VALUE=DATE:20130731
SUMMARY:INTECH 2013 Final Version Due
DESCRIPTION:Third International Conference on Innovative Computing Techno
 logy
URL:http://www.wikicfp.com/cfp/servlet/event.showcfp?eventid=29706&copyow
 nerid=50934
UID:cfp357924-N@wikicfp.com
END:VEVENT
BEGIN:VEVENT
DTSTAMP:20260425T020619Z
DTSTART;VALUE=DATE:20131110
DTEND;VALUE=DATE:20131113
SUMMARY:RoViSP  2013
DESCRIPTION:The 8th International Conference on Robotic\, Vision\, Signal
  Processing & Power Applications
URL:http://www.wikicfp.com/cfp/servlet/event.showcfp?eventid=28824&copyow
 nerid=50934
UID:cfp357923-E@wikicfp.com
END:VEVENT
BEGIN:VEVENT
DTSTAMP:20260425T020619Z
DTSTART;VALUE=DATE:20130630
SUMMARY:RoViSP  2013 Deadline
DESCRIPTION:The 8th International Conference on Robotic\, Vision\, Signal
  Processing & Power Applications
URL:http://www.wikicfp.com/cfp/servlet/event.showcfp?eventid=28824&copyow
 nerid=50934
UID:cfp357923-D@wikicfp.com
END:VEVENT
BEGIN:VEVENT
DTSTAMP:20260425T020619Z
DTSTART;VALUE=DATE:20130923
DTEND;VALUE=DATE:20130929
SUMMARY:PRIA 2013
DESCRIPTION:11th International Conference on Pattern Recognition and Imag
 e Analysis
URL:http://www.wikicfp.com/cfp/servlet/event.showcfp?eventid=29897&copyow
 nerid=50934
UID:cfp357925-E@wikicfp.com
END:VEVENT
BEGIN:VEVENT
DTSTAMP:20260425T020619Z
DTSTART;VALUE=DATE:20130630
SUMMARY:PRIA 2013 Deadline
DESCRIPTION:11th International Conference on Pattern Recognition and Imag
 e Analysis
URL:http://www.wikicfp.com/cfp/servlet/event.showcfp?eventid=29897&copyow
 nerid=50934
UID:cfp357925-D@wikicfp.com
END:VEVENT
BEGIN:VEVENT
DTSTAMP:20260425T020619Z
DTSTART;VALUE=DATE:20130715
SUMMARY:PRIA 2013 Notification Due
DESCRIPTION:11th International Conference on Pattern Recognition and Imag
 e Analysis
URL:http://www.wikicfp.com/cfp/servlet/event.showcfp?eventid=29897&copyow
 nerid=50934
UID:cfp357925-N@wikicfp.com
END:VEVENT
BEGIN:VEVENT
DTSTAMP:20260425T020619Z
DTSTART;VALUE=DATE:20130715
SUMMARY:PRIA 2013 Final Version Due
DESCRIPTION:11th International Conference on Pattern Recognition and Imag
 e Analysis
URL:http://www.wikicfp.com/cfp/servlet/event.showcfp?eventid=29897&copyow
 nerid=50934
UID:cfp357925-N@wikicfp.com
END:VEVENT
BEGIN:VEVENT
DTSTAMP:20260425T020619Z
DTSTART;VALUE=DATE:20131026
DTEND;VALUE=DATE:20131028
SUMMARY:ICGIP 2013
DESCRIPTION:2013 5th International Conference on Graphic and Image Proces
 sing
URL:http://www.wikicfp.com/cfp/servlet/event.showcfp?eventid=30157&copyow
 nerid=50934
UID:cfp357926-E@wikicfp.com
END:VEVENT
BEGIN:VEVENT
DTSTAMP:20260425T020619Z
DTSTART;VALUE=DATE:20130815
SUMMARY:ICGIP 2013 Deadline
DESCRIPTION:2013 5th International Conference on Graphic and Image Proces
 sing
URL:http://www.wikicfp.com/cfp/servlet/event.showcfp?eventid=30157&copyow
 nerid=50934
UID:cfp357926-D@wikicfp.com
END:VEVENT
BEGIN:VEVENT
DTSTAMP:20260425T020619Z
DTSTART;VALUE=DATE:20130910
SUMMARY:ICGIP 2013 Notification Due
DESCRIPTION:2013 5th International Conference on Graphic and Image Proces
 sing
URL:http://www.wikicfp.com/cfp/servlet/event.showcfp?eventid=30157&copyow
 nerid=50934
UID:cfp357926-N@wikicfp.com
END:VEVENT
BEGIN:VEVENT
DTSTAMP:20260425T020619Z
DTSTART;VALUE=DATE:20130925
SUMMARY:ICGIP 2013 Final Version Due
DESCRIPTION:2013 5th International Conference on Graphic and Image Proces
 sing
URL:http://www.wikicfp.com/cfp/servlet/event.showcfp?eventid=30157&copyow
 nerid=50934
UID:cfp357926-N@wikicfp.com
END:VEVENT
END:VCALENDAR
