BEGIN:VCALENDAR
PRODID:-//WikiCFP//durian 1.0//EN
VERSION:2.0
CALSCALE:GREGORIAN
BEGIN:VEVENT
DTSTAMP:20260423T051531Z
DTSTART;VALUE=DATE:20131021
DTEND;VALUE=DATE:20131026
SUMMARY:ISWC 2013
DESCRIPTION:The 12th International Semantic Web Conference
URL:http://www.wikicfp.com/cfp/servlet/event.showcfp?eventid=28320&copyow
 nerid=50782
UID:cfp357127-E@wikicfp.com
END:VEVENT
BEGIN:VEVENT
DTSTAMP:20260423T051531Z
DTSTART;VALUE=DATE:20130501
SUMMARY:ISWC 2013 Abstract Due
DESCRIPTION:The 12th International Semantic Web Conference
URL:http://www.wikicfp.com/cfp/servlet/event.showcfp?eventid=28320&copyow
 nerid=50782
UID:cfp357127-A@wikicfp.com
END:VEVENT
BEGIN:VEVENT
DTSTAMP:20260423T051531Z
DTSTART;VALUE=DATE:20130510
SUMMARY:ISWC 2013 Deadline
DESCRIPTION:The 12th International Semantic Web Conference
URL:http://www.wikicfp.com/cfp/servlet/event.showcfp?eventid=28320&copyow
 nerid=50782
UID:cfp357127-D@wikicfp.com
END:VEVENT
BEGIN:VEVENT
DTSTAMP:20260423T051531Z
DTSTART;VALUE=DATE:20130703
SUMMARY:ISWC 2013 Notification Due
DESCRIPTION:The 12th International Semantic Web Conference
URL:http://www.wikicfp.com/cfp/servlet/event.showcfp?eventid=28320&copyow
 nerid=50782
UID:cfp357127-N@wikicfp.com
END:VEVENT
BEGIN:VEVENT
DTSTAMP:20260423T051531Z
DTSTART;VALUE=DATE:20130805
SUMMARY:ISWC 2013 Final Version Due
DESCRIPTION:The 12th International Semantic Web Conference
URL:http://www.wikicfp.com/cfp/servlet/event.showcfp?eventid=28320&copyow
 nerid=50782
UID:cfp357127-N@wikicfp.com
END:VEVENT
BEGIN:VEVENT
DTSTAMP:20260423T051531Z
DTSTART;VALUE=DATE:20131017
DTEND;VALUE=DATE:20131021
SUMMARY:WI 2013
DESCRIPTION:IEEE/WIC/ACM International Conference on Web Intelligence
URL:http://www.wikicfp.com/cfp/servlet/event.showcfp?eventid=27164&copyow
 nerid=50782
UID:cfp357137-E@wikicfp.com
END:VEVENT
BEGIN:VEVENT
DTSTAMP:20260423T051531Z
DTSTART;VALUE=DATE:20130520
SUMMARY:WI 2013 Deadline
DESCRIPTION:IEEE/WIC/ACM International Conference on Web Intelligence
URL:http://www.wikicfp.com/cfp/servlet/event.showcfp?eventid=27164&copyow
 nerid=50782
UID:cfp357137-D@wikicfp.com
END:VEVENT
BEGIN:VEVENT
DTSTAMP:20260423T051531Z
DTSTART;VALUE=DATE:20130701
SUMMARY:WI 2013 Notification Due
DESCRIPTION:IEEE/WIC/ACM International Conference on Web Intelligence
URL:http://www.wikicfp.com/cfp/servlet/event.showcfp?eventid=27164&copyow
 nerid=50782
UID:cfp357137-N@wikicfp.com
END:VEVENT
BEGIN:VEVENT
DTSTAMP:20260423T051531Z
DTSTART;VALUE=DATE:20130901
SUMMARY:WI 2013 Final Version Due
DESCRIPTION:IEEE/WIC/ACM International Conference on Web Intelligence
URL:http://www.wikicfp.com/cfp/servlet/event.showcfp?eventid=27164&copyow
 nerid=50782
UID:cfp357137-N@wikicfp.com
END:VEVENT
BEGIN:VEVENT
DTSTAMP:20260423T051531Z
DTSTART;VALUE=DATE:20131202
DTEND;VALUE=DATE:20131206
SUMMARY:ICSOC 2013
DESCRIPTION:11th International Conference on Service Oriented Computing (
 ICSOC 2013)
URL:http://www.wikicfp.com/cfp/servlet/event.showcfp?eventid=29039&copyow
 nerid=50782
UID:cfp357138-E@wikicfp.com
END:VEVENT
BEGIN:VEVENT
DTSTAMP:20260423T051531Z
DTSTART;VALUE=DATE:20130607
SUMMARY:ICSOC 2013 Abstract Due
DESCRIPTION:11th International Conference on Service Oriented Computing (
 ICSOC 2013)
URL:http://www.wikicfp.com/cfp/servlet/event.showcfp?eventid=29039&copyow
 nerid=50782
UID:cfp357138-A@wikicfp.com
END:VEVENT
BEGIN:VEVENT
DTSTAMP:20260423T051531Z
DTSTART;VALUE=DATE:20130614
SUMMARY:ICSOC 2013 Deadline
DESCRIPTION:11th International Conference on Service Oriented Computing (
 ICSOC 2013)
URL:http://www.wikicfp.com/cfp/servlet/event.showcfp?eventid=29039&copyow
 nerid=50782
UID:cfp357138-D@wikicfp.com
END:VEVENT
BEGIN:VEVENT
DTSTAMP:20260423T051531Z
DTSTART;VALUE=DATE:20130802
SUMMARY:ICSOC 2013 Notification Due
DESCRIPTION:11th International Conference on Service Oriented Computing (
 ICSOC 2013)
URL:http://www.wikicfp.com/cfp/servlet/event.showcfp?eventid=29039&copyow
 nerid=50782
UID:cfp357138-N@wikicfp.com
END:VEVENT
BEGIN:VEVENT
DTSTAMP:20260423T051531Z
DTSTART;VALUE=DATE:20130830
SUMMARY:ICSOC 2013 Final Version Due
DESCRIPTION:11th International Conference on Service Oriented Computing (
 ICSOC 2013)
URL:http://www.wikicfp.com/cfp/servlet/event.showcfp?eventid=29039&copyow
 nerid=50782
UID:cfp357138-N@wikicfp.com
END:VEVENT
BEGIN:VEVENT
DTSTAMP:20260423T051531Z
DTSTART;VALUE=DATE:20131107
DTEND;VALUE=DATE:20131110
SUMMARY:SWEBIS  2013
DESCRIPTION:International Conference on Semantic Web and Information Syst
 ems
URL:http://www.wikicfp.com/cfp/servlet/event.showcfp?eventid=28671&copyow
 nerid=50782
UID:cfp357136-E@wikicfp.com
END:VEVENT
BEGIN:VEVENT
DTSTAMP:20260423T051531Z
DTSTART;VALUE=DATE:20130616
SUMMARY:SWEBIS  2013 Deadline
DESCRIPTION:International Conference on Semantic Web and Information Syst
 ems
URL:http://www.wikicfp.com/cfp/servlet/event.showcfp?eventid=28671&copyow
 nerid=50782
UID:cfp357136-D@wikicfp.com
END:VEVENT
BEGIN:VEVENT
DTSTAMP:20260423T051531Z
DTSTART;VALUE=DATE:20130727
SUMMARY:SWEBIS  2013 Notification Due
DESCRIPTION:International Conference on Semantic Web and Information Syst
 ems
URL:http://www.wikicfp.com/cfp/servlet/event.showcfp?eventid=28671&copyow
 nerid=50782
UID:cfp357136-N@wikicfp.com
END:VEVENT
BEGIN:VEVENT
DTSTAMP:20260423T051531Z
DTSTART;VALUE=DATE:20130829
SUMMARY:SWEBIS  2013 Final Version Due
DESCRIPTION:International Conference on Semantic Web and Information Syst
 ems
URL:http://www.wikicfp.com/cfp/servlet/event.showcfp?eventid=28671&copyow
 nerid=50782
UID:cfp357136-N@wikicfp.com
END:VEVENT
BEGIN:VEVENT
DTSTAMP:20260423T051531Z
DTSTART;VALUE=DATE:20140117
DTEND;VALUE=DATE:20140120
SUMMARY:APBC 2014
DESCRIPTION:The Twelfth Asia-Pacific Bioinformatics Conference
URL:http://www.wikicfp.com/cfp/servlet/event.showcfp?eventid=30201&copyow
 nerid=50782
UID:cfp369786-E@wikicfp.com
END:VEVENT
BEGIN:VEVENT
DTSTAMP:20260423T051531Z
DTSTART;VALUE=DATE:20130731
SUMMARY:APBC 2014 Deadline
DESCRIPTION:The Twelfth Asia-Pacific Bioinformatics Conference
URL:http://www.wikicfp.com/cfp/servlet/event.showcfp?eventid=30201&copyow
 nerid=50782
UID:cfp369786-D@wikicfp.com
END:VEVENT
END:VCALENDAR
