BEGIN:VCALENDAR
PRODID:-//WikiCFP//lmdoyle 1.0//EN
VERSION:2.0
CALSCALE:GREGORIAN
BEGIN:VEVENT
DTSTAMP:20260425T224825Z
DTSTART;VALUE=DATE:20130905
DTEND;VALUE=DATE:20130908
SUMMARY:LICER 2013
DESCRIPTION:Labuan International Conference on Educational Research
URL:http://www.wikicfp.com/cfp/servlet/event.showcfp?eventid=25072&copyow
 nerid=50436
UID:cfp354975-E@wikicfp.com
END:VEVENT
BEGIN:VEVENT
DTSTAMP:20260425T224825Z
DTSTART;VALUE=DATE:20130228
SUMMARY:LICER 2013 Abstract Due
DESCRIPTION:Labuan International Conference on Educational Research
URL:http://www.wikicfp.com/cfp/servlet/event.showcfp?eventid=25072&copyow
 nerid=50436
UID:cfp354975-A@wikicfp.com
END:VEVENT
BEGIN:VEVENT
DTSTAMP:20260425T224825Z
DTSTART;VALUE=DATE:20130430
SUMMARY:LICER 2013 Deadline
DESCRIPTION:Labuan International Conference on Educational Research
URL:http://www.wikicfp.com/cfp/servlet/event.showcfp?eventid=25072&copyow
 nerid=50436
UID:cfp354975-D@wikicfp.com
END:VEVENT
BEGIN:VEVENT
DTSTAMP:20260425T224825Z
DTSTART;VALUE=DATE:20130531
SUMMARY:LICER 2013 Notification Due
DESCRIPTION:Labuan International Conference on Educational Research
URL:http://www.wikicfp.com/cfp/servlet/event.showcfp?eventid=25072&copyow
 nerid=50436
UID:cfp354975-N@wikicfp.com
END:VEVENT
BEGIN:VEVENT
DTSTAMP:20260425T224825Z
DTSTART;VALUE=DATE:20130628
SUMMARY:LICER 2013 Final Version Due
DESCRIPTION:Labuan International Conference on Educational Research
URL:http://www.wikicfp.com/cfp/servlet/event.showcfp?eventid=25072&copyow
 nerid=50436
UID:cfp354975-N@wikicfp.com
END:VEVENT
BEGIN:VEVENT
DTSTAMP:20260425T224825Z
DTSTART;VALUE=DATE:20130823
DTEND;VALUE=DATE:20130826
SUMMARY:ISBSC 2013
DESCRIPTION:International Social and Behavioral Sciences Conference 2013
URL:http://www.wikicfp.com/cfp/servlet/event.showcfp?eventid=30467&copyow
 nerid=50436
UID:cfp354978-E@wikicfp.com
END:VEVENT
BEGIN:VEVENT
DTSTAMP:20260425T224825Z
DTSTART;VALUE=DATE:20130515
SUMMARY:ISBSC 2013 Deadline
DESCRIPTION:International Social and Behavioral Sciences Conference 2013
URL:http://www.wikicfp.com/cfp/servlet/event.showcfp?eventid=30467&copyow
 nerid=50436
UID:cfp354978-D@wikicfp.com
END:VEVENT
BEGIN:VEVENT
DTSTAMP:20260425T224825Z
DTSTART;VALUE=DATE:20130531
SUMMARY:ISBSC 2013 Notification Due
DESCRIPTION:International Social and Behavioral Sciences Conference 2013
URL:http://www.wikicfp.com/cfp/servlet/event.showcfp?eventid=30467&copyow
 nerid=50436
UID:cfp354978-N@wikicfp.com
END:VEVENT
BEGIN:VEVENT
DTSTAMP:20260425T224825Z
DTSTART;VALUE=DATE:20130630
SUMMARY:ISBSC 2013 Final Version Due
DESCRIPTION:International Social and Behavioral Sciences Conference 2013
URL:http://www.wikicfp.com/cfp/servlet/event.showcfp?eventid=30467&copyow
 nerid=50436
UID:cfp354978-N@wikicfp.com
END:VEVENT
BEGIN:VEVENT
DTSTAMP:20260425T224825Z
DTSTART;VALUE=DATE:20130701
DTEND;VALUE=DATE:20130704
SUMMARY:EDULEARN 2013
DESCRIPTION:EDULEARN13 (5th International Conference on Education and New
  Learning Technologies)
URL:http://www.wikicfp.com/cfp/servlet/event.showcfp?eventid=28286&copyow
 nerid=50436
UID:cfp354976-E@wikicfp.com
END:VEVENT
BEGIN:VEVENT
DTSTAMP:20260425T224825Z
DTSTART;VALUE=DATE:20130327
SUMMARY:EDULEARN 2013 Abstract Due
DESCRIPTION:EDULEARN13 (5th International Conference on Education and New
  Learning Technologies)
URL:http://www.wikicfp.com/cfp/servlet/event.showcfp?eventid=28286&copyow
 nerid=50436
UID:cfp354976-A@wikicfp.com
END:VEVENT
BEGIN:VEVENT
DTSTAMP:20260425T224825Z
DTSTART;VALUE=DATE:20130517
SUMMARY:EDULEARN 2013 Deadline
DESCRIPTION:EDULEARN13 (5th International Conference on Education and New
  Learning Technologies)
URL:http://www.wikicfp.com/cfp/servlet/event.showcfp?eventid=28286&copyow
 nerid=50436
UID:cfp354976-D@wikicfp.com
END:VEVENT
BEGIN:VEVENT
DTSTAMP:20260425T224825Z
DTSTART;VALUE=DATE:20130422
SUMMARY:EDULEARN 2013 Notification Due
DESCRIPTION:EDULEARN13 (5th International Conference on Education and New
  Learning Technologies)
URL:http://www.wikicfp.com/cfp/servlet/event.showcfp?eventid=28286&copyow
 nerid=50436
UID:cfp354976-N@wikicfp.com
END:VEVENT
BEGIN:VEVENT
DTSTAMP:20260425T224825Z
DTSTART;VALUE=DATE:20130517
SUMMARY:EDULEARN 2013 Final Version Due
DESCRIPTION:EDULEARN13 (5th International Conference on Education and New
  Learning Technologies)
URL:http://www.wikicfp.com/cfp/servlet/event.showcfp?eventid=28286&copyow
 nerid=50436
UID:cfp354976-N@wikicfp.com
END:VEVENT
BEGIN:VEVENT
DTSTAMP:20260425T224825Z
DTSTART;VALUE=DATE:20130928
DTEND;VALUE=DATE:20130930
SUMMARY:ICERI 2013
DESCRIPTION:2013 3rd International Conference on Education\, Research and
  Innovation 
URL:http://www.wikicfp.com/cfp/servlet/event.showcfp?eventid=29512&copyow
 nerid=50436
UID:cfp354977-E@wikicfp.com
END:VEVENT
BEGIN:VEVENT
DTSTAMP:20260425T224825Z
DTSTART;VALUE=DATE:20130715
SUMMARY:ICERI 2013 Deadline
DESCRIPTION:2013 3rd International Conference on Education\, Research and
  Innovation 
URL:http://www.wikicfp.com/cfp/servlet/event.showcfp?eventid=29512&copyow
 nerid=50436
UID:cfp354977-D@wikicfp.com
END:VEVENT
BEGIN:VEVENT
DTSTAMP:20260425T224825Z
DTSTART;VALUE=DATE:20130805
SUMMARY:ICERI 2013 Notification Due
DESCRIPTION:2013 3rd International Conference on Education\, Research and
  Innovation 
URL:http://www.wikicfp.com/cfp/servlet/event.showcfp?eventid=29512&copyow
 nerid=50436
UID:cfp354977-N@wikicfp.com
END:VEVENT
BEGIN:VEVENT
DTSTAMP:20260425T224825Z
DTSTART;VALUE=DATE:20130820
SUMMARY:ICERI 2013 Final Version Due
DESCRIPTION:2013 3rd International Conference on Education\, Research and
  Innovation 
URL:http://www.wikicfp.com/cfp/servlet/event.showcfp?eventid=29512&copyow
 nerid=50436
UID:cfp354977-N@wikicfp.com
END:VEVENT
END:VCALENDAR
