BEGIN:VCALENDAR
PRODID:-//WikiCFP//b_elmasri 1.0//EN
VERSION:2.0
CALSCALE:GREGORIAN
BEGIN:VEVENT
DTSTAMP:20260420T033259Z
DTSTART;VALUE=DATE:20131104
DTEND;VALUE=DATE:20131109
SUMMARY:CCS 2013
DESCRIPTION:ACM Conference on Computer and Communications Security
URL:http://www.wikicfp.com/cfp/servlet/event.showcfp?eventid=24374&copyow
 nerid=50037
UID:cfp352219-E@wikicfp.com
END:VEVENT
BEGIN:VEVENT
DTSTAMP:20260420T033259Z
DTSTART;VALUE=DATE:20130508
SUMMARY:CCS 2013 Deadline
DESCRIPTION:ACM Conference on Computer and Communications Security
URL:http://www.wikicfp.com/cfp/servlet/event.showcfp?eventid=24374&copyow
 nerid=50037
UID:cfp352219-D@wikicfp.com
END:VEVENT
BEGIN:VEVENT
DTSTAMP:20260420T033259Z
DTSTART;VALUE=DATE:20130719
SUMMARY:CCS 2013 Notification Due
DESCRIPTION:ACM Conference on Computer and Communications Security
URL:http://www.wikicfp.com/cfp/servlet/event.showcfp?eventid=24374&copyow
 nerid=50037
UID:cfp352219-N@wikicfp.com
END:VEVENT
BEGIN:VEVENT
DTSTAMP:20260420T033259Z
DTSTART;VALUE=DATE:20130815
SUMMARY:CCS 2013 Final Version Due
DESCRIPTION:ACM Conference on Computer and Communications Security
URL:http://www.wikicfp.com/cfp/servlet/event.showcfp?eventid=24374&copyow
 nerid=50037
UID:cfp352219-N@wikicfp.com
END:VEVENT
BEGIN:VEVENT
DTSTAMP:20260420T033259Z
DTSTART;VALUE=DATE:20131017
DTEND;VALUE=DATE:20131019
SUMMARY:RTNS 2013
DESCRIPTION:21st International Conference on Real-Time Networks and Syste
 ms (RTNS 2013)
URL:http://www.wikicfp.com/cfp/servlet/event.showcfp?eventid=29223&copyow
 nerid=50037
UID:cfp366401-E@wikicfp.com
END:VEVENT
BEGIN:VEVENT
DTSTAMP:20260420T033259Z
DTSTART;VALUE=DATE:20130628
SUMMARY:RTNS 2013 Deadline
DESCRIPTION:21st International Conference on Real-Time Networks and Syste
 ms (RTNS 2013)
URL:http://www.wikicfp.com/cfp/servlet/event.showcfp?eventid=29223&copyow
 nerid=50037
UID:cfp366401-D@wikicfp.com
END:VEVENT
BEGIN:VEVENT
DTSTAMP:20260420T033259Z
DTSTART;VALUE=DATE:20130816
SUMMARY:RTNS 2013 Notification Due
DESCRIPTION:21st International Conference on Real-Time Networks and Syste
 ms (RTNS 2013)
URL:http://www.wikicfp.com/cfp/servlet/event.showcfp?eventid=29223&copyow
 nerid=50037
UID:cfp366401-N@wikicfp.com
END:VEVENT
BEGIN:VEVENT
DTSTAMP:20260420T033259Z
DTSTART;VALUE=DATE:20130906
SUMMARY:RTNS 2013 Final Version Due
DESCRIPTION:21st International Conference on Real-Time Networks and Syste
 ms (RTNS 2013)
URL:http://www.wikicfp.com/cfp/servlet/event.showcfp?eventid=29223&copyow
 nerid=50037
UID:cfp366401-N@wikicfp.com
END:VEVENT
BEGIN:VEVENT
DTSTAMP:20260420T033259Z
DTSTART;VALUE=DATE:20131126
DTEND;VALUE=DATE:20131129
SUMMARY:SIN 2013
DESCRIPTION:The 6th International Conference on Security of Information a
 nd Networks (SIN 2013)
URL:http://www.wikicfp.com/cfp/servlet/event.showcfp?eventid=30544&copyow
 nerid=50037
UID:cfp366151-E@wikicfp.com
END:VEVENT
BEGIN:VEVENT
DTSTAMP:20260420T033259Z
DTSTART;VALUE=DATE:20130731
SUMMARY:SIN 2013 Deadline
DESCRIPTION:The 6th International Conference on Security of Information a
 nd Networks (SIN 2013)
URL:http://www.wikicfp.com/cfp/servlet/event.showcfp?eventid=30544&copyow
 nerid=50037
UID:cfp366151-D@wikicfp.com
END:VEVENT
BEGIN:VEVENT
DTSTAMP:20260420T033259Z
DTSTART;VALUE=DATE:20130831
SUMMARY:SIN 2013 Notification Due
DESCRIPTION:The 6th International Conference on Security of Information a
 nd Networks (SIN 2013)
URL:http://www.wikicfp.com/cfp/servlet/event.showcfp?eventid=30544&copyow
 nerid=50037
UID:cfp366151-N@wikicfp.com
END:VEVENT
BEGIN:VEVENT
DTSTAMP:20260420T033259Z
DTSTART;VALUE=DATE:20130920
SUMMARY:SIN 2013 Final Version Due
DESCRIPTION:The 6th International Conference on Security of Information a
 nd Networks (SIN 2013)
URL:http://www.wikicfp.com/cfp/servlet/event.showcfp?eventid=30544&copyow
 nerid=50037
UID:cfp366151-N@wikicfp.com
END:VEVENT
END:VCALENDAR
