BEGIN:VCALENDAR
PRODID:-//WikiCFP//mimec 1.0//EN
VERSION:2.0
CALSCALE:GREGORIAN
BEGIN:VEVENT
DTSTAMP:20260425T112153Z
DTSTART;VALUE=DATE:20131204
DTEND;VALUE=DATE:20131207
SUMMARY:MIMEC 2013
DESCRIPTION:1st International Materials\, Industrial\, and Manufacturing 
 Engineering Conference
URL:http://www.wikicfp.com/cfp/servlet/event.showcfp?eventid=30211&copyow
 nerid=49871
UID:cfp351242-E@wikicfp.com
END:VEVENT
BEGIN:VEVENT
DTSTAMP:20260425T112153Z
DTSTART;VALUE=DATE:20131025
SUMMARY:MIMEC 2013 Deadline
DESCRIPTION:1st International Materials\, Industrial\, and Manufacturing 
 Engineering Conference
URL:http://www.wikicfp.com/cfp/servlet/event.showcfp?eventid=30211&copyow
 nerid=49871
UID:cfp351242-D@wikicfp.com
END:VEVENT
END:VCALENDAR
