BEGIN:VCALENDAR
PRODID:-//WikiCFP//chietz 1.0//EN
VERSION:2.0
CALSCALE:GREGORIAN
BEGIN:VEVENT
DTSTAMP:20260423T133545Z
DTSTART;VALUE=DATE:20130408
DTEND;VALUE=DATE:20130412
SUMMARY:ICDE 2013
DESCRIPTION:29TH INTERNATIONAL CONFERENCE ON DATA ENGINEERING
URL:http://www.wikicfp.com/cfp/servlet/event.showcfp?eventid=22399&copyow
 nerid=49810
UID:cfp350678-E@wikicfp.com
END:VEVENT
BEGIN:VEVENT
DTSTAMP:20260423T133545Z
DTSTART;VALUE=DATE:20120716
SUMMARY:ICDE 2013 Abstract Due
DESCRIPTION:29TH INTERNATIONAL CONFERENCE ON DATA ENGINEERING
URL:http://www.wikicfp.com/cfp/servlet/event.showcfp?eventid=22399&copyow
 nerid=49810
UID:cfp350678-A@wikicfp.com
END:VEVENT
BEGIN:VEVENT
DTSTAMP:20260423T133545Z
DTSTART;VALUE=DATE:20120720
SUMMARY:ICDE 2013 Deadline
DESCRIPTION:29TH INTERNATIONAL CONFERENCE ON DATA ENGINEERING
URL:http://www.wikicfp.com/cfp/servlet/event.showcfp?eventid=22399&copyow
 nerid=49810
UID:cfp350678-D@wikicfp.com
END:VEVENT
BEGIN:VEVENT
DTSTAMP:20260423T133545Z
DTSTART;VALUE=DATE:20121014
SUMMARY:ICDE 2013 Notification Due
DESCRIPTION:29TH INTERNATIONAL CONFERENCE ON DATA ENGINEERING
URL:http://www.wikicfp.com/cfp/servlet/event.showcfp?eventid=22399&copyow
 nerid=49810
UID:cfp350678-N@wikicfp.com
END:VEVENT
BEGIN:VEVENT
DTSTAMP:20260423T133545Z
DTSTART;VALUE=DATE:20121115
SUMMARY:ICDE 2013 Final Version Due
DESCRIPTION:29TH INTERNATIONAL CONFERENCE ON DATA ENGINEERING
URL:http://www.wikicfp.com/cfp/servlet/event.showcfp?eventid=22399&copyow
 nerid=49810
UID:cfp350678-N@wikicfp.com
END:VEVENT
BEGIN:VEVENT
DTSTAMP:20260423T133545Z
DTSTART;VALUE=DATE:20130923
DTEND;VALUE=DATE:20130928
SUMMARY:ECML-PKDD 2013
DESCRIPTION:European Conference on Machine Learning and Principles and Pr
 actice of Knowledge Discovery in Databases
URL:http://www.wikicfp.com/cfp/servlet/event.showcfp?eventid=24751&copyow
 nerid=49810
UID:cfp350675-E@wikicfp.com
END:VEVENT
BEGIN:VEVENT
DTSTAMP:20260423T133545Z
DTSTART;VALUE=DATE:20130418
SUMMARY:ECML-PKDD 2013 Abstract Due
DESCRIPTION:European Conference on Machine Learning and Principles and Pr
 actice of Knowledge Discovery in Databases
URL:http://www.wikicfp.com/cfp/servlet/event.showcfp?eventid=24751&copyow
 nerid=49810
UID:cfp350675-A@wikicfp.com
END:VEVENT
BEGIN:VEVENT
DTSTAMP:20260423T133545Z
DTSTART;VALUE=DATE:20130422
SUMMARY:ECML-PKDD 2013 Deadline
DESCRIPTION:European Conference on Machine Learning and Principles and Pr
 actice of Knowledge Discovery in Databases
URL:http://www.wikicfp.com/cfp/servlet/event.showcfp?eventid=24751&copyow
 nerid=49810
UID:cfp350675-D@wikicfp.com
END:VEVENT
BEGIN:VEVENT
DTSTAMP:20260423T133545Z
DTSTART;VALUE=DATE:20130614
SUMMARY:ECML-PKDD 2013 Notification Due
DESCRIPTION:European Conference on Machine Learning and Principles and Pr
 actice of Knowledge Discovery in Databases
URL:http://www.wikicfp.com/cfp/servlet/event.showcfp?eventid=24751&copyow
 nerid=49810
UID:cfp350675-N@wikicfp.com
END:VEVENT
BEGIN:VEVENT
DTSTAMP:20260423T133545Z
DTSTART;VALUE=DATE:20130628
SUMMARY:ECML-PKDD 2013 Final Version Due
DESCRIPTION:European Conference on Machine Learning and Principles and Pr
 actice of Knowledge Discovery in Databases
URL:http://www.wikicfp.com/cfp/servlet/event.showcfp?eventid=24751&copyow
 nerid=49810
UID:cfp350675-N@wikicfp.com
END:VEVENT
BEGIN:VEVENT
DTSTAMP:20260423T133545Z
DTSTART;VALUE=DATE:20131017
DTEND;VALUE=DATE:20131020
SUMMARY:IDA 2013
DESCRIPTION: The Twelfth International Symposium on Intelligent Data Anal
 ysis
URL:http://www.wikicfp.com/cfp/servlet/event.showcfp?eventid=27431&copyow
 nerid=49810
UID:cfp350674-E@wikicfp.com
END:VEVENT
BEGIN:VEVENT
DTSTAMP:20260423T133545Z
DTSTART;VALUE=DATE:20130506
SUMMARY:IDA 2013 Deadline
DESCRIPTION: The Twelfth International Symposium on Intelligent Data Anal
 ysis
URL:http://www.wikicfp.com/cfp/servlet/event.showcfp?eventid=27431&copyow
 nerid=49810
UID:cfp350674-D@wikicfp.com
END:VEVENT
BEGIN:VEVENT
DTSTAMP:20260423T133545Z
DTSTART;VALUE=DATE:20130708
SUMMARY:IDA 2013 Notification Due
DESCRIPTION: The Twelfth International Symposium on Intelligent Data Anal
 ysis
URL:http://www.wikicfp.com/cfp/servlet/event.showcfp?eventid=27431&copyow
 nerid=49810
UID:cfp350674-N@wikicfp.com
END:VEVENT
BEGIN:VEVENT
DTSTAMP:20260423T133545Z
DTSTART;VALUE=DATE:20130805
SUMMARY:IDA 2013 Final Version Due
DESCRIPTION: The Twelfth International Symposium on Intelligent Data Anal
 ysis
URL:http://www.wikicfp.com/cfp/servlet/event.showcfp?eventid=27431&copyow
 nerid=49810
UID:cfp350674-N@wikicfp.com
END:VEVENT
BEGIN:VEVENT
DTSTAMP:20260423T133545Z
DTSTART;VALUE=DATE:20131027
DTEND;VALUE=DATE:20131102
SUMMARY:CIKM 2013
DESCRIPTION:ACM Conference of Information and Knowledge Management
URL:http://www.wikicfp.com/cfp/servlet/event.showcfp?eventid=25339&copyow
 nerid=49810
UID:cfp350676-E@wikicfp.com
END:VEVENT
BEGIN:VEVENT
DTSTAMP:20260423T133545Z
DTSTART;VALUE=DATE:20130510
SUMMARY:CIKM 2013 Abstract Due
DESCRIPTION:ACM Conference of Information and Knowledge Management
URL:http://www.wikicfp.com/cfp/servlet/event.showcfp?eventid=25339&copyow
 nerid=49810
UID:cfp350676-A@wikicfp.com
END:VEVENT
BEGIN:VEVENT
DTSTAMP:20260423T133545Z
DTSTART;VALUE=DATE:20130517
SUMMARY:CIKM 2013 Deadline
DESCRIPTION:ACM Conference of Information and Knowledge Management
URL:http://www.wikicfp.com/cfp/servlet/event.showcfp?eventid=25339&copyow
 nerid=49810
UID:cfp350676-D@wikicfp.com
END:VEVENT
BEGIN:VEVENT
DTSTAMP:20260423T133545Z
DTSTART;VALUE=DATE:20130715
SUMMARY:CIKM 2013 Notification Due
DESCRIPTION:ACM Conference of Information and Knowledge Management
URL:http://www.wikicfp.com/cfp/servlet/event.showcfp?eventid=25339&copyow
 nerid=49810
UID:cfp350676-N@wikicfp.com
END:VEVENT
BEGIN:VEVENT
DTSTAMP:20260423T133545Z
DTSTART;VALUE=DATE:20130811
SUMMARY:CIKM 2013 Final Version Due
DESCRIPTION:ACM Conference of Information and Knowledge Management
URL:http://www.wikicfp.com/cfp/servlet/event.showcfp?eventid=25339&copyow
 nerid=49810
UID:cfp350676-N@wikicfp.com
END:VEVENT
BEGIN:VEVENT
DTSTAMP:20260423T133545Z
DTSTART;VALUE=DATE:20131208
DTEND;VALUE=DATE:20131212
SUMMARY:ICDM 2013
DESCRIPTION:IEEE International Conference on Data Mining 
URL:http://www.wikicfp.com/cfp/servlet/event.showcfp?eventid=28503&copyow
 nerid=49810
UID:cfp350677-E@wikicfp.com
END:VEVENT
BEGIN:VEVENT
DTSTAMP:20260423T133545Z
DTSTART;VALUE=DATE:20130621
SUMMARY:ICDM 2013 Deadline
DESCRIPTION:IEEE International Conference on Data Mining 
URL:http://www.wikicfp.com/cfp/servlet/event.showcfp?eventid=28503&copyow
 nerid=49810
UID:cfp350677-D@wikicfp.com
END:VEVENT
BEGIN:VEVENT
DTSTAMP:20260423T133545Z
DTSTART;VALUE=DATE:20130920
SUMMARY:ICDM 2013 Notification Due
DESCRIPTION:IEEE International Conference on Data Mining 
URL:http://www.wikicfp.com/cfp/servlet/event.showcfp?eventid=28503&copyow
 nerid=49810
UID:cfp350677-N@wikicfp.com
END:VEVENT
BEGIN:VEVENT
DTSTAMP:20260423T133545Z
DTSTART;VALUE=DATE:20131203
DTEND;VALUE=DATE:20131204
SUMMARY:PerCAM 2013
DESCRIPTION:3rd International Workshop on Pervasive and Context-Aware Mid
 dleware
URL:http://www.wikicfp.com/cfp/servlet/event.showcfp?eventid=30993&copyow
 nerid=49810
UID:cfp371222-E@wikicfp.com
END:VEVENT
BEGIN:VEVENT
DTSTAMP:20260423T133545Z
DTSTART;VALUE=DATE:20130901
SUMMARY:PerCAM 2013 Deadline
DESCRIPTION:3rd International Workshop on Pervasive and Context-Aware Mid
 dleware
URL:http://www.wikicfp.com/cfp/servlet/event.showcfp?eventid=30993&copyow
 nerid=49810
UID:cfp371222-D@wikicfp.com
END:VEVENT
BEGIN:VEVENT
DTSTAMP:20260423T133545Z
DTSTART;VALUE=DATE:20130920
SUMMARY:PerCAM 2013 Notification Due
DESCRIPTION:3rd International Workshop on Pervasive and Context-Aware Mid
 dleware
URL:http://www.wikicfp.com/cfp/servlet/event.showcfp?eventid=30993&copyow
 nerid=49810
UID:cfp371222-N@wikicfp.com
END:VEVENT
BEGIN:VEVENT
DTSTAMP:20260423T133545Z
DTSTART;VALUE=DATE:20130930
SUMMARY:PerCAM 2013 Final Version Due
DESCRIPTION:3rd International Workshop on Pervasive and Context-Aware Mid
 dleware
URL:http://www.wikicfp.com/cfp/servlet/event.showcfp?eventid=30993&copyow
 nerid=49810
UID:cfp371222-N@wikicfp.com
END:VEVENT
BEGIN:VEVENT
DTSTAMP:20260423T133545Z
DTSTART;VALUE=DATE:20141030
DTEND;VALUE=DATE:20141102
SUMMARY:IDA 2014
DESCRIPTION:The Thirteenth International Symposium on Intelligent Data An
 alysis 
URL:http://www.wikicfp.com/cfp/servlet/event.showcfp?eventid=34671&copyow
 nerid=49810
UID:cfp447806-E@wikicfp.com
END:VEVENT
BEGIN:VEVENT
DTSTAMP:20260423T133545Z
DTSTART;VALUE=DATE:20140523
SUMMARY:IDA 2014 Deadline
DESCRIPTION:The Thirteenth International Symposium on Intelligent Data An
 alysis 
URL:http://www.wikicfp.com/cfp/servlet/event.showcfp?eventid=34671&copyow
 nerid=49810
UID:cfp447806-D@wikicfp.com
END:VEVENT
BEGIN:VEVENT
DTSTAMP:20260423T133545Z
DTSTART;VALUE=DATE:20140718
SUMMARY:IDA 2014 Notification Due
DESCRIPTION:The Thirteenth International Symposium on Intelligent Data An
 alysis 
URL:http://www.wikicfp.com/cfp/servlet/event.showcfp?eventid=34671&copyow
 nerid=49810
UID:cfp447806-N@wikicfp.com
END:VEVENT
BEGIN:VEVENT
DTSTAMP:20260423T133545Z
DTSTART;VALUE=DATE:20140818
DTEND;VALUE=DATE:20140820
SUMMARY:AI4ALL 2014
DESCRIPTION:Workshop on Artificial Intelligence for Ambient Assisted Livi
 ng
URL:http://www.wikicfp.com/cfp/servlet/event.showcfp?eventid=36653&copyow
 nerid=49810
UID:cfp445636-E@wikicfp.com
END:VEVENT
BEGIN:VEVENT
DTSTAMP:20260423T133545Z
DTSTART;VALUE=DATE:20140525
SUMMARY:AI4ALL 2014 Deadline
DESCRIPTION:Workshop on Artificial Intelligence for Ambient Assisted Livi
 ng
URL:http://www.wikicfp.com/cfp/servlet/event.showcfp?eventid=36653&copyow
 nerid=49810
UID:cfp445636-D@wikicfp.com
END:VEVENT
BEGIN:VEVENT
DTSTAMP:20260423T133545Z
DTSTART;VALUE=DATE:20140623
SUMMARY:AI4ALL 2014 Notification Due
DESCRIPTION:Workshop on Artificial Intelligence for Ambient Assisted Livi
 ng
URL:http://www.wikicfp.com/cfp/servlet/event.showcfp?eventid=36653&copyow
 nerid=49810
UID:cfp445636-N@wikicfp.com
END:VEVENT
BEGIN:VEVENT
DTSTAMP:20260423T133545Z
DTSTART;VALUE=DATE:20140718
SUMMARY:AI4ALL 2014 Final Version Due
DESCRIPTION:Workshop on Artificial Intelligence for Ambient Assisted Livi
 ng
URL:http://www.wikicfp.com/cfp/servlet/event.showcfp?eventid=36653&copyow
 nerid=49810
UID:cfp445636-N@wikicfp.com
END:VEVENT
BEGIN:VEVENT
DTSTAMP:20260423T133545Z
DTSTART;VALUE=DATE:20141209
DTEND;VALUE=DATE:20141213
SUMMARY:SSCI 2014
DESCRIPTION:Special Session on Ambient Computational Intelligence
URL:http://www.wikicfp.com/cfp/servlet/event.showcfp?eventid=37887&copyow
 nerid=49810
UID:cfp445639-E@wikicfp.com
END:VEVENT
BEGIN:VEVENT
DTSTAMP:20260423T133545Z
DTSTART;VALUE=DATE:20140615
SUMMARY:SSCI 2014 Deadline
DESCRIPTION:Special Session on Ambient Computational Intelligence
URL:http://www.wikicfp.com/cfp/servlet/event.showcfp?eventid=37887&copyow
 nerid=49810
UID:cfp445639-D@wikicfp.com
END:VEVENT
BEGIN:VEVENT
DTSTAMP:20260423T133545Z
DTSTART;VALUE=DATE:20140905
SUMMARY:SSCI 2014 Notification Due
DESCRIPTION:Special Session on Ambient Computational Intelligence
URL:http://www.wikicfp.com/cfp/servlet/event.showcfp?eventid=37887&copyow
 nerid=49810
UID:cfp445639-N@wikicfp.com
END:VEVENT
BEGIN:VEVENT
DTSTAMP:20260423T133545Z
DTSTART;VALUE=DATE:20141005
SUMMARY:SSCI 2014 Final Version Due
DESCRIPTION:Special Session on Ambient Computational Intelligence
URL:http://www.wikicfp.com/cfp/servlet/event.showcfp?eventid=37887&copyow
 nerid=49810
UID:cfp445639-N@wikicfp.com
END:VEVENT
BEGIN:VEVENT
DTSTAMP:20260423T133545Z
DTSTART;VALUE=DATE:20140824
DTEND;VALUE=DATE:20140825
SUMMARY:IDEA 2014
DESCRIPTION:KDD 2014 Workshop on Interactive Data Exploration and Analysi
 s
URL:http://www.wikicfp.com/cfp/servlet/event.showcfp?eventid=38108&copyow
 nerid=49810
UID:cfp447807-E@wikicfp.com
END:VEVENT
BEGIN:VEVENT
DTSTAMP:20260423T133545Z
DTSTART;VALUE=DATE:20140620
SUMMARY:IDEA 2014 Deadline
DESCRIPTION:KDD 2014 Workshop on Interactive Data Exploration and Analysi
 s
URL:http://www.wikicfp.com/cfp/servlet/event.showcfp?eventid=38108&copyow
 nerid=49810
UID:cfp447807-D@wikicfp.com
END:VEVENT
BEGIN:VEVENT
DTSTAMP:20260423T133545Z
DTSTART;VALUE=DATE:20140707
SUMMARY:IDEA 2014 Notification Due
DESCRIPTION:KDD 2014 Workshop on Interactive Data Exploration and Analysi
 s
URL:http://www.wikicfp.com/cfp/servlet/event.showcfp?eventid=38108&copyow
 nerid=49810
UID:cfp447807-N@wikicfp.com
END:VEVENT
BEGIN:VEVENT
DTSTAMP:20260423T133545Z
DTSTART;VALUE=DATE:20140721
SUMMARY:IDEA 2014 Final Version Due
DESCRIPTION:KDD 2014 Workshop on Interactive Data Exploration and Analysi
 s
URL:http://www.wikicfp.com/cfp/servlet/event.showcfp?eventid=38108&copyow
 nerid=49810
UID:cfp447807-N@wikicfp.com
END:VEVENT
BEGIN:VEVENT
DTSTAMP:20260423T133545Z
DTSTART;VALUE=DATE:20141209
DTEND;VALUE=DATE:20141213
SUMMARY:UIC 2014
DESCRIPTION:The 11th IEEE International Conference on Ubiquitous Intellig
 ence and Computing
URL:http://www.wikicfp.com/cfp/servlet/event.showcfp?eventid=37980&copyow
 nerid=49810
UID:cfp447804-E@wikicfp.com
END:VEVENT
BEGIN:VEVENT
DTSTAMP:20260423T133545Z
DTSTART;VALUE=DATE:20140731
SUMMARY:UIC 2014 Deadline
DESCRIPTION:The 11th IEEE International Conference on Ubiquitous Intellig
 ence and Computing
URL:http://www.wikicfp.com/cfp/servlet/event.showcfp?eventid=37980&copyow
 nerid=49810
UID:cfp447804-D@wikicfp.com
END:VEVENT
BEGIN:VEVENT
DTSTAMP:20260423T133545Z
DTSTART;VALUE=DATE:20140930
SUMMARY:UIC 2014 Notification Due
DESCRIPTION:The 11th IEEE International Conference on Ubiquitous Intellig
 ence and Computing
URL:http://www.wikicfp.com/cfp/servlet/event.showcfp?eventid=37980&copyow
 nerid=49810
UID:cfp447804-N@wikicfp.com
END:VEVENT
BEGIN:VEVENT
DTSTAMP:20260423T133545Z
DTSTART;VALUE=DATE:20141020
SUMMARY:UIC 2014 Final Version Due
DESCRIPTION:The 11th IEEE International Conference on Ubiquitous Intellig
 ence and Computing
URL:http://www.wikicfp.com/cfp/servlet/event.showcfp?eventid=37980&copyow
 nerid=49810
UID:cfp447804-N@wikicfp.com
END:VEVENT
BEGIN:VEVENT
DTSTAMP:20260423T133545Z
DTSTART;VALUE=DATE:20140901
SUMMARY:IEEE Intelligent Systems 2014 Deadline
DESCRIPTION:IEEE Intelligent Systems - Special Issue on Ambient Assisted 
 Living and Robotics
URL:http://www.wikicfp.com/cfp/servlet/event.showcfp?eventid=36280&copyow
 nerid=49810
UID:cfp445637-D@wikicfp.com
END:VEVENT
END:VCALENDAR
