BEGIN:VCALENDAR
PRODID:-//WikiCFP//khuloud 1.0//EN
VERSION:2.0
CALSCALE:GREGORIAN
BEGIN:VEVENT
DTSTAMP:20260421T072647Z
DTSTART;VALUE=DATE:20180521
DTEND;VALUE=DATE:20180525
SUMMARY:PervasiveHealth  2018
DESCRIPTION:International Conference on Pervasive Computing Technologies 
 for Healthcare
URL:http://www.wikicfp.com/cfp/servlet/event.showcfp?eventid=69484&copyow
 nerid=49065
UID:cfp702194-E@wikicfp.com
END:VEVENT
BEGIN:VEVENT
DTSTAMP:20260421T072647Z
DTSTART;VALUE=DATE:20180126
SUMMARY:PervasiveHealth  2018 Deadline
DESCRIPTION:International Conference on Pervasive Computing Technologies 
 for Healthcare
URL:http://www.wikicfp.com/cfp/servlet/event.showcfp?eventid=69484&copyow
 nerid=49065
UID:cfp702194-D@wikicfp.com
END:VEVENT
BEGIN:VEVENT
DTSTAMP:20260421T072647Z
DTSTART;VALUE=DATE:20180318
SUMMARY:PervasiveHealth  2018 Notification Due
DESCRIPTION:International Conference on Pervasive Computing Technologies 
 for Healthcare
URL:http://www.wikicfp.com/cfp/servlet/event.showcfp?eventid=69484&copyow
 nerid=49065
UID:cfp702194-N@wikicfp.com
END:VEVENT
BEGIN:VEVENT
DTSTAMP:20260421T072647Z
DTSTART;VALUE=DATE:20180330
SUMMARY:PervasiveHealth  2018 Final Version Due
DESCRIPTION:International Conference on Pervasive Computing Technologies 
 for Healthcare
URL:http://www.wikicfp.com/cfp/servlet/event.showcfp?eventid=69484&copyow
 nerid=49065
UID:cfp702194-N@wikicfp.com
END:VEVENT
BEGIN:VEVENT
DTSTAMP:20260421T072647Z
DTSTART;VALUE=DATE:20180618
DTEND;VALUE=DATE:20180622
SUMMARY:IEEE CBMS 2018
DESCRIPTION:31st Symposium of the IEEE Computer-Based Medical Systems
URL:http://www.wikicfp.com/cfp/servlet/event.showcfp?eventid=71158&copyow
 nerid=49065
UID:cfp702196-E@wikicfp.com
END:VEVENT
BEGIN:VEVENT
DTSTAMP:20260421T072647Z
DTSTART;VALUE=DATE:20180205
SUMMARY:IEEE CBMS 2018 Abstract Due
DESCRIPTION:31st Symposium of the IEEE Computer-Based Medical Systems
URL:http://www.wikicfp.com/cfp/servlet/event.showcfp?eventid=71158&copyow
 nerid=49065
UID:cfp702196-A@wikicfp.com
END:VEVENT
BEGIN:VEVENT
DTSTAMP:20260421T072647Z
DTSTART;VALUE=DATE:20180219
SUMMARY:IEEE CBMS 2018 Deadline
DESCRIPTION:31st Symposium of the IEEE Computer-Based Medical Systems
URL:http://www.wikicfp.com/cfp/servlet/event.showcfp?eventid=71158&copyow
 nerid=49065
UID:cfp702196-D@wikicfp.com
END:VEVENT
BEGIN:VEVENT
DTSTAMP:20260421T072647Z
DTSTART;VALUE=DATE:20180425
SUMMARY:IEEE CBMS 2018 Notification Due
DESCRIPTION:31st Symposium of the IEEE Computer-Based Medical Systems
URL:http://www.wikicfp.com/cfp/servlet/event.showcfp?eventid=71158&copyow
 nerid=49065
UID:cfp702196-N@wikicfp.com
END:VEVENT
BEGIN:VEVENT
DTSTAMP:20260421T072647Z
DTSTART;VALUE=DATE:20180507
SUMMARY:IEEE CBMS 2018 Final Version Due
DESCRIPTION:31st Symposium of the IEEE Computer-Based Medical Systems
URL:http://www.wikicfp.com/cfp/servlet/event.showcfp?eventid=71158&copyow
 nerid=49065
UID:cfp702196-N@wikicfp.com
END:VEVENT
END:VCALENDAR
