BEGIN:VCALENDAR
PRODID:-//WikiCFP//veeresh 1.0//EN
VERSION:2.0
CALSCALE:GREGORIAN
BEGIN:VEVENT
DTSTAMP:20260423T031816Z
DTSTART;VALUE=DATE:20111031
SUMMARY:ICMFII 2011 Deadline
DESCRIPTION:Multiple Criteria Decision Making in Finance
URL:http://www.wikicfp.com/cfp/servlet/event.showcfp?eventid=18750&copyow
 nerid=49038
UID:cfp345644-D@wikicfp.com
END:VEVENT
END:VCALENDAR
