BEGIN:VCALENDAR
PRODID:-//WikiCFP//kskulwad 1.0//EN
VERSION:2.0
CALSCALE:GREGORIAN
BEGIN:VEVENT
DTSTAMP:20260422T134452Z
DTSTART;VALUE=DATE:20130920
DTEND;VALUE=DATE:20130923
SUMMARY:InCoB 2013
DESCRIPTION:12th International Conference on Bioinformatics
URL:http://www.wikicfp.com/cfp/servlet/event.showcfp?eventid=28877&copyow
 nerid=48914
UID:cfp344975-E@wikicfp.com
END:VEVENT
BEGIN:VEVENT
DTSTAMP:20260422T134452Z
DTSTART;VALUE=DATE:20130331
SUMMARY:InCoB 2013 Deadline
DESCRIPTION:12th International Conference on Bioinformatics
URL:http://www.wikicfp.com/cfp/servlet/event.showcfp?eventid=28877&copyow
 nerid=48914
UID:cfp344975-D@wikicfp.com
END:VEVENT
BEGIN:VEVENT
DTSTAMP:20260422T134452Z
DTSTART;VALUE=DATE:20130531
SUMMARY:InCoB 2013 Notification Due
DESCRIPTION:12th International Conference on Bioinformatics
URL:http://www.wikicfp.com/cfp/servlet/event.showcfp?eventid=28877&copyow
 nerid=48914
UID:cfp344975-N@wikicfp.com
END:VEVENT
BEGIN:VEVENT
DTSTAMP:20260422T134452Z
DTSTART;VALUE=DATE:20130520
DTEND;VALUE=DATE:20130523
SUMMARY:ISBRA 2013
DESCRIPTION:International Symposium on Bioinformatics Research and Applic
 ations
URL:http://www.wikicfp.com/cfp/servlet/event.showcfp?eventid=29626&copyow
 nerid=48914
UID:cfp344973-E@wikicfp.com
END:VEVENT
BEGIN:VEVENT
DTSTAMP:20260422T134452Z
DTSTART;VALUE=DATE:20130401
SUMMARY:ISBRA 2013 Deadline
DESCRIPTION:International Symposium on Bioinformatics Research and Applic
 ations
URL:http://www.wikicfp.com/cfp/servlet/event.showcfp?eventid=29626&copyow
 nerid=48914
UID:cfp344973-D@wikicfp.com
END:VEVENT
BEGIN:VEVENT
DTSTAMP:20260422T134452Z
DTSTART;VALUE=DATE:20130415
SUMMARY:ISBRA 2013 Notification Due
DESCRIPTION:International Symposium on Bioinformatics Research and Applic
 ations
URL:http://www.wikicfp.com/cfp/servlet/event.showcfp?eventid=29626&copyow
 nerid=48914
UID:cfp344973-N@wikicfp.com
END:VEVENT
BEGIN:VEVENT
DTSTAMP:20260422T134452Z
DTSTART;VALUE=DATE:20130422
SUMMARY:ISBRA 2013 Final Version Due
DESCRIPTION:International Symposium on Bioinformatics Research and Applic
 ations
URL:http://www.wikicfp.com/cfp/servlet/event.showcfp?eventid=29626&copyow
 nerid=48914
UID:cfp344973-N@wikicfp.com
END:VEVENT
BEGIN:VEVENT
DTSTAMP:20260422T134452Z
DTSTART;VALUE=DATE:20131202
DTEND;VALUE=DATE:20131206
SUMMARY: APSEC 2013
DESCRIPTION:Asia-Pacific Software Engineering Conference
URL:http://www.wikicfp.com/cfp/servlet/event.showcfp?eventid=29358&copyow
 nerid=48914
UID:cfp344974-E@wikicfp.com
END:VEVENT
BEGIN:VEVENT
DTSTAMP:20260422T134452Z
DTSTART;VALUE=DATE:20130618
SUMMARY: APSEC 2013 Deadline
DESCRIPTION:Asia-Pacific Software Engineering Conference
URL:http://www.wikicfp.com/cfp/servlet/event.showcfp?eventid=29358&copyow
 nerid=48914
UID:cfp344974-D@wikicfp.com
END:VEVENT
BEGIN:VEVENT
DTSTAMP:20260422T134452Z
DTSTART;VALUE=DATE:20130830
SUMMARY: APSEC 2013 Notification Due
DESCRIPTION:Asia-Pacific Software Engineering Conference
URL:http://www.wikicfp.com/cfp/servlet/event.showcfp?eventid=29358&copyow
 nerid=48914
UID:cfp344974-N@wikicfp.com
END:VEVENT
BEGIN:VEVENT
DTSTAMP:20260422T134452Z
DTSTART;VALUE=DATE:20131012
SUMMARY: APSEC 2013 Final Version Due
DESCRIPTION:Asia-Pacific Software Engineering Conference
URL:http://www.wikicfp.com/cfp/servlet/event.showcfp?eventid=29358&copyow
 nerid=48914
UID:cfp344974-N@wikicfp.com
END:VEVENT
END:VCALENDAR
