BEGIN:VCALENDAR
PRODID:-//WikiCFP//biloubalabilou 1.0//EN
VERSION:2.0
CALSCALE:GREGORIAN
BEGIN:VEVENT
DTSTAMP:20260420T055246Z
DTSTART;VALUE=DATE:20130911
DTEND;VALUE=DATE:20130914
SUMMARY:ICIAP 2013
DESCRIPTION:The International Conference on Image Analysis and Processing
 
URL:http://www.wikicfp.com/cfp/servlet/event.showcfp?eventid=26129&copyow
 nerid=48808
UID:cfp344407-E@wikicfp.com
END:VEVENT
BEGIN:VEVENT
DTSTAMP:20260420T055246Z
DTSTART;VALUE=DATE:20130329
SUMMARY:ICIAP 2013 Deadline
DESCRIPTION:The International Conference on Image Analysis and Processing
 
URL:http://www.wikicfp.com/cfp/servlet/event.showcfp?eventid=26129&copyow
 nerid=48808
UID:cfp344407-D@wikicfp.com
END:VEVENT
BEGIN:VEVENT
DTSTAMP:20260420T055246Z
DTSTART;VALUE=DATE:20130510
SUMMARY:ICIAP 2013 Notification Due
DESCRIPTION:The International Conference on Image Analysis and Processing
 
URL:http://www.wikicfp.com/cfp/servlet/event.showcfp?eventid=26129&copyow
 nerid=48808
UID:cfp344407-N@wikicfp.com
END:VEVENT
BEGIN:VEVENT
DTSTAMP:20260420T055246Z
DTSTART;VALUE=DATE:20130610
SUMMARY:ICIAP 2013 Final Version Due
DESCRIPTION:The International Conference on Image Analysis and Processing
 
URL:http://www.wikicfp.com/cfp/servlet/event.showcfp?eventid=26129&copyow
 nerid=48808
UID:cfp344407-N@wikicfp.com
END:VEVENT
BEGIN:VEVENT
DTSTAMP:20260420T055246Z
DTSTART;VALUE=DATE:20130903
DTEND;VALUE=DATE:20130907
SUMMARY:GCPR 2013
DESCRIPTION:35th Annual Pattern Recognition Symposium
URL:http://www.wikicfp.com/cfp/servlet/event.showcfp?eventid=26478&copyow
 nerid=48808
UID:cfp344409-E@wikicfp.com
END:VEVENT
BEGIN:VEVENT
DTSTAMP:20260420T055246Z
DTSTART;VALUE=DATE:20130419
SUMMARY:GCPR 2013 Deadline
DESCRIPTION:35th Annual Pattern Recognition Symposium
URL:http://www.wikicfp.com/cfp/servlet/event.showcfp?eventid=26478&copyow
 nerid=48808
UID:cfp344409-D@wikicfp.com
END:VEVENT
BEGIN:VEVENT
DTSTAMP:20260420T055246Z
DTSTART;VALUE=DATE:20131028
DTEND;VALUE=DATE:20131101
SUMMARY:ACIVS 2013
DESCRIPTION:Advanced Concepts for Intelligent Vision Systems
URL:http://www.wikicfp.com/cfp/servlet/event.showcfp?eventid=29177&copyow
 nerid=48808
UID:cfp344411-E@wikicfp.com
END:VEVENT
BEGIN:VEVENT
DTSTAMP:20260420T055246Z
DTSTART;VALUE=DATE:20130525
SUMMARY:ACIVS 2013 Deadline
DESCRIPTION:Advanced Concepts for Intelligent Vision Systems
URL:http://www.wikicfp.com/cfp/servlet/event.showcfp?eventid=29177&copyow
 nerid=48808
UID:cfp344411-D@wikicfp.com
END:VEVENT
BEGIN:VEVENT
DTSTAMP:20260420T055246Z
DTSTART;VALUE=DATE:20130701
SUMMARY:ACIVS 2013 Notification Due
DESCRIPTION:Advanced Concepts for Intelligent Vision Systems
URL:http://www.wikicfp.com/cfp/servlet/event.showcfp?eventid=29177&copyow
 nerid=48808
UID:cfp344411-N@wikicfp.com
END:VEVENT
BEGIN:VEVENT
DTSTAMP:20260420T055246Z
DTSTART;VALUE=DATE:20130719
SUMMARY:ACIVS 2013 Final Version Due
DESCRIPTION:Advanced Concepts for Intelligent Vision Systems
URL:http://www.wikicfp.com/cfp/servlet/event.showcfp?eventid=29177&copyow
 nerid=48808
UID:cfp344411-N@wikicfp.com
END:VEVENT
BEGIN:VEVENT
DTSTAMP:20260420T055246Z
DTSTART;VALUE=DATE:20131028
DTEND;VALUE=DATE:20131102
SUMMARY:PSIVT 2013
DESCRIPTION:The Sixth Pacific-Rim Symposium on Image and Video Technology
  
URL:http://www.wikicfp.com/cfp/servlet/event.showcfp?eventid=24922&copyow
 nerid=48808
UID:cfp344408-E@wikicfp.com
END:VEVENT
BEGIN:VEVENT
DTSTAMP:20260420T055246Z
DTSTART;VALUE=DATE:20130629
SUMMARY:PSIVT 2013 Deadline
DESCRIPTION:The Sixth Pacific-Rim Symposium on Image and Video Technology
  
URL:http://www.wikicfp.com/cfp/servlet/event.showcfp?eventid=24922&copyow
 nerid=48808
UID:cfp344408-D@wikicfp.com
END:VEVENT
BEGIN:VEVENT
DTSTAMP:20260420T055246Z
DTSTART;VALUE=DATE:20130814
SUMMARY:PSIVT 2013 Notification Due
DESCRIPTION:The Sixth Pacific-Rim Symposium on Image and Video Technology
  
URL:http://www.wikicfp.com/cfp/servlet/event.showcfp?eventid=24922&copyow
 nerid=48808
UID:cfp344408-N@wikicfp.com
END:VEVENT
BEGIN:VEVENT
DTSTAMP:20260420T055246Z
DTSTART;VALUE=DATE:20130925
SUMMARY:PSIVT 2013 Final Version Due
DESCRIPTION:The Sixth Pacific-Rim Symposium on Image and Video Technology
  
URL:http://www.wikicfp.com/cfp/servlet/event.showcfp?eventid=24922&copyow
 nerid=48808
UID:cfp344408-N@wikicfp.com
END:VEVENT
BEGIN:VEVENT
DTSTAMP:20260420T055246Z
DTSTART;VALUE=DATE:20131120
DTEND;VALUE=DATE:20131124
SUMMARY:CIARP 2013
DESCRIPTION:18th Iberoamerican Congress on Pattern Recognition CIARP 2013
 
URL:http://www.wikicfp.com/cfp/servlet/event.showcfp?eventid=25136&copyow
 nerid=48808
UID:cfp344410-E@wikicfp.com
END:VEVENT
BEGIN:VEVENT
DTSTAMP:20260420T055246Z
DTSTART;VALUE=DATE:20130901
SUMMARY:CIARP 2013 Abstract Due
DESCRIPTION:18th Iberoamerican Congress on Pattern Recognition CIARP 2013
 
URL:http://www.wikicfp.com/cfp/servlet/event.showcfp?eventid=25136&copyow
 nerid=48808
UID:cfp344410-A@wikicfp.com
END:VEVENT
BEGIN:VEVENT
DTSTAMP:20260420T055246Z
DTSTART;VALUE=DATE:20130629
SUMMARY:CIARP 2013 Deadline
DESCRIPTION:18th Iberoamerican Congress on Pattern Recognition CIARP 2013
 
URL:http://www.wikicfp.com/cfp/servlet/event.showcfp?eventid=25136&copyow
 nerid=48808
UID:cfp344410-D@wikicfp.com
END:VEVENT
BEGIN:VEVENT
DTSTAMP:20260420T055246Z
DTSTART;VALUE=DATE:20130731
SUMMARY:CIARP 2013 Notification Due
DESCRIPTION:18th Iberoamerican Congress on Pattern Recognition CIARP 2013
 
URL:http://www.wikicfp.com/cfp/servlet/event.showcfp?eventid=25136&copyow
 nerid=48808
UID:cfp344410-N@wikicfp.com
END:VEVENT
BEGIN:VEVENT
DTSTAMP:20260420T055246Z
DTSTART;VALUE=DATE:20130901
SUMMARY:CIARP 2013 Final Version Due
DESCRIPTION:18th Iberoamerican Congress on Pattern Recognition CIARP 2013
 
URL:http://www.wikicfp.com/cfp/servlet/event.showcfp?eventid=25136&copyow
 nerid=48808
UID:cfp344410-N@wikicfp.com
END:VEVENT
END:VCALENDAR
