BEGIN:VCALENDAR
PRODID:-//WikiCFP//selvakumar 1.0//EN
VERSION:2.0
CALSCALE:GREGORIAN
BEGIN:VEVENT
DTSTAMP:20260420T232944Z
DTSTART;VALUE=DATE:20100206
DTEND;VALUE=DATE:20100211
SUMMARY:CSCW 2010
DESCRIPTION:The 2010 ACM Conference on Computer Supported Cooperative Wor
 k
URL:http://www.wikicfp.com/cfp/servlet/event.showcfp?eventid=4695&copyown
 erid=4875
UID:cfp38092-E@wikicfp.com
END:VEVENT
BEGIN:VEVENT
DTSTAMP:20260420T232944Z
DTSTART;VALUE=DATE:20090601
SUMMARY:CSCW 2010 Deadline
DESCRIPTION:The 2010 ACM Conference on Computer Supported Cooperative Wor
 k
URL:http://www.wikicfp.com/cfp/servlet/event.showcfp?eventid=4695&copyown
 erid=4875
UID:cfp38092-D@wikicfp.com
END:VEVENT
BEGIN:VEVENT
DTSTAMP:20260420T232944Z
DTSTART;VALUE=DATE:20090731
SUMMARY:CSCW 2010 Notification Due
DESCRIPTION:The 2010 ACM Conference on Computer Supported Cooperative Wor
 k
URL:http://www.wikicfp.com/cfp/servlet/event.showcfp?eventid=4695&copyown
 erid=4875
UID:cfp38092-N@wikicfp.com
END:VEVENT
BEGIN:VEVENT
DTSTAMP:20260420T232944Z
DTSTART;VALUE=DATE:20091017
DTEND;VALUE=DATE:20091019
SUMMARY:Internetware 2009
DESCRIPTION:First Asia-Pacific Symposium on Internetware
URL:http://www.wikicfp.com/cfp/servlet/event.showcfp?eventid=5392&copyown
 erid=4875
UID:cfp38103-E@wikicfp.com
END:VEVENT
BEGIN:VEVENT
DTSTAMP:20260420T232944Z
DTSTART;VALUE=DATE:20090601
SUMMARY:Internetware 2009 Deadline
DESCRIPTION:First Asia-Pacific Symposium on Internetware
URL:http://www.wikicfp.com/cfp/servlet/event.showcfp?eventid=5392&copyown
 erid=4875
UID:cfp38103-D@wikicfp.com
END:VEVENT
BEGIN:VEVENT
DTSTAMP:20260420T232944Z
DTSTART;VALUE=DATE:20090701
SUMMARY:Internetware 2009 Notification Due
DESCRIPTION:First Asia-Pacific Symposium on Internetware
URL:http://www.wikicfp.com/cfp/servlet/event.showcfp?eventid=5392&copyown
 erid=4875
UID:cfp38103-N@wikicfp.com
END:VEVENT
BEGIN:VEVENT
DTSTAMP:20260420T232944Z
DTSTART;VALUE=DATE:20090801
SUMMARY:Internetware 2009 Final Version Due
DESCRIPTION:First Asia-Pacific Symposium on Internetware
URL:http://www.wikicfp.com/cfp/servlet/event.showcfp?eventid=5392&copyown
 erid=4875
UID:cfp38103-N@wikicfp.com
END:VEVENT
BEGIN:VEVENT
DTSTAMP:20260420T232944Z
DTSTART;VALUE=DATE:20090824
DTEND;VALUE=DATE:20090825
SUMMARY:IWOCE 2009
DESCRIPTION:International Workshop on Open Component Ecosystems
URL:http://www.wikicfp.com/cfp/servlet/event.showcfp?eventid=5375&copyown
 erid=4875
UID:cfp38101-E@wikicfp.com
END:VEVENT
BEGIN:VEVENT
DTSTAMP:20260420T232944Z
DTSTART;VALUE=DATE:20090603
SUMMARY:IWOCE 2009 Deadline
DESCRIPTION:International Workshop on Open Component Ecosystems
URL:http://www.wikicfp.com/cfp/servlet/event.showcfp?eventid=5375&copyown
 erid=4875
UID:cfp38101-D@wikicfp.com
END:VEVENT
BEGIN:VEVENT
DTSTAMP:20260420T232944Z
DTSTART;VALUE=DATE:20090620
SUMMARY:IWOCE 2009 Notification Due
DESCRIPTION:International Workshop on Open Component Ecosystems
URL:http://www.wikicfp.com/cfp/servlet/event.showcfp?eventid=5375&copyown
 erid=4875
UID:cfp38101-N@wikicfp.com
END:VEVENT
BEGIN:VEVENT
DTSTAMP:20260420T232944Z
DTSTART;VALUE=DATE:20090626
SUMMARY:IWOCE 2009 Final Version Due
DESCRIPTION:International Workshop on Open Component Ecosystems
URL:http://www.wikicfp.com/cfp/servlet/event.showcfp?eventid=5375&copyown
 erid=4875
UID:cfp38101-N@wikicfp.com
END:VEVENT
BEGIN:VEVENT
DTSTAMP:20260420T232944Z
DTSTART;VALUE=DATE:20090824
DTEND;VALUE=DATE:20090825
SUMMARY:MAPLE 2009
DESCRIPTION:1st International Workshop on Model-driven Approaches in Soft
 ware Product Line Engineering
URL:http://www.wikicfp.com/cfp/servlet/event.showcfp?eventid=5279&copyown
 erid=4875
UID:cfp38097-E@wikicfp.com
END:VEVENT
BEGIN:VEVENT
DTSTAMP:20260420T232944Z
DTSTART;VALUE=DATE:20090605
SUMMARY:MAPLE 2009 Deadline
DESCRIPTION:1st International Workshop on Model-driven Approaches in Soft
 ware Product Line Engineering
URL:http://www.wikicfp.com/cfp/servlet/event.showcfp?eventid=5279&copyown
 erid=4875
UID:cfp38097-D@wikicfp.com
END:VEVENT
BEGIN:VEVENT
DTSTAMP:20260420T232944Z
DTSTART;VALUE=DATE:20090619
SUMMARY:MAPLE 2009 Notification Due
DESCRIPTION:1st International Workshop on Model-driven Approaches in Soft
 ware Product Line Engineering
URL:http://www.wikicfp.com/cfp/servlet/event.showcfp?eventid=5279&copyown
 erid=4875
UID:cfp38097-N@wikicfp.com
END:VEVENT
BEGIN:VEVENT
DTSTAMP:20260420T232944Z
DTSTART;VALUE=DATE:20090701
SUMMARY:MAPLE 2009 Final Version Due
DESCRIPTION:1st International Workshop on Model-driven Approaches in Soft
 ware Product Line Engineering
URL:http://www.wikicfp.com/cfp/servlet/event.showcfp?eventid=5279&copyown
 erid=4875
UID:cfp38097-N@wikicfp.com
END:VEVENT
BEGIN:VEVENT
DTSTAMP:20260420T232944Z
DTSTART;VALUE=DATE:20090825
DTEND;VALUE=DATE:20090826
SUMMARY:MESPUL 2009
DESCRIPTION:Third International Workshop on Management and Economics of  
 Software Product Lines
URL:http://www.wikicfp.com/cfp/servlet/event.showcfp?eventid=5402&copyown
 erid=4875
UID:cfp38104-E@wikicfp.com
END:VEVENT
BEGIN:VEVENT
DTSTAMP:20260420T232944Z
DTSTART;VALUE=DATE:20090605
SUMMARY:MESPUL 2009 Deadline
DESCRIPTION:Third International Workshop on Management and Economics of  
 Software Product Lines
URL:http://www.wikicfp.com/cfp/servlet/event.showcfp?eventid=5402&copyown
 erid=4875
UID:cfp38104-D@wikicfp.com
END:VEVENT
BEGIN:VEVENT
DTSTAMP:20260420T232944Z
DTSTART;VALUE=DATE:20090615
SUMMARY:MESPUL 2009 Notification Due
DESCRIPTION:Third International Workshop on Management and Economics of  
 Software Product Lines
URL:http://www.wikicfp.com/cfp/servlet/event.showcfp?eventid=5402&copyown
 erid=4875
UID:cfp38104-N@wikicfp.com
END:VEVENT
BEGIN:VEVENT
DTSTAMP:20260420T232944Z
DTSTART;VALUE=DATE:20090701
SUMMARY:MESPUL 2009 Final Version Due
DESCRIPTION:Third International Workshop on Management and Economics of  
 Software Product Lines
URL:http://www.wikicfp.com/cfp/servlet/event.showcfp?eventid=5402&copyown
 erid=4875
UID:cfp38104-N@wikicfp.com
END:VEVENT
BEGIN:VEVENT
DTSTAMP:20260420T232944Z
DTSTART;VALUE=DATE:20090824
DTEND;VALUE=DATE:20090829
SUMMARY:ViSPLE 2009
DESCRIPTION:3rd International Workshop on Visualisation in Software Produ
 ct Line Engineering
URL:http://www.wikicfp.com/cfp/servlet/event.showcfp?eventid=5423&copyown
 erid=4875
UID:cfp38107-E@wikicfp.com
END:VEVENT
BEGIN:VEVENT
DTSTAMP:20260420T232944Z
DTSTART;VALUE=DATE:20090605
SUMMARY:ViSPLE 2009 Deadline
DESCRIPTION:3rd International Workshop on Visualisation in Software Produ
 ct Line Engineering
URL:http://www.wikicfp.com/cfp/servlet/event.showcfp?eventid=5423&copyown
 erid=4875
UID:cfp38107-D@wikicfp.com
END:VEVENT
BEGIN:VEVENT
DTSTAMP:20260420T232944Z
DTSTART;VALUE=DATE:20090619
SUMMARY:ViSPLE 2009 Notification Due
DESCRIPTION:3rd International Workshop on Visualisation in Software Produ
 ct Line Engineering
URL:http://www.wikicfp.com/cfp/servlet/event.showcfp?eventid=5423&copyown
 erid=4875
UID:cfp38107-N@wikicfp.com
END:VEVENT
BEGIN:VEVENT
DTSTAMP:20260420T232944Z
DTSTART;VALUE=DATE:20090701
SUMMARY:ViSPLE 2009 Final Version Due
DESCRIPTION:3rd International Workshop on Visualisation in Software Produ
 ct Line Engineering
URL:http://www.wikicfp.com/cfp/servlet/event.showcfp?eventid=5423&copyown
 erid=4875
UID:cfp38107-N@wikicfp.com
END:VEVENT
BEGIN:VEVENT
DTSTAMP:20260420T232944Z
DTSTART;VALUE=DATE:20090924
DTEND;VALUE=DATE:20090925
SUMMARY:VforP 2009
DESCRIPTION:1st International Workshop on Visual formalisms for patterns
URL:http://www.wikicfp.com/cfp/servlet/event.showcfp?eventid=5383&copyown
 erid=4875
UID:cfp38102-E@wikicfp.com
END:VEVENT
BEGIN:VEVENT
DTSTAMP:20260420T232944Z
DTSTART;VALUE=DATE:20090607
SUMMARY:VforP 2009 Deadline
DESCRIPTION:1st International Workshop on Visual formalisms for patterns
URL:http://www.wikicfp.com/cfp/servlet/event.showcfp?eventid=5383&copyown
 erid=4875
UID:cfp38102-D@wikicfp.com
END:VEVENT
BEGIN:VEVENT
DTSTAMP:20260420T232944Z
DTSTART;VALUE=DATE:20090708
SUMMARY:VforP 2009 Notification Due
DESCRIPTION:1st International Workshop on Visual formalisms for patterns
URL:http://www.wikicfp.com/cfp/servlet/event.showcfp?eventid=5383&copyown
 erid=4875
UID:cfp38102-N@wikicfp.com
END:VEVENT
BEGIN:VEVENT
DTSTAMP:20260420T232944Z
DTSTART;VALUE=DATE:20090730
SUMMARY:VforP 2009 Final Version Due
DESCRIPTION:1st International Workshop on Visual formalisms for patterns
URL:http://www.wikicfp.com/cfp/servlet/event.showcfp?eventid=5383&copyown
 erid=4875
UID:cfp38102-N@wikicfp.com
END:VEVENT
BEGIN:VEVENT
DTSTAMP:20260420T232944Z
DTSTART;VALUE=DATE:20090915
DTEND;VALUE=DATE:20090916
SUMMARY:KESE 2009
DESCRIPTION: 5th Workshop on Knowledge Engineering and Software Engineeri
 ng at the 32nd German Conference on Artificial Intelligence
URL:http://www.wikicfp.com/cfp/servlet/event.showcfp?eventid=4951&copyown
 erid=4875
UID:cfp38094-E@wikicfp.com
END:VEVENT
BEGIN:VEVENT
DTSTAMP:20260420T232944Z
DTSTART;VALUE=DATE:20090608
SUMMARY:KESE 2009 Deadline
DESCRIPTION: 5th Workshop on Knowledge Engineering and Software Engineeri
 ng at the 32nd German Conference on Artificial Intelligence
URL:http://www.wikicfp.com/cfp/servlet/event.showcfp?eventid=4951&copyown
 erid=4875
UID:cfp38094-D@wikicfp.com
END:VEVENT
BEGIN:VEVENT
DTSTAMP:20260420T232944Z
DTSTART;VALUE=DATE:20090708
SUMMARY:KESE 2009 Notification Due
DESCRIPTION: 5th Workshop on Knowledge Engineering and Software Engineeri
 ng at the 32nd German Conference on Artificial Intelligence
URL:http://www.wikicfp.com/cfp/servlet/event.showcfp?eventid=4951&copyown
 erid=4875
UID:cfp38094-N@wikicfp.com
END:VEVENT
BEGIN:VEVENT
DTSTAMP:20260420T232944Z
DTSTART;VALUE=DATE:20110308
SUMMARY:KESE 2009 Final Version Due
DESCRIPTION: 5th Workshop on Knowledge Engineering and Software Engineeri
 ng at the 32nd German Conference on Artificial Intelligence
URL:http://www.wikicfp.com/cfp/servlet/event.showcfp?eventid=4951&copyown
 erid=4875
UID:cfp38094-N@wikicfp.com
END:VEVENT
BEGIN:VEVENT
DTSTAMP:20260420T232944Z
DTSTART;VALUE=DATE:20091124
DTEND;VALUE=DATE:20091128
SUMMARY:ICSOC 2009
DESCRIPTION:7th International Conference on Service Oriented Computing
URL:http://www.wikicfp.com/cfp/servlet/event.showcfp?eventid=5230&copyown
 erid=4875
UID:cfp38096-E@wikicfp.com
END:VEVENT
BEGIN:VEVENT
DTSTAMP:20260420T232944Z
DTSTART;VALUE=DATE:20090608
SUMMARY:ICSOC 2009 Abstract Due
DESCRIPTION:7th International Conference on Service Oriented Computing
URL:http://www.wikicfp.com/cfp/servlet/event.showcfp?eventid=5230&copyown
 erid=4875
UID:cfp38096-A@wikicfp.com
END:VEVENT
BEGIN:VEVENT
DTSTAMP:20260420T232944Z
DTSTART;VALUE=DATE:20090615
SUMMARY:ICSOC 2009 Deadline
DESCRIPTION:7th International Conference on Service Oriented Computing
URL:http://www.wikicfp.com/cfp/servlet/event.showcfp?eventid=5230&copyown
 erid=4875
UID:cfp38096-D@wikicfp.com
END:VEVENT
BEGIN:VEVENT
DTSTAMP:20260420T232944Z
DTSTART;VALUE=DATE:20090731
SUMMARY:ICSOC 2009 Notification Due
DESCRIPTION:7th International Conference on Service Oriented Computing
URL:http://www.wikicfp.com/cfp/servlet/event.showcfp?eventid=5230&copyown
 erid=4875
UID:cfp38096-N@wikicfp.com
END:VEVENT
BEGIN:VEVENT
DTSTAMP:20260420T232944Z
DTSTART;VALUE=DATE:20100105
DTEND;VALUE=DATE:20100109
SUMMARY:OE-HICSS 2010
DESCRIPTION:HICSS-43 - Organizational Engineering Minitrack
URL:http://www.wikicfp.com/cfp/servlet/event.showcfp?eventid=5281&copyown
 erid=4875
UID:cfp38098-E@wikicfp.com
END:VEVENT
BEGIN:VEVENT
DTSTAMP:20260420T232944Z
DTSTART;VALUE=DATE:20090615
SUMMARY:OE-HICSS 2010 Deadline
DESCRIPTION:HICSS-43 - Organizational Engineering Minitrack
URL:http://www.wikicfp.com/cfp/servlet/event.showcfp?eventid=5281&copyown
 erid=4875
UID:cfp38098-D@wikicfp.com
END:VEVENT
BEGIN:VEVENT
DTSTAMP:20260420T232944Z
DTSTART;VALUE=DATE:20090815
SUMMARY:OE-HICSS 2010 Notification Due
DESCRIPTION:HICSS-43 - Organizational Engineering Minitrack
URL:http://www.wikicfp.com/cfp/servlet/event.showcfp?eventid=5281&copyown
 erid=4875
UID:cfp38098-N@wikicfp.com
END:VEVENT
BEGIN:VEVENT
DTSTAMP:20260420T232944Z
DTSTART;VALUE=DATE:20090915
SUMMARY:OE-HICSS 2010 Final Version Due
DESCRIPTION:HICSS-43 - Organizational Engineering Minitrack
URL:http://www.wikicfp.com/cfp/servlet/event.showcfp?eventid=5281&copyown
 erid=4875
UID:cfp38098-N@wikicfp.com
END:VEVENT
BEGIN:VEVENT
DTSTAMP:20260420T232944Z
DTSTART;VALUE=DATE:20091228
DTEND;VALUE=DATE:20091231
SUMMARY:ICISSE 2009
DESCRIPTION:1st International Conference on Information Systems & Softwar
 e Engineering
URL:http://www.wikicfp.com/cfp/servlet/event.showcfp?eventid=5370&copyown
 erid=4875
UID:cfp38100-E@wikicfp.com
END:VEVENT
BEGIN:VEVENT
DTSTAMP:20260420T232944Z
DTSTART;VALUE=DATE:20090615
SUMMARY:ICISSE 2009 Deadline
DESCRIPTION:1st International Conference on Information Systems & Softwar
 e Engineering
URL:http://www.wikicfp.com/cfp/servlet/event.showcfp?eventid=5370&copyown
 erid=4875
UID:cfp38100-D@wikicfp.com
END:VEVENT
BEGIN:VEVENT
DTSTAMP:20260420T232944Z
DTSTART;VALUE=DATE:20090815
SUMMARY:ICISSE 2009 Notification Due
DESCRIPTION:1st International Conference on Information Systems & Softwar
 e Engineering
URL:http://www.wikicfp.com/cfp/servlet/event.showcfp?eventid=5370&copyown
 erid=4875
UID:cfp38100-N@wikicfp.com
END:VEVENT
BEGIN:VEVENT
DTSTAMP:20260420T232944Z
DTSTART;VALUE=DATE:20090915
SUMMARY:ICISSE 2009 Final Version Due
DESCRIPTION:1st International Conference on Information Systems & Softwar
 e Engineering
URL:http://www.wikicfp.com/cfp/servlet/event.showcfp?eventid=5370&copyown
 erid=4875
UID:cfp38100-N@wikicfp.com
END:VEVENT
BEGIN:VEVENT
DTSTAMP:20260420T232944Z
DTSTART;VALUE=DATE:20091102
DTEND;VALUE=DATE:20091104
SUMMARY:FACS 2009
DESCRIPTION:6th International Workshop on Formal Aspects of Component Sof
 tware
URL:http://www.wikicfp.com/cfp/servlet/event.showcfp?eventid=4923&copyown
 erid=4875
UID:cfp38093-E@wikicfp.com
END:VEVENT
BEGIN:VEVENT
DTSTAMP:20260420T232944Z
DTSTART;VALUE=DATE:20090612
SUMMARY:FACS 2009 Abstract Due
DESCRIPTION:6th International Workshop on Formal Aspects of Component Sof
 tware
URL:http://www.wikicfp.com/cfp/servlet/event.showcfp?eventid=4923&copyown
 erid=4875
UID:cfp38093-A@wikicfp.com
END:VEVENT
BEGIN:VEVENT
DTSTAMP:20260420T232944Z
DTSTART;VALUE=DATE:20090619
SUMMARY:FACS 2009 Deadline
DESCRIPTION:6th International Workshop on Formal Aspects of Component Sof
 tware
URL:http://www.wikicfp.com/cfp/servlet/event.showcfp?eventid=4923&copyown
 erid=4875
UID:cfp38093-D@wikicfp.com
END:VEVENT
BEGIN:VEVENT
DTSTAMP:20260420T232944Z
DTSTART;VALUE=DATE:20090731
SUMMARY:FACS 2009 Notification Due
DESCRIPTION:6th International Workshop on Formal Aspects of Component Sof
 tware
URL:http://www.wikicfp.com/cfp/servlet/event.showcfp?eventid=4923&copyown
 erid=4875
UID:cfp38093-N@wikicfp.com
END:VEVENT
BEGIN:VEVENT
DTSTAMP:20260420T232944Z
DTSTART;VALUE=DATE:20090828
SUMMARY:FACS 2009 Final Version Due
DESCRIPTION:6th International Workshop on Formal Aspects of Component Sof
 tware
URL:http://www.wikicfp.com/cfp/servlet/event.showcfp?eventid=4923&copyown
 erid=4875
UID:cfp38093-N@wikicfp.com
END:VEVENT
BEGIN:VEVENT
DTSTAMP:20260420T232944Z
DTSTART;VALUE=DATE:20090831
DTEND;VALUE=DATE:20090905
SUMMARY:AQuSerM 2009
DESCRIPTION:Advances in Quality of Service Management
URL:http://www.wikicfp.com/cfp/servlet/event.showcfp?eventid=5408&copyown
 erid=4875
UID:cfp38105-E@wikicfp.com
END:VEVENT
BEGIN:VEVENT
DTSTAMP:20260420T232944Z
DTSTART;VALUE=DATE:20090619
SUMMARY:AQuSerM 2009 Deadline
DESCRIPTION:Advances in Quality of Service Management
URL:http://www.wikicfp.com/cfp/servlet/event.showcfp?eventid=5408&copyown
 erid=4875
UID:cfp38105-D@wikicfp.com
END:VEVENT
BEGIN:VEVENT
DTSTAMP:20260420T232944Z
DTSTART;VALUE=DATE:20090719
SUMMARY:AQuSerM 2009 Notification Due
DESCRIPTION:Advances in Quality of Service Management
URL:http://www.wikicfp.com/cfp/servlet/event.showcfp?eventid=5408&copyown
 erid=4875
UID:cfp38105-N@wikicfp.com
END:VEVENT
BEGIN:VEVENT
DTSTAMP:20260420T232944Z
DTSTART;VALUE=DATE:20090803
SUMMARY:AQuSerM 2009 Final Version Due
DESCRIPTION:Advances in Quality of Service Management
URL:http://www.wikicfp.com/cfp/servlet/event.showcfp?eventid=5408&copyown
 erid=4875
UID:cfp38105-N@wikicfp.com
END:VEVENT
BEGIN:VEVENT
DTSTAMP:20260420T232944Z
DTSTART;VALUE=DATE:20090831
DTEND;VALUE=DATE:20090905
SUMMARY:Smalltalk ESUG 2009
DESCRIPTION:ESUG 2009 International Workshop on Smalltalk
URL:http://www.wikicfp.com/cfp/servlet/event.showcfp?eventid=4618&copyown
 erid=4875
UID:cfp38091-E@wikicfp.com
END:VEVENT
BEGIN:VEVENT
DTSTAMP:20260420T232944Z
DTSTART;VALUE=DATE:20090624
SUMMARY:Smalltalk ESUG 2009 Deadline
DESCRIPTION:ESUG 2009 International Workshop on Smalltalk
URL:http://www.wikicfp.com/cfp/servlet/event.showcfp?eventid=4618&copyown
 erid=4875
UID:cfp38091-D@wikicfp.com
END:VEVENT
BEGIN:VEVENT
DTSTAMP:20260420T232944Z
DTSTART;VALUE=DATE:20090707
SUMMARY:Smalltalk ESUG 2009 Notification Due
DESCRIPTION:ESUG 2009 International Workshop on Smalltalk
URL:http://www.wikicfp.com/cfp/servlet/event.showcfp?eventid=4618&copyown
 erid=4875
UID:cfp38091-N@wikicfp.com
END:VEVENT
BEGIN:VEVENT
DTSTAMP:20260420T232944Z
DTSTART;VALUE=DATE:20091001
DTEND;VALUE=DATE:20091003
SUMMARY:iWAPT 2009
DESCRIPTION:The Fourth International Workshop on Automatic Performance Tu
 ning
URL:http://www.wikicfp.com/cfp/servlet/event.showcfp?eventid=5417&copyown
 erid=4875
UID:cfp38106-E@wikicfp.com
END:VEVENT
BEGIN:VEVENT
DTSTAMP:20260420T232944Z
DTSTART;VALUE=DATE:20090629
SUMMARY:iWAPT 2009 Deadline
DESCRIPTION:The Fourth International Workshop on Automatic Performance Tu
 ning
URL:http://www.wikicfp.com/cfp/servlet/event.showcfp?eventid=5417&copyown
 erid=4875
UID:cfp38106-D@wikicfp.com
END:VEVENT
BEGIN:VEVENT
DTSTAMP:20260420T232944Z
DTSTART;VALUE=DATE:20090717
SUMMARY:iWAPT 2009 Notification Due
DESCRIPTION:The Fourth International Workshop on Automatic Performance Tu
 ning
URL:http://www.wikicfp.com/cfp/servlet/event.showcfp?eventid=5417&copyown
 erid=4875
UID:cfp38106-N@wikicfp.com
END:VEVENT
BEGIN:VEVENT
DTSTAMP:20260420T232944Z
DTSTART;VALUE=DATE:20090727
SUMMARY:iWAPT 2009 Final Version Due
DESCRIPTION:The Fourth International Workshop on Automatic Performance Tu
 ning
URL:http://www.wikicfp.com/cfp/servlet/event.showcfp?eventid=5417&copyown
 erid=4875
UID:cfp38106-N@wikicfp.com
END:VEVENT
BEGIN:VEVENT
DTSTAMP:20260420T232944Z
DTSTART;VALUE=DATE:20090814
SUMMARY:SPE Special Issue on SBSE 2010 Deadline
DESCRIPTION:Special Issue of 'Software - Practice and Experience' on: Pra
 ctical Aspects of Search-Based Software Engineering
URL:http://www.wikicfp.com/cfp/servlet/event.showcfp?eventid=5104&copyown
 erid=4875
UID:cfp38095-D@wikicfp.com
END:VEVENT
BEGIN:VEVENT
DTSTAMP:20260420T232944Z
DTSTART;VALUE=DATE:20091113
SUMMARY:SPE Special Issue on SBSE 2010 Notification Due
DESCRIPTION:Special Issue of 'Software - Practice and Experience' on: Pra
 ctical Aspects of Search-Based Software Engineering
URL:http://www.wikicfp.com/cfp/servlet/event.showcfp?eventid=5104&copyown
 erid=4875
UID:cfp38095-N@wikicfp.com
END:VEVENT
BEGIN:VEVENT
DTSTAMP:20260420T232944Z
DTSTART;VALUE=DATE:20100205
SUMMARY:SPE Special Issue on SBSE 2010 Final Version Due
DESCRIPTION:Special Issue of 'Software - Practice and Experience' on: Pra
 ctical Aspects of Search-Based Software Engineering
URL:http://www.wikicfp.com/cfp/servlet/event.showcfp?eventid=5104&copyown
 erid=4875
UID:cfp38095-N@wikicfp.com
END:VEVENT
BEGIN:VEVENT
DTSTAMP:20260420T232944Z
DTSTART;VALUE=DATE:20090815
SUMMARY:TAOSD 2009 Deadline
DESCRIPTION:TAOSD special issue on A Common Case Study for Aspect-Oriente
 d Modeling Approaches 
URL:http://www.wikicfp.com/cfp/servlet/event.showcfp?eventid=5465&copyown
 erid=4875
UID:cfp38109-D@wikicfp.com
END:VEVENT
BEGIN:VEVENT
DTSTAMP:20260420T232944Z
DTSTART;VALUE=DATE:20091031
SUMMARY:TAOSD 2009 Notification Due
DESCRIPTION:TAOSD special issue on A Common Case Study for Aspect-Oriente
 d Modeling Approaches 
URL:http://www.wikicfp.com/cfp/servlet/event.showcfp?eventid=5465&copyown
 erid=4875
UID:cfp38109-N@wikicfp.com
END:VEVENT
BEGIN:VEVENT
DTSTAMP:20260420T232944Z
DTSTART;VALUE=DATE:20091220
SUMMARY:TAOSD 2009 Final Version Due
DESCRIPTION:TAOSD special issue on A Common Case Study for Aspect-Oriente
 d Modeling Approaches 
URL:http://www.wikicfp.com/cfp/servlet/event.showcfp?eventid=5465&copyown
 erid=4875
UID:cfp38109-N@wikicfp.com
END:VEVENT
BEGIN:VEVENT
DTSTAMP:20260420T232944Z
DTSTART;VALUE=DATE:20091214
DTEND;VALUE=DATE:20091216
SUMMARY:INMIC 2009
DESCRIPTION:The 13th IEEE International Multitopic Conference
URL:http://www.wikicfp.com/cfp/servlet/event.showcfp?eventid=5438&copyown
 erid=4875
UID:cfp38108-E@wikicfp.com
END:VEVENT
BEGIN:VEVENT
DTSTAMP:20260420T232944Z
DTSTART;VALUE=DATE:20090829
SUMMARY:INMIC 2009 Deadline
DESCRIPTION:The 13th IEEE International Multitopic Conference
URL:http://www.wikicfp.com/cfp/servlet/event.showcfp?eventid=5438&copyown
 erid=4875
UID:cfp38108-D@wikicfp.com
END:VEVENT
BEGIN:VEVENT
DTSTAMP:20260420T232944Z
DTSTART;VALUE=DATE:20090925
SUMMARY:INMIC 2009 Notification Due
DESCRIPTION:The 13th IEEE International Multitopic Conference
URL:http://www.wikicfp.com/cfp/servlet/event.showcfp?eventid=5438&copyown
 erid=4875
UID:cfp38108-N@wikicfp.com
END:VEVENT
BEGIN:VEVENT
DTSTAMP:20260420T232944Z
DTSTART;VALUE=DATE:20091021
SUMMARY:INMIC 2009 Final Version Due
DESCRIPTION:The 13th IEEE International Multitopic Conference
URL:http://www.wikicfp.com/cfp/servlet/event.showcfp?eventid=5438&copyown
 erid=4875
UID:cfp38108-N@wikicfp.com
END:VEVENT
BEGIN:VEVENT
DTSTAMP:20260420T232944Z
DTSTART;VALUE=DATE:20100322
DTEND;VALUE=DATE:20100327
SUMMARY:PSC 2009
DESCRIPTION:Programming for Separation of Concerns
URL:http://www.wikicfp.com/cfp/servlet/event.showcfp?eventid=5553&copyown
 erid=4875
UID:cfp38110-E@wikicfp.com
END:VEVENT
BEGIN:VEVENT
DTSTAMP:20260420T232944Z
DTSTART;VALUE=DATE:20090908
SUMMARY:PSC 2009 Deadline
DESCRIPTION:Programming for Separation of Concerns
URL:http://www.wikicfp.com/cfp/servlet/event.showcfp?eventid=5553&copyown
 erid=4875
UID:cfp38110-D@wikicfp.com
END:VEVENT
BEGIN:VEVENT
DTSTAMP:20260420T232944Z
DTSTART;VALUE=DATE:20091019
SUMMARY:PSC 2009 Notification Due
DESCRIPTION:Programming for Separation of Concerns
URL:http://www.wikicfp.com/cfp/servlet/event.showcfp?eventid=5553&copyown
 erid=4875
UID:cfp38110-N@wikicfp.com
END:VEVENT
BEGIN:VEVENT
DTSTAMP:20260420T232944Z
DTSTART;VALUE=DATE:20091102
SUMMARY:PSC 2009 Final Version Due
DESCRIPTION:Programming for Separation of Concerns
URL:http://www.wikicfp.com/cfp/servlet/event.showcfp?eventid=5553&copyown
 erid=4875
UID:cfp38110-N@wikicfp.com
END:VEVENT
BEGIN:VEVENT
DTSTAMP:20260420T232944Z
DTSTART;VALUE=DATE:20091220
SUMMARY:Learning and the Social Web 2009 Deadline
DESCRIPTION:Learning and the Social Web: A special issue of the Journal o
 f Emerging Technologies in Web Intelligence (JETWI)
URL:http://www.wikicfp.com/cfp/servlet/event.showcfp?eventid=5291&copyown
 erid=4875
UID:cfp38099-D@wikicfp.com
END:VEVENT
END:VCALENDAR
