BEGIN:VCALENDAR
PRODID:-//WikiCFP//zhaiyl 1.0//EN
VERSION:2.0
CALSCALE:GREGORIAN
BEGIN:VEVENT
DTSTAMP:20260425T115654Z
DTSTART;VALUE=DATE:20190611
DTEND;VALUE=DATE:20190614
SUMMARY:BDE--EI Compendex\, Scopus 2019
DESCRIPTION:2019 International Conference on Big Data Engineering (BDE 20
 19)--EI Compendex\, Scopus
URL:http://www.wikicfp.com/cfp/servlet/event.showcfp?eventid=79772&copyow
 nerid=48635
UID:cfp751833-E@wikicfp.com
END:VEVENT
BEGIN:VEVENT
DTSTAMP:20260425T115654Z
DTSTART;VALUE=DATE:20190430
SUMMARY:BDE--EI Compendex\, Scopus 2019 Deadline
DESCRIPTION:2019 International Conference on Big Data Engineering (BDE 20
 19)--EI Compendex\, Scopus
URL:http://www.wikicfp.com/cfp/servlet/event.showcfp?eventid=79772&copyow
 nerid=48635
UID:cfp751833-D@wikicfp.com
END:VEVENT
BEGIN:VEVENT
DTSTAMP:20260425T115654Z
DTSTART;VALUE=DATE:20200707
DTEND;VALUE=DATE:20200711
SUMMARY:ICDCS 2020
DESCRIPTION:International Conference on Distributed Computing Systems
URL:http://www.wikicfp.com/cfp/servlet/event.showcfp?eventid=93353&copyow
 nerid=48635
UID:cfp802456-E@wikicfp.com
END:VEVENT
BEGIN:VEVENT
DTSTAMP:20260425T115654Z
DTSTART;VALUE=DATE:20200106
SUMMARY:ICDCS 2020 Abstract Due
DESCRIPTION:International Conference on Distributed Computing Systems
URL:http://www.wikicfp.com/cfp/servlet/event.showcfp?eventid=93353&copyow
 nerid=48635
UID:cfp802456-A@wikicfp.com
END:VEVENT
BEGIN:VEVENT
DTSTAMP:20260425T115654Z
DTSTART;VALUE=DATE:20200113
SUMMARY:ICDCS 2020 Deadline
DESCRIPTION:International Conference on Distributed Computing Systems
URL:http://www.wikicfp.com/cfp/servlet/event.showcfp?eventid=93353&copyow
 nerid=48635
UID:cfp802456-D@wikicfp.com
END:VEVENT
BEGIN:VEVENT
DTSTAMP:20260425T115654Z
DTSTART;VALUE=DATE:20200314
SUMMARY:ICDCS 2020 Notification Due
DESCRIPTION:International Conference on Distributed Computing Systems
URL:http://www.wikicfp.com/cfp/servlet/event.showcfp?eventid=93353&copyow
 nerid=48635
UID:cfp802456-N@wikicfp.com
END:VEVENT
BEGIN:VEVENT
DTSTAMP:20260425T115654Z
DTSTART;VALUE=DATE:20200404
SUMMARY:ICDCS 2020 Final Version Due
DESCRIPTION:International Conference on Distributed Computing Systems
URL:http://www.wikicfp.com/cfp/servlet/event.showcfp?eventid=93353&copyow
 nerid=48635
UID:cfp802456-N@wikicfp.com
END:VEVENT
BEGIN:VEVENT
DTSTAMP:20260425T115654Z
DTSTART;VALUE=DATE:20240909
DTEND;VALUE=DATE:20240914
SUMMARY:SOCA 2024
DESCRIPTION:Service-Oriented Computing and AI
URL:http://www.wikicfp.com/cfp/servlet/event.showcfp?eventid=180196&copyo
 wnerid=48635
UID:cfp991001-E@wikicfp.com
END:VEVENT
BEGIN:VEVENT
DTSTAMP:20260425T115654Z
DTSTART;VALUE=DATE:20240617
SUMMARY:SOCA 2024 Deadline
DESCRIPTION:Service-Oriented Computing and AI
URL:http://www.wikicfp.com/cfp/servlet/event.showcfp?eventid=180196&copyo
 wnerid=48635
UID:cfp991001-D@wikicfp.com
END:VEVENT
BEGIN:VEVENT
DTSTAMP:20260425T115654Z
DTSTART;VALUE=DATE:20240717
SUMMARY:SOCA 2024 Notification Due
DESCRIPTION:Service-Oriented Computing and AI
URL:http://www.wikicfp.com/cfp/servlet/event.showcfp?eventid=180196&copyo
 wnerid=48635
UID:cfp991001-N@wikicfp.com
END:VEVENT
BEGIN:VEVENT
DTSTAMP:20260425T115654Z
DTSTART;VALUE=DATE:20240731
SUMMARY:SOCA 2024 Final Version Due
DESCRIPTION:Service-Oriented Computing and AI
URL:http://www.wikicfp.com/cfp/servlet/event.showcfp?eventid=180196&copyo
 wnerid=48635
UID:cfp991001-N@wikicfp.com
END:VEVENT
END:VCALENDAR
