BEGIN:VCALENDAR
PRODID:-//WikiCFP//magicyaba 1.0//EN
VERSION:2.0
CALSCALE:GREGORIAN
BEGIN:VEVENT
DTSTAMP:20260424T144011Z
DTSTART;VALUE=DATE:20130409
DTEND;VALUE=DATE:20130412
SUMMARY:RTAS 2013
DESCRIPTION:The 19th IEEE  REAL-TIME AND EMBEDDED TECHNOLOGY SYMPOSYIUM
URL:http://www.wikicfp.com/cfp/servlet/event.showcfp?eventid=25911&copyow
 nerid=48146
UID:cfp339315-E@wikicfp.com
END:VEVENT
BEGIN:VEVENT
DTSTAMP:20260424T144011Z
DTSTART;VALUE=DATE:20121015
SUMMARY:RTAS 2013 Deadline
DESCRIPTION:The 19th IEEE  REAL-TIME AND EMBEDDED TECHNOLOGY SYMPOSYIUM
URL:http://www.wikicfp.com/cfp/servlet/event.showcfp?eventid=25911&copyow
 nerid=48146
UID:cfp339315-D@wikicfp.com
END:VEVENT
BEGIN:VEVENT
DTSTAMP:20260424T144011Z
DTSTART;VALUE=DATE:20121214
SUMMARY:RTAS 2013 Notification Due
DESCRIPTION:The 19th IEEE  REAL-TIME AND EMBEDDED TECHNOLOGY SYMPOSYIUM
URL:http://www.wikicfp.com/cfp/servlet/event.showcfp?eventid=25911&copyow
 nerid=48146
UID:cfp339315-N@wikicfp.com
END:VEVENT
END:VCALENDAR
