BEGIN:VCALENDAR
PRODID:-//WikiCFP//imramirez 1.0//EN
VERSION:2.0
CALSCALE:GREGORIAN
BEGIN:VEVENT
DTSTAMP:20260425T151121Z
DTSTART;VALUE=DATE:20180319
DTEND;VALUE=DATE:20180323
SUMMARY:REFSQ 2018
DESCRIPTION:REFSQâ18 -- 24th International Working Conference on Requir
 ements Engineering: Foundation for Software Quality
URL:http://www.wikicfp.com/cfp/servlet/event.showcfp?eventid=63998&copyow
 nerid=48097
UID:cfp665628-E@wikicfp.com
END:VEVENT
BEGIN:VEVENT
DTSTAMP:20260425T151121Z
DTSTART;VALUE=DATE:20170925
SUMMARY:REFSQ 2018 Abstract Due
DESCRIPTION:REFSQâ18 -- 24th International Working Conference on Requir
 ements Engineering: Foundation for Software Quality
URL:http://www.wikicfp.com/cfp/servlet/event.showcfp?eventid=63998&copyow
 nerid=48097
UID:cfp665628-A@wikicfp.com
END:VEVENT
BEGIN:VEVENT
DTSTAMP:20260425T151121Z
DTSTART;VALUE=DATE:20171002
SUMMARY:REFSQ 2018 Deadline
DESCRIPTION:REFSQâ18 -- 24th International Working Conference on Requir
 ements Engineering: Foundation for Software Quality
URL:http://www.wikicfp.com/cfp/servlet/event.showcfp?eventid=63998&copyow
 nerid=48097
UID:cfp665628-D@wikicfp.com
END:VEVENT
BEGIN:VEVENT
DTSTAMP:20260425T151121Z
DTSTART;VALUE=DATE:20190923
DTEND;VALUE=DATE:20190928
SUMMARY:RE 2019
DESCRIPTION:27th IEEE Intl. Requirements Engineering Conference Sep 23\, 
 2019 - Sep 27\, 2019
URL:http://www.wikicfp.com/cfp/servlet/event.showcfp?eventid=82024&copyow
 nerid=48097
UID:cfp752021-E@wikicfp.com
END:VEVENT
BEGIN:VEVENT
DTSTAMP:20260425T151121Z
DTSTART;VALUE=DATE:20190401
SUMMARY:RE 2019 Abstract Due
DESCRIPTION:27th IEEE Intl. Requirements Engineering Conference Sep 23\, 
 2019 - Sep 27\, 2019
URL:http://www.wikicfp.com/cfp/servlet/event.showcfp?eventid=82024&copyow
 nerid=48097
UID:cfp752021-A@wikicfp.com
END:VEVENT
BEGIN:VEVENT
DTSTAMP:20260425T151121Z
DTSTART;VALUE=DATE:20190407
SUMMARY:RE 2019 Deadline
DESCRIPTION:27th IEEE Intl. Requirements Engineering Conference Sep 23\, 
 2019 - Sep 27\, 2019
URL:http://www.wikicfp.com/cfp/servlet/event.showcfp?eventid=82024&copyow
 nerid=48097
UID:cfp752021-D@wikicfp.com
END:VEVENT
BEGIN:VEVENT
DTSTAMP:20260425T151121Z
DTSTART;VALUE=DATE:20190622
SUMMARY:RE 2019 Notification Due
DESCRIPTION:27th IEEE Intl. Requirements Engineering Conference Sep 23\, 
 2019 - Sep 27\, 2019
URL:http://www.wikicfp.com/cfp/servlet/event.showcfp?eventid=82024&copyow
 nerid=48097
UID:cfp752021-N@wikicfp.com
END:VEVENT
BEGIN:VEVENT
DTSTAMP:20260425T151121Z
DTSTART;VALUE=DATE:20190719
SUMMARY:RE 2019 Final Version Due
DESCRIPTION:27th IEEE Intl. Requirements Engineering Conference Sep 23\, 
 2019 - Sep 27\, 2019
URL:http://www.wikicfp.com/cfp/servlet/event.showcfp?eventid=82024&copyow
 nerid=48097
UID:cfp752021-N@wikicfp.com
END:VEVENT
END:VCALENDAR
