BEGIN:VCALENDAR
PRODID:-//WikiCFP//iFOSSF 1.0//EN
VERSION:2.0
CALSCALE:GREGORIAN
BEGIN:VEVENT
DTSTAMP:20260419T223221Z
DTSTART;VALUE=DATE:20130723
DTEND;VALUE=DATE:20130727
SUMMARY:IEEE DEST SEED 2013
DESCRIPTION:Social\, Economic and Environmental Development Framework - B
 uilding a Digital Ecosystem for Societal Empowerment
URL:http://www.wikicfp.com/cfp/servlet/event.showcfp?eventid=29109&copyow
 nerid=47959
UID:cfp338245-E@wikicfp.com
END:VEVENT
BEGIN:VEVENT
DTSTAMP:20260419T223221Z
DTSTART;VALUE=DATE:20130415
SUMMARY:IEEE DEST SEED 2013 Deadline
DESCRIPTION:Social\, Economic and Environmental Development Framework - B
 uilding a Digital Ecosystem for Societal Empowerment
URL:http://www.wikicfp.com/cfp/servlet/event.showcfp?eventid=29109&copyow
 nerid=47959
UID:cfp338245-D@wikicfp.com
END:VEVENT
BEGIN:VEVENT
DTSTAMP:20260419T223221Z
DTSTART;VALUE=DATE:20130506
SUMMARY:IEEE DEST SEED 2013 Notification Due
DESCRIPTION:Social\, Economic and Environmental Development Framework - B
 uilding a Digital Ecosystem for Societal Empowerment
URL:http://www.wikicfp.com/cfp/servlet/event.showcfp?eventid=29109&copyow
 nerid=47959
UID:cfp338245-N@wikicfp.com
END:VEVENT
BEGIN:VEVENT
DTSTAMP:20260419T223221Z
DTSTART;VALUE=DATE:20130520
SUMMARY:IEEE DEST SEED 2013 Final Version Due
DESCRIPTION:Social\, Economic and Environmental Development Framework - B
 uilding a Digital Ecosystem for Societal Empowerment
URL:http://www.wikicfp.com/cfp/servlet/event.showcfp?eventid=29109&copyow
 nerid=47959
UID:cfp338245-N@wikicfp.com
END:VEVENT
END:VCALENDAR
