BEGIN:VCALENDAR
PRODID:-//WikiCFP//cferegrino 1.0//EN
VERSION:2.0
CALSCALE:GREGORIAN
BEGIN:VEVENT
DTSTAMP:20260419T182503Z
DTSTART;VALUE=DATE:20130708
DTEND;VALUE=DATE:20130709
SUMMARY:NFSP 2013
DESCRIPTION:ICDCS Workshop on Network Forensics\, Security and Privacy
URL:http://www.wikicfp.com/cfp/servlet/event.showcfp?eventid=26799&copyow
 nerid=47765
UID:cfp336819-E@wikicfp.com
END:VEVENT
BEGIN:VEVENT
DTSTAMP:20260419T182503Z
DTSTART;VALUE=DATE:20130115
SUMMARY:NFSP 2013 Deadline
DESCRIPTION:ICDCS Workshop on Network Forensics\, Security and Privacy
URL:http://www.wikicfp.com/cfp/servlet/event.showcfp?eventid=26799&copyow
 nerid=47765
UID:cfp336819-D@wikicfp.com
END:VEVENT
BEGIN:VEVENT
DTSTAMP:20260419T182503Z
DTSTART;VALUE=DATE:20130225
SUMMARY:NFSP 2013 Notification Due
DESCRIPTION:ICDCS Workshop on Network Forensics\, Security and Privacy
URL:http://www.wikicfp.com/cfp/servlet/event.showcfp?eventid=26799&copyow
 nerid=47765
UID:cfp336819-N@wikicfp.com
END:VEVENT
BEGIN:VEVENT
DTSTAMP:20260419T182503Z
DTSTART;VALUE=DATE:20130322
SUMMARY:NFSP 2013 Final Version Due
DESCRIPTION:ICDCS Workshop on Network Forensics\, Security and Privacy
URL:http://www.wikicfp.com/cfp/servlet/event.showcfp?eventid=26799&copyow
 nerid=47765
UID:cfp336819-N@wikicfp.com
END:VEVENT
BEGIN:VEVENT
DTSTAMP:20260419T182503Z
DTSTART;VALUE=DATE:20130904
DTEND;VALUE=DATE:20130907
SUMMARY:DFIS 2013
DESCRIPTION:The 7th International Symposium on Digital Forensics and Info
 rmation Security
URL:http://www.wikicfp.com/cfp/servlet/event.showcfp?eventid=28065&copyow
 nerid=47765
UID:cfp336820-E@wikicfp.com
END:VEVENT
BEGIN:VEVENT
DTSTAMP:20260419T182503Z
DTSTART;VALUE=DATE:20130505
SUMMARY:DFIS 2013 Deadline
DESCRIPTION:The 7th International Symposium on Digital Forensics and Info
 rmation Security
URL:http://www.wikicfp.com/cfp/servlet/event.showcfp?eventid=28065&copyow
 nerid=47765
UID:cfp336820-D@wikicfp.com
END:VEVENT
BEGIN:VEVENT
DTSTAMP:20260419T182503Z
DTSTART;VALUE=DATE:20130520
SUMMARY:DFIS 2013 Notification Due
DESCRIPTION:The 7th International Symposium on Digital Forensics and Info
 rmation Security
URL:http://www.wikicfp.com/cfp/servlet/event.showcfp?eventid=28065&copyow
 nerid=47765
UID:cfp336820-N@wikicfp.com
END:VEVENT
BEGIN:VEVENT
DTSTAMP:20260419T182503Z
DTSTART;VALUE=DATE:20130530
SUMMARY:DFIS 2013 Final Version Due
DESCRIPTION:The 7th International Symposium on Digital Forensics and Info
 rmation Security
URL:http://www.wikicfp.com/cfp/servlet/event.showcfp?eventid=28065&copyow
 nerid=47765
UID:cfp336820-N@wikicfp.com
END:VEVENT
END:VCALENDAR
