BEGIN:VCALENDAR
PRODID:-//WikiCFP//mehwishraza81 1.0//EN
VERSION:2.0
CALSCALE:GREGORIAN
BEGIN:VEVENT
DTSTAMP:20260422T030048Z
DTSTART;VALUE=DATE:20141113
DTEND;VALUE=DATE:20141115
SUMMARY:ECMLG 2014
DESCRIPTION:European Conference on Management Leadership and Governance 
URL:http://www.wikicfp.com/cfp/servlet/event.showcfp?eventid=34112&copyow
 nerid=47699
UID:cfp426416-E@wikicfp.com
END:VEVENT
BEGIN:VEVENT
DTSTAMP:20260422T030048Z
DTSTART;VALUE=DATE:20141117
DTEND;VALUE=DATE:20141122
SUMMARY:e-Skills 2014
DESCRIPTION:e-Skills 2014 Conference [South Africa] Collaborations\, Serv
 ice Delivery\, Innovation\, Technology\, and Education 
URL:http://www.wikicfp.com/cfp/servlet/event.showcfp?eventid=34627&copyow
 nerid=47699
UID:cfp426424-E@wikicfp.com
END:VEVENT
BEGIN:VEVENT
DTSTAMP:20260422T030048Z
DTSTART;VALUE=DATE:20140401
SUMMARY:e-Skills 2014 Deadline
DESCRIPTION:e-Skills 2014 Conference [South Africa] Collaborations\, Serv
 ice Delivery\, Innovation\, Technology\, and Education 
URL:http://www.wikicfp.com/cfp/servlet/event.showcfp?eventid=34627&copyow
 nerid=47699
UID:cfp426424-D@wikicfp.com
END:VEVENT
BEGIN:VEVENT
DTSTAMP:20260422T030048Z
DTSTART;VALUE=DATE:20140630
SUMMARY:e-Skills 2014 Notification Due
DESCRIPTION:e-Skills 2014 Conference [South Africa] Collaborations\, Serv
 ice Delivery\, Innovation\, Technology\, and Education 
URL:http://www.wikicfp.com/cfp/servlet/event.showcfp?eventid=34627&copyow
 nerid=47699
UID:cfp426424-N@wikicfp.com
END:VEVENT
BEGIN:VEVENT
DTSTAMP:20260422T030048Z
DTSTART;VALUE=DATE:20140807
SUMMARY:e-Skills 2014 Final Version Due
DESCRIPTION:e-Skills 2014 Conference [South Africa] Collaborations\, Serv
 ice Delivery\, Innovation\, Technology\, and Education 
URL:http://www.wikicfp.com/cfp/servlet/event.showcfp?eventid=34627&copyow
 nerid=47699
UID:cfp426424-N@wikicfp.com
END:VEVENT
BEGIN:VEVENT
DTSTAMP:20260422T030048Z
DTSTART;VALUE=DATE:20140903
DTEND;VALUE=DATE:20140906
SUMMARY:IETC 2014
DESCRIPTION:International Educational Technology Conference
URL:http://www.wikicfp.com/cfp/servlet/event.showcfp?eventid=33533&copyow
 nerid=47699
UID:cfp415312-E@wikicfp.com
END:VEVENT
BEGIN:VEVENT
DTSTAMP:20260422T030048Z
DTSTART;VALUE=DATE:20140828
SUMMARY:IETC 2014 Deadline
DESCRIPTION:International Educational Technology Conference
URL:http://www.wikicfp.com/cfp/servlet/event.showcfp?eventid=33533&copyow
 nerid=47699
UID:cfp415312-D@wikicfp.com
END:VEVENT
BEGIN:VEVENT
DTSTAMP:20260422T030048Z
DTSTART;VALUE=DATE:20140829
SUMMARY:IETC 2014 Final Version Due
DESCRIPTION:International Educational Technology Conference
URL:http://www.wikicfp.com/cfp/servlet/event.showcfp?eventid=33533&copyow
 nerid=47699
UID:cfp415312-N@wikicfp.com
END:VEVENT
BEGIN:VEVENT
DTSTAMP:20260422T030048Z
DTSTART;VALUE=DATE:20150105
DTEND;VALUE=DATE:20150107
SUMMARY:ICIET 2015
DESCRIPTION:2015 3rd International Conference on Information and Educatio
 n Technology
URL:http://www.wikicfp.com/cfp/servlet/event.showcfp?eventid=31731&copyow
 nerid=47699
UID:cfp465878-E@wikicfp.com
END:VEVENT
BEGIN:VEVENT
DTSTAMP:20260422T030048Z
DTSTART;VALUE=DATE:20141020
SUMMARY:ICIET 2015 Deadline
DESCRIPTION:2015 3rd International Conference on Information and Educatio
 n Technology
URL:http://www.wikicfp.com/cfp/servlet/event.showcfp?eventid=31731&copyow
 nerid=47699
UID:cfp465878-D@wikicfp.com
END:VEVENT
BEGIN:VEVENT
DTSTAMP:20260422T030048Z
DTSTART;VALUE=DATE:20141110
SUMMARY:ICIET 2015 Notification Due
DESCRIPTION:2015 3rd International Conference on Information and Educatio
 n Technology
URL:http://www.wikicfp.com/cfp/servlet/event.showcfp?eventid=31731&copyow
 nerid=47699
UID:cfp465878-N@wikicfp.com
END:VEVENT
BEGIN:VEVENT
DTSTAMP:20260422T030048Z
DTSTART;VALUE=DATE:20141125
SUMMARY:ICIET 2015 Final Version Due
DESCRIPTION:2015 3rd International Conference on Information and Educatio
 n Technology
URL:http://www.wikicfp.com/cfp/servlet/event.showcfp?eventid=31731&copyow
 nerid=47699
UID:cfp465878-N@wikicfp.com
END:VEVENT
BEGIN:VEVENT
DTSTAMP:20260422T030048Z
DTSTART;VALUE=DATE:20150202
DTEND;VALUE=DATE:20150205
SUMMARY:INTCESS 2015
DESCRIPTION:INTERNATIONAL CONFERENCE ON EDUCATION AND SOCIAL SCIENCES
URL:http://www.wikicfp.com/cfp/servlet/event.showcfp?eventid=39748&copyow
 nerid=47699
UID:cfp465877-E@wikicfp.com
END:VEVENT
BEGIN:VEVENT
DTSTAMP:20260422T030048Z
DTSTART;VALUE=DATE:20141110
SUMMARY:INTCESS 2015 Abstract Due
DESCRIPTION:INTERNATIONAL CONFERENCE ON EDUCATION AND SOCIAL SCIENCES
URL:http://www.wikicfp.com/cfp/servlet/event.showcfp?eventid=39748&copyow
 nerid=47699
UID:cfp465877-A@wikicfp.com
END:VEVENT
BEGIN:VEVENT
DTSTAMP:20260422T030048Z
DTSTART;VALUE=DATE:20141215
SUMMARY:INTCESS 2015 Deadline
DESCRIPTION:INTERNATIONAL CONFERENCE ON EDUCATION AND SOCIAL SCIENCES
URL:http://www.wikicfp.com/cfp/servlet/event.showcfp?eventid=39748&copyow
 nerid=47699
UID:cfp465877-D@wikicfp.com
END:VEVENT
END:VCALENDAR
