BEGIN:VCALENDAR
PRODID:-//WikiCFP//dball 1.0//EN
VERSION:2.0
CALSCALE:GREGORIAN
BEGIN:VEVENT
DTSTAMP:20260423T201505Z
DTSTART;VALUE=DATE:20130715
DTEND;VALUE=DATE:20130716
SUMMARY:QuoMBaT 2013
DESCRIPTION:2nd Workshop on Quality of Model-Based Testing
URL:http://www.wikicfp.com/cfp/servlet/event.showcfp?eventid=28818&copyow
 nerid=47476
UID:cfp334943-E@wikicfp.com
END:VEVENT
BEGIN:VEVENT
DTSTAMP:20260423T201505Z
DTSTART;VALUE=DATE:20130429
SUMMARY:QuoMBaT 2013 Deadline
DESCRIPTION:2nd Workshop on Quality of Model-Based Testing
URL:http://www.wikicfp.com/cfp/servlet/event.showcfp?eventid=28818&copyow
 nerid=47476
UID:cfp334943-D@wikicfp.com
END:VEVENT
BEGIN:VEVENT
DTSTAMP:20260423T201505Z
DTSTART;VALUE=DATE:20130514
SUMMARY:QuoMBaT 2013 Notification Due
DESCRIPTION:2nd Workshop on Quality of Model-Based Testing
URL:http://www.wikicfp.com/cfp/servlet/event.showcfp?eventid=28818&copyow
 nerid=47476
UID:cfp334943-N@wikicfp.com
END:VEVENT
BEGIN:VEVENT
DTSTAMP:20260423T201505Z
DTSTART;VALUE=DATE:20130528
SUMMARY:QuoMBaT 2013 Final Version Due
DESCRIPTION:2nd Workshop on Quality of Model-Based Testing
URL:http://www.wikicfp.com/cfp/servlet/event.showcfp?eventid=28818&copyow
 nerid=47476
UID:cfp334943-N@wikicfp.com
END:VEVENT
BEGIN:VEVENT
DTSTAMP:20260423T201505Z
DTSTART;VALUE=DATE:20140721
DTEND;VALUE=DATE:20140722
SUMMARY:Jamaica 2014
DESCRIPTION:Joining AcadeMiA and Industry Contributions to Test Automatio
 n and Model-based Testing
URL:http://www.wikicfp.com/cfp/servlet/event.showcfp?eventid=35818&copyow
 nerid=47476
UID:cfp421648-E@wikicfp.com
END:VEVENT
BEGIN:VEVENT
DTSTAMP:20260423T201505Z
DTSTART;VALUE=DATE:20140425
SUMMARY:Jamaica 2014 Deadline
DESCRIPTION:Joining AcadeMiA and Industry Contributions to Test Automatio
 n and Model-based Testing
URL:http://www.wikicfp.com/cfp/servlet/event.showcfp?eventid=35818&copyow
 nerid=47476
UID:cfp421648-D@wikicfp.com
END:VEVENT
BEGIN:VEVENT
DTSTAMP:20260423T201505Z
DTSTART;VALUE=DATE:20140523
SUMMARY:Jamaica 2014 Notification Due
DESCRIPTION:Joining AcadeMiA and Industry Contributions to Test Automatio
 n and Model-based Testing
URL:http://www.wikicfp.com/cfp/servlet/event.showcfp?eventid=35818&copyow
 nerid=47476
UID:cfp421648-N@wikicfp.com
END:VEVENT
BEGIN:VEVENT
DTSTAMP:20260423T201505Z
DTSTART;VALUE=DATE:20140606
SUMMARY:Jamaica 2014 Final Version Due
DESCRIPTION:Joining AcadeMiA and Industry Contributions to Test Automatio
 n and Model-based Testing
URL:http://www.wikicfp.com/cfp/servlet/event.showcfp?eventid=35818&copyow
 nerid=47476
UID:cfp421648-N@wikicfp.com
END:VEVENT
END:VCALENDAR
