BEGIN:VCALENDAR
PRODID:-//WikiCFP//Tadeo 1.0//EN
VERSION:2.0
CALSCALE:GREGORIAN
BEGIN:VEVENT
DTSTAMP:20260425T154409Z
DTSTART;VALUE=DATE:20091208
DTEND;VALUE=DATE:20091212
SUMMARY:IEEM 2009
DESCRIPTION:2009 IEEE Industrial Engineering and Engineering Management c
 onference
URL:http://www.wikicfp.com/cfp/servlet/event.showcfp?eventid=4880&copyown
 erid=4732
UID:cfp37201-E@wikicfp.com
END:VEVENT
BEGIN:VEVENT
DTSTAMP:20260425T154409Z
DTSTART;VALUE=DATE:20090601
SUMMARY:IEEM 2009 Deadline
DESCRIPTION:2009 IEEE Industrial Engineering and Engineering Management c
 onference
URL:http://www.wikicfp.com/cfp/servlet/event.showcfp?eventid=4880&copyown
 erid=4732
UID:cfp37201-D@wikicfp.com
END:VEVENT
BEGIN:VEVENT
DTSTAMP:20260425T154409Z
DTSTART;VALUE=DATE:20090801
SUMMARY:IEEM 2009 Notification Due
DESCRIPTION:2009 IEEE Industrial Engineering and Engineering Management c
 onference
URL:http://www.wikicfp.com/cfp/servlet/event.showcfp?eventid=4880&copyown
 erid=4732
UID:cfp37201-N@wikicfp.com
END:VEVENT
BEGIN:VEVENT
DTSTAMP:20260425T154409Z
DTSTART;VALUE=DATE:20090901
SUMMARY:IEEM 2009 Final Version Due
DESCRIPTION:2009 IEEE Industrial Engineering and Engineering Management c
 onference
URL:http://www.wikicfp.com/cfp/servlet/event.showcfp?eventid=4880&copyown
 erid=4732
UID:cfp37201-N@wikicfp.com
END:VEVENT
BEGIN:VEVENT
DTSTAMP:20260425T154409Z
DTSTART;VALUE=DATE:20100120
DTEND;VALUE=DATE:20100124
SUMMARY:HEALTHINF 2010
DESCRIPTION:Third International Conference on Health Informatics
URL:http://www.wikicfp.com/cfp/servlet/event.showcfp?eventid=5169&copyown
 erid=4732
UID:cfp39106-E@wikicfp.com
END:VEVENT
BEGIN:VEVENT
DTSTAMP:20260425T154409Z
DTSTART;VALUE=DATE:20090721
SUMMARY:HEALTHINF 2010 Deadline
DESCRIPTION:Third International Conference on Health Informatics
URL:http://www.wikicfp.com/cfp/servlet/event.showcfp?eventid=5169&copyown
 erid=4732
UID:cfp39106-D@wikicfp.com
END:VEVENT
BEGIN:VEVENT
DTSTAMP:20260425T154409Z
DTSTART;VALUE=DATE:20091007
SUMMARY:HEALTHINF 2010 Notification Due
DESCRIPTION:Third International Conference on Health Informatics
URL:http://www.wikicfp.com/cfp/servlet/event.showcfp?eventid=5169&copyown
 erid=4732
UID:cfp39106-N@wikicfp.com
END:VEVENT
BEGIN:VEVENT
DTSTAMP:20260425T154409Z
DTSTART;VALUE=DATE:20091021
SUMMARY:HEALTHINF 2010 Final Version Due
DESCRIPTION:Third International Conference on Health Informatics
URL:http://www.wikicfp.com/cfp/servlet/event.showcfp?eventid=5169&copyown
 erid=4732
UID:cfp39106-N@wikicfp.com
END:VEVENT
BEGIN:VEVENT
DTSTAMP:20260425T154409Z
DTSTART;VALUE=DATE:20091220
DTEND;VALUE=DATE:20091223
SUMMARY:STA 2009
DESCRIPTION:10th International Conference on Sciences and Techniques of A
 utomatic Control and Computer Engineering
URL:http://www.wikicfp.com/cfp/servlet/event.showcfp?eventid=5518&copyown
 erid=4732
UID:cfp37200-E@wikicfp.com
END:VEVENT
BEGIN:VEVENT
DTSTAMP:20260425T154409Z
DTSTART;VALUE=DATE:20090915
SUMMARY:STA 2009 Deadline
DESCRIPTION:10th International Conference on Sciences and Techniques of A
 utomatic Control and Computer Engineering
URL:http://www.wikicfp.com/cfp/servlet/event.showcfp?eventid=5518&copyown
 erid=4732
UID:cfp37200-D@wikicfp.com
END:VEVENT
BEGIN:VEVENT
DTSTAMP:20260425T154409Z
DTSTART;VALUE=DATE:20091025
SUMMARY:STA 2009 Notification Due
DESCRIPTION:10th International Conference on Sciences and Techniques of A
 utomatic Control and Computer Engineering
URL:http://www.wikicfp.com/cfp/servlet/event.showcfp?eventid=5518&copyown
 erid=4732
UID:cfp37200-N@wikicfp.com
END:VEVENT
BEGIN:VEVENT
DTSTAMP:20260425T154409Z
DTSTART;VALUE=DATE:20091110
SUMMARY:STA 2009 Final Version Due
DESCRIPTION:10th International Conference on Sciences and Techniques of A
 utomatic Control and Computer Engineering
URL:http://www.wikicfp.com/cfp/servlet/event.showcfp?eventid=5518&copyown
 erid=4732
UID:cfp37200-N@wikicfp.com
END:VEVENT
BEGIN:VEVENT
DTSTAMP:20260425T154409Z
DTSTART;VALUE=DATE:20100315
DTEND;VALUE=DATE:20100320
SUMMARY:Simutools 2010
DESCRIPTION:Third International Conference on Simulation Tools and Techni
 ques
URL:http://www.wikicfp.com/cfp/servlet/event.showcfp?eventid=5473&copyown
 erid=4732
UID:cfp38747-E@wikicfp.com
END:VEVENT
BEGIN:VEVENT
DTSTAMP:20260425T154409Z
DTSTART;VALUE=DATE:20091012
SUMMARY:Simutools 2010 Abstract Due
DESCRIPTION:Third International Conference on Simulation Tools and Techni
 ques
URL:http://www.wikicfp.com/cfp/servlet/event.showcfp?eventid=5473&copyown
 erid=4732
UID:cfp38747-A@wikicfp.com
END:VEVENT
BEGIN:VEVENT
DTSTAMP:20260425T154409Z
DTSTART;VALUE=DATE:20091019
SUMMARY:Simutools 2010 Deadline
DESCRIPTION:Third International Conference on Simulation Tools and Techni
 ques
URL:http://www.wikicfp.com/cfp/servlet/event.showcfp?eventid=5473&copyown
 erid=4732
UID:cfp38747-D@wikicfp.com
END:VEVENT
BEGIN:VEVENT
DTSTAMP:20260425T154409Z
DTSTART;VALUE=DATE:20100112
SUMMARY:Simutools 2010 Notification Due
DESCRIPTION:Third International Conference on Simulation Tools and Techni
 ques
URL:http://www.wikicfp.com/cfp/servlet/event.showcfp?eventid=5473&copyown
 erid=4732
UID:cfp38747-N@wikicfp.com
END:VEVENT
BEGIN:VEVENT
DTSTAMP:20260425T154409Z
DTSTART;VALUE=DATE:20100201
SUMMARY:Simutools 2010 Final Version Due
DESCRIPTION:Third International Conference on Simulation Tools and Techni
 ques
URL:http://www.wikicfp.com/cfp/servlet/event.showcfp?eventid=5473&copyown
 erid=4732
UID:cfp38747-N@wikicfp.com
END:VEVENT
BEGIN:VEVENT
DTSTAMP:20260425T154409Z
DTSTART;VALUE=DATE:20100623
DTEND;VALUE=DATE:20100627
SUMMARY:MED 2010
DESCRIPTION:18th Mediterranean Conference on Control and Automation
URL:http://www.wikicfp.com/cfp/servlet/event.showcfp?eventid=6614&copyown
 erid=4732
UID:cfp48884-E@wikicfp.com
END:VEVENT
BEGIN:VEVENT
DTSTAMP:20260425T154409Z
DTSTART;VALUE=DATE:20100115
SUMMARY:MED 2010 Deadline
DESCRIPTION:18th Mediterranean Conference on Control and Automation
URL:http://www.wikicfp.com/cfp/servlet/event.showcfp?eventid=6614&copyown
 erid=4732
UID:cfp48884-D@wikicfp.com
END:VEVENT
BEGIN:VEVENT
DTSTAMP:20260425T154409Z
DTSTART;VALUE=DATE:20100310
SUMMARY:MED 2010 Notification Due
DESCRIPTION:18th Mediterranean Conference on Control and Automation
URL:http://www.wikicfp.com/cfp/servlet/event.showcfp?eventid=6614&copyown
 erid=4732
UID:cfp48884-N@wikicfp.com
END:VEVENT
BEGIN:VEVENT
DTSTAMP:20260425T154409Z
DTSTART;VALUE=DATE:20100330
SUMMARY:MED 2010 Final Version Due
DESCRIPTION:18th Mediterranean Conference on Control and Automation
URL:http://www.wikicfp.com/cfp/servlet/event.showcfp?eventid=6614&copyown
 erid=4732
UID:cfp48884-N@wikicfp.com
END:VEVENT
BEGIN:VEVENT
DTSTAMP:20260425T154409Z
DTSTART;VALUE=DATE:20101105
DTEND;VALUE=DATE:20101108
SUMMARY:IREC  2010
DESCRIPTION:International Renewable Energy Congress
URL:http://www.wikicfp.com/cfp/servlet/event.showcfp?eventid=8713&copyown
 erid=4732
UID:cfp73790-E@wikicfp.com
END:VEVENT
BEGIN:VEVENT
DTSTAMP:20260425T154409Z
DTSTART;VALUE=DATE:20100731
SUMMARY:IREC  2010 Deadline
DESCRIPTION:International Renewable Energy Congress
URL:http://www.wikicfp.com/cfp/servlet/event.showcfp?eventid=8713&copyown
 erid=4732
UID:cfp73790-D@wikicfp.com
END:VEVENT
BEGIN:VEVENT
DTSTAMP:20260425T154409Z
DTSTART;VALUE=DATE:20100915
SUMMARY:IREC  2010 Notification Due
DESCRIPTION:International Renewable Energy Congress
URL:http://www.wikicfp.com/cfp/servlet/event.showcfp?eventid=8713&copyown
 erid=4732
UID:cfp73790-N@wikicfp.com
END:VEVENT
BEGIN:VEVENT
DTSTAMP:20260425T154409Z
DTSTART;VALUE=DATE:20101015
SUMMARY:IREC  2010 Final Version Due
DESCRIPTION:International Renewable Energy Congress
URL:http://www.wikicfp.com/cfp/servlet/event.showcfp?eventid=8713&copyown
 erid=4732
UID:cfp73790-N@wikicfp.com
END:VEVENT
BEGIN:VEVENT
DTSTAMP:20260425T154409Z
DTSTART;VALUE=DATE:20110905
DTEND;VALUE=DATE:20110908
SUMMARY:nDS 2011
DESCRIPTION:7th international workshop on multidimensional systems
URL:http://www.wikicfp.com/cfp/servlet/event.showcfp?eventid=11378&copyow
 nerid=4732
UID:cfp106314-E@wikicfp.com
END:VEVENT
BEGIN:VEVENT
DTSTAMP:20260425T154409Z
DTSTART;VALUE=DATE:20110115
SUMMARY:nDS 2011 Deadline
DESCRIPTION:7th international workshop on multidimensional systems
URL:http://www.wikicfp.com/cfp/servlet/event.showcfp?eventid=11378&copyow
 nerid=4732
UID:cfp106314-D@wikicfp.com
END:VEVENT
BEGIN:VEVENT
DTSTAMP:20260425T154409Z
DTSTART;VALUE=DATE:20110315
SUMMARY:nDS 2011 Notification Due
DESCRIPTION:7th international workshop on multidimensional systems
URL:http://www.wikicfp.com/cfp/servlet/event.showcfp?eventid=11378&copyow
 nerid=4732
UID:cfp106314-N@wikicfp.com
END:VEVENT
BEGIN:VEVENT
DTSTAMP:20260425T154409Z
DTSTART;VALUE=DATE:20110515
SUMMARY:nDS 2011 Final Version Due
DESCRIPTION:7th international workshop on multidimensional systems
URL:http://www.wikicfp.com/cfp/servlet/event.showcfp?eventid=11378&copyow
 nerid=4732
UID:cfp106314-N@wikicfp.com
END:VEVENT
BEGIN:VEVENT
DTSTAMP:20260425T154409Z
DTSTART;VALUE=DATE:20120620
DTEND;VALUE=DATE:20120623
SUMMARY:ICSC 2012
DESCRIPTION:2nd International Conference on Systems and Control 
URL:http://www.wikicfp.com/cfp/servlet/event.showcfp?eventid=20818&copyow
 nerid=4732
UID:cfp236976-E@wikicfp.com
END:VEVENT
BEGIN:VEVENT
DTSTAMP:20260425T154409Z
DTSTART;VALUE=DATE:20120201
SUMMARY:ICSC 2012 Deadline
DESCRIPTION:2nd International Conference on Systems and Control 
URL:http://www.wikicfp.com/cfp/servlet/event.showcfp?eventid=20818&copyow
 nerid=4732
UID:cfp236976-D@wikicfp.com
END:VEVENT
BEGIN:VEVENT
DTSTAMP:20260425T154409Z
DTSTART;VALUE=DATE:20120401
SUMMARY:ICSC 2012 Notification Due
DESCRIPTION:2nd International Conference on Systems and Control 
URL:http://www.wikicfp.com/cfp/servlet/event.showcfp?eventid=20818&copyow
 nerid=4732
UID:cfp236976-N@wikicfp.com
END:VEVENT
BEGIN:VEVENT
DTSTAMP:20260425T154409Z
DTSTART;VALUE=DATE:20120510
SUMMARY:ICSC 2012 Final Version Due
DESCRIPTION:2nd International Conference on Systems and Control 
URL:http://www.wikicfp.com/cfp/servlet/event.showcfp?eventid=20818&copyow
 nerid=4732
UID:cfp236976-N@wikicfp.com
END:VEVENT
END:VCALENDAR
