BEGIN:VCALENDAR
PRODID:-//WikiCFP//jan_fabisiak 1.0//EN
VERSION:2.0
CALSCALE:GREGORIAN
BEGIN:VEVENT
DTSTAMP:20260424T115038Z
DTSTART;VALUE=DATE:20130314
DTEND;VALUE=DATE:20130317
SUMMARY:Intellectbase Bangkok 2013
DESCRIPTION:Intellectbase Multi-Disciplinary Academic Conference 
URL:http://www.wikicfp.com/cfp/servlet/event.showcfp?eventid=24056&copyow
 nerid=47074
UID:cfp331767-E@wikicfp.com
END:VEVENT
BEGIN:VEVENT
DTSTAMP:20260424T115038Z
DTSTART;VALUE=DATE:20130222
SUMMARY:Intellectbase Bangkok 2013 Deadline
DESCRIPTION:Intellectbase Multi-Disciplinary Academic Conference 
URL:http://www.wikicfp.com/cfp/servlet/event.showcfp?eventid=24056&copyow
 nerid=47074
UID:cfp331767-D@wikicfp.com
END:VEVENT
BEGIN:VEVENT
DTSTAMP:20260424T115038Z
DTSTART;VALUE=DATE:20130301
SUMMARY:Intellectbase Bangkok 2013 Notification Due
DESCRIPTION:Intellectbase Multi-Disciplinary Academic Conference 
URL:http://www.wikicfp.com/cfp/servlet/event.showcfp?eventid=24056&copyow
 nerid=47074
UID:cfp331767-N@wikicfp.com
END:VEVENT
BEGIN:VEVENT
DTSTAMP:20260424T115038Z
DTSTART;VALUE=DATE:20130222
SUMMARY:Intellectbase Bangkok 2013 Final Version Due
DESCRIPTION:Intellectbase Multi-Disciplinary Academic Conference 
URL:http://www.wikicfp.com/cfp/servlet/event.showcfp?eventid=24056&copyow
 nerid=47074
UID:cfp331767-N@wikicfp.com
END:VEVENT
BEGIN:VEVENT
DTSTAMP:20260424T115038Z
DTSTART;VALUE=DATE:20130601
DTEND;VALUE=DATE:20130603
SUMMARY:ICCBM 2013
DESCRIPTION:2013 International Conference on Computer and Business Manage
 ment 
URL:http://www.wikicfp.com/cfp/servlet/event.showcfp?eventid=27847&copyow
 nerid=47074
UID:cfp331769-E@wikicfp.com
END:VEVENT
BEGIN:VEVENT
DTSTAMP:20260424T115038Z
DTSTART;VALUE=DATE:20130310
SUMMARY:ICCBM 2013 Deadline
DESCRIPTION:2013 International Conference on Computer and Business Manage
 ment 
URL:http://www.wikicfp.com/cfp/servlet/event.showcfp?eventid=27847&copyow
 nerid=47074
UID:cfp331769-D@wikicfp.com
END:VEVENT
BEGIN:VEVENT
DTSTAMP:20260424T115038Z
DTSTART;VALUE=DATE:20130331
SUMMARY:ICCBM 2013 Notification Due
DESCRIPTION:2013 International Conference on Computer and Business Manage
 ment 
URL:http://www.wikicfp.com/cfp/servlet/event.showcfp?eventid=27847&copyow
 nerid=47074
UID:cfp331769-N@wikicfp.com
END:VEVENT
BEGIN:VEVENT
DTSTAMP:20260424T115038Z
DTSTART;VALUE=DATE:20130420
SUMMARY:ICCBM 2013 Final Version Due
DESCRIPTION:2013 International Conference on Computer and Business Manage
 ment 
URL:http://www.wikicfp.com/cfp/servlet/event.showcfp?eventid=27847&copyow
 nerid=47074
UID:cfp331769-N@wikicfp.com
END:VEVENT
BEGIN:VEVENT
DTSTAMP:20260424T115038Z
DTSTART;VALUE=DATE:20130923
DTEND;VALUE=DATE:20130926
SUMMARY:Las Vegas 2013
DESCRIPTION:2013 Las Vegas International Academic Conference
URL:http://www.wikicfp.com/cfp/servlet/event.showcfp?eventid=27544&copyow
 nerid=47074
UID:cfp331768-E@wikicfp.com
END:VEVENT
BEGIN:VEVENT
DTSTAMP:20260424T115038Z
DTSTART;VALUE=DATE:20130829
SUMMARY:Las Vegas 2013 Deadline
DESCRIPTION:2013 Las Vegas International Academic Conference
URL:http://www.wikicfp.com/cfp/servlet/event.showcfp?eventid=27544&copyow
 nerid=47074
UID:cfp331768-D@wikicfp.com
END:VEVENT
BEGIN:VEVENT
DTSTAMP:20260424T115038Z
DTSTART;VALUE=DATE:20140430
SUMMARY:REASER 2014 Deadline
DESCRIPTION: Review of Applied Socio-Economic Research - Call for papers 
 
URL:http://www.wikicfp.com/cfp/servlet/event.showcfp?eventid=18487&copyow
 nerid=47074
UID:cfp331806-D@wikicfp.com
END:VEVENT
BEGIN:VEVENT
DTSTAMP:20260424T115038Z
DTSTART;VALUE=DATE:20140520
SUMMARY:REASER 2014 Notification Due
DESCRIPTION: Review of Applied Socio-Economic Research - Call for papers 
 
URL:http://www.wikicfp.com/cfp/servlet/event.showcfp?eventid=18487&copyow
 nerid=47074
UID:cfp331806-N@wikicfp.com
END:VEVENT
END:VCALENDAR
