BEGIN:VCALENDAR
PRODID:-//WikiCFP//saralakani 1.0//EN
VERSION:2.0
CALSCALE:GREGORIAN
BEGIN:VEVENT
DTSTAMP:20260424T010134Z
DTSTART;VALUE=DATE:20130421
DTEND;VALUE=DATE:20130423
SUMMARY:ICSEM 2013
DESCRIPTION:2013 2nd International Conference on System Engineering and M
 odeling
URL:http://www.wikicfp.com/cfp/servlet/event.showcfp?eventid=26232&copyow
 nerid=46872
UID:cfp330450-E@wikicfp.com
END:VEVENT
BEGIN:VEVENT
DTSTAMP:20260424T010134Z
DTSTART;VALUE=DATE:20130210
SUMMARY:ICSEM 2013 Deadline
DESCRIPTION:2013 2nd International Conference on System Engineering and M
 odeling
URL:http://www.wikicfp.com/cfp/servlet/event.showcfp?eventid=26232&copyow
 nerid=46872
UID:cfp330450-D@wikicfp.com
END:VEVENT
BEGIN:VEVENT
DTSTAMP:20260424T010134Z
DTSTART;VALUE=DATE:20130301
SUMMARY:ICSEM 2013 Notification Due
DESCRIPTION:2013 2nd International Conference on System Engineering and M
 odeling
URL:http://www.wikicfp.com/cfp/servlet/event.showcfp?eventid=26232&copyow
 nerid=46872
UID:cfp330450-N@wikicfp.com
END:VEVENT
BEGIN:VEVENT
DTSTAMP:20260424T010134Z
DTSTART;VALUE=DATE:20130315
SUMMARY:ICSEM 2013 Final Version Due
DESCRIPTION:2013 2nd International Conference on System Engineering and M
 odeling
URL:http://www.wikicfp.com/cfp/servlet/event.showcfp?eventid=26232&copyow
 nerid=46872
UID:cfp330450-N@wikicfp.com
END:VEVENT
BEGIN:VEVENT
DTSTAMP:20260424T010134Z
DTSTART;VALUE=DATE:20130527
DTEND;VALUE=DATE:20120531
SUMMARY:ECMS 2013
DESCRIPTION:27th European Conference on Modelling and Simulation
URL:http://www.wikicfp.com/cfp/servlet/event.showcfp?eventid=26756&copyow
 nerid=46872
UID:cfp330452-E@wikicfp.com
END:VEVENT
BEGIN:VEVENT
DTSTAMP:20260424T010134Z
DTSTART;VALUE=DATE:20130215
SUMMARY:ECMS 2013 Deadline
DESCRIPTION:27th European Conference on Modelling and Simulation
URL:http://www.wikicfp.com/cfp/servlet/event.showcfp?eventid=26756&copyow
 nerid=46872
UID:cfp330452-D@wikicfp.com
END:VEVENT
BEGIN:VEVENT
DTSTAMP:20260424T010134Z
DTSTART;VALUE=DATE:20130312
SUMMARY:ECMS 2013 Notification Due
DESCRIPTION:27th European Conference on Modelling and Simulation
URL:http://www.wikicfp.com/cfp/servlet/event.showcfp?eventid=26756&copyow
 nerid=46872
UID:cfp330452-N@wikicfp.com
END:VEVENT
BEGIN:VEVENT
DTSTAMP:20260424T010134Z
DTSTART;VALUE=DATE:20130409
SUMMARY:ECMS 2013 Final Version Due
DESCRIPTION:27th European Conference on Modelling and Simulation
URL:http://www.wikicfp.com/cfp/servlet/event.showcfp?eventid=26756&copyow
 nerid=46872
UID:cfp330452-N@wikicfp.com
END:VEVENT
BEGIN:VEVENT
DTSTAMP:20260424T010134Z
DTSTART;VALUE=DATE:20130717
DTEND;VALUE=DATE:20130720
SUMMARY:MS 2013
DESCRIPTION:Modelling and Simulation
URL:http://www.wikicfp.com/cfp/servlet/event.showcfp?eventid=26959&copyow
 nerid=46872
UID:cfp330451-E@wikicfp.com
END:VEVENT
BEGIN:VEVENT
DTSTAMP:20260424T010134Z
DTSTART;VALUE=DATE:20130315
SUMMARY:MS 2013 Deadline
DESCRIPTION:Modelling and Simulation
URL:http://www.wikicfp.com/cfp/servlet/event.showcfp?eventid=26959&copyow
 nerid=46872
UID:cfp330451-D@wikicfp.com
END:VEVENT
BEGIN:VEVENT
DTSTAMP:20260424T010134Z
DTSTART;VALUE=DATE:20130925
DTEND;VALUE=DATE:20130928
SUMMARY:CAMAD 2013
DESCRIPTION:The International Workshop on Computer-Aided Modeling Analysi
 s and Design of Communication Links and Networks (CAMAD) 
URL:http://www.wikicfp.com/cfp/servlet/event.showcfp?eventid=26597&copyow
 nerid=46872
UID:cfp330449-E@wikicfp.com
END:VEVENT
BEGIN:VEVENT
DTSTAMP:20260424T010134Z
DTSTART;VALUE=DATE:20130501
SUMMARY:CAMAD 2013 Deadline
DESCRIPTION:The International Workshop on Computer-Aided Modeling Analysi
 s and Design of Communication Links and Networks (CAMAD) 
URL:http://www.wikicfp.com/cfp/servlet/event.showcfp?eventid=26597&copyow
 nerid=46872
UID:cfp330449-D@wikicfp.com
END:VEVENT
BEGIN:VEVENT
DTSTAMP:20260424T010134Z
DTSTART;VALUE=DATE:20130715
SUMMARY:CAMAD 2013 Notification Due
DESCRIPTION:The International Workshop on Computer-Aided Modeling Analysi
 s and Design of Communication Links and Networks (CAMAD) 
URL:http://www.wikicfp.com/cfp/servlet/event.showcfp?eventid=26597&copyow
 nerid=46872
UID:cfp330449-N@wikicfp.com
END:VEVENT
BEGIN:VEVENT
DTSTAMP:20260424T010134Z
DTSTART;VALUE=DATE:20130810
SUMMARY:CAMAD 2013 Final Version Due
DESCRIPTION:The International Workshop on Computer-Aided Modeling Analysi
 s and Design of Communication Links and Networks (CAMAD) 
URL:http://www.wikicfp.com/cfp/servlet/event.showcfp?eventid=26597&copyow
 nerid=46872
UID:cfp330449-N@wikicfp.com
END:VEVENT
BEGIN:VEVENT
DTSTAMP:20260424T010134Z
DTSTART;VALUE=DATE:20140504
DTEND;VALUE=DATE:20140508
SUMMARY:CCECE 2014
DESCRIPTION:IEEE Canadian Conference on Electrical and Computer Engineeri
 ng
URL:http://www.wikicfp.com/cfp/servlet/event.showcfp?eventid=33072&copyow
 nerid=46872
UID:cfp388739-E@wikicfp.com
END:VEVENT
BEGIN:VEVENT
DTSTAMP:20260424T010134Z
DTSTART;VALUE=DATE:20140112
SUMMARY:CCECE 2014 Deadline
DESCRIPTION:IEEE Canadian Conference on Electrical and Computer Engineeri
 ng
URL:http://www.wikicfp.com/cfp/servlet/event.showcfp?eventid=33072&copyow
 nerid=46872
UID:cfp388739-D@wikicfp.com
END:VEVENT
BEGIN:VEVENT
DTSTAMP:20260424T010134Z
DTSTART;VALUE=DATE:20140227
SUMMARY:CCECE 2014 Notification Due
DESCRIPTION:IEEE Canadian Conference on Electrical and Computer Engineeri
 ng
URL:http://www.wikicfp.com/cfp/servlet/event.showcfp?eventid=33072&copyow
 nerid=46872
UID:cfp388739-N@wikicfp.com
END:VEVENT
BEGIN:VEVENT
DTSTAMP:20260424T010134Z
DTSTART;VALUE=DATE:20140404
SUMMARY:CCECE 2014 Final Version Due
DESCRIPTION:IEEE Canadian Conference on Electrical and Computer Engineeri
 ng
URL:http://www.wikicfp.com/cfp/servlet/event.showcfp?eventid=33072&copyow
 nerid=46872
UID:cfp388739-N@wikicfp.com
END:VEVENT
BEGIN:VEVENT
DTSTAMP:20260424T010134Z
DTSTART;VALUE=DATE:20140914
DTEND;VALUE=DATE:20140916
SUMMARY:WiVEC 2014
DESCRIPTION:6th IEEE International Symposium on Wireless Vehicular Commun
 ications (IEEE WiVeCâ2014) 
URL:http://www.wikicfp.com/cfp/servlet/event.showcfp?eventid=36208&copyow
 nerid=46872
UID:cfp441783-E@wikicfp.com
END:VEVENT
BEGIN:VEVENT
DTSTAMP:20260424T010134Z
DTSTART;VALUE=DATE:20140428
SUMMARY:WiVEC 2014 Deadline
DESCRIPTION:6th IEEE International Symposium on Wireless Vehicular Commun
 ications (IEEE WiVeCâ2014) 
URL:http://www.wikicfp.com/cfp/servlet/event.showcfp?eventid=36208&copyow
 nerid=46872
UID:cfp441783-D@wikicfp.com
END:VEVENT
BEGIN:VEVENT
DTSTAMP:20260424T010134Z
DTSTART;VALUE=DATE:20140528
SUMMARY:WiVEC 2014 Notification Due
DESCRIPTION:6th IEEE International Symposium on Wireless Vehicular Commun
 ications (IEEE WiVeCâ2014) 
URL:http://www.wikicfp.com/cfp/servlet/event.showcfp?eventid=36208&copyow
 nerid=46872
UID:cfp441783-N@wikicfp.com
END:VEVENT
BEGIN:VEVENT
DTSTAMP:20260424T010134Z
DTSTART;VALUE=DATE:20140623
SUMMARY:WiVEC 2014 Final Version Due
DESCRIPTION:6th IEEE International Symposium on Wireless Vehicular Commun
 ications (IEEE WiVeCâ2014) 
URL:http://www.wikicfp.com/cfp/servlet/event.showcfp?eventid=36208&copyow
 nerid=46872
UID:cfp441783-N@wikicfp.com
END:VEVENT
BEGIN:VEVENT
DTSTAMP:20260424T010134Z
DTSTART;VALUE=DATE:20140828
DTEND;VALUE=DATE:20140830
SUMMARY:IEEE VTS APWCS 2014
DESCRIPTION:The 11th IEEE Vehicular Technology Society Asia Pacific Wirel
 ess Communications Symposium
URL:http://www.wikicfp.com/cfp/servlet/event.showcfp?eventid=35703&copyow
 nerid=46872
UID:cfp441786-E@wikicfp.com
END:VEVENT
BEGIN:VEVENT
DTSTAMP:20260424T010134Z
DTSTART;VALUE=DATE:20140515
SUMMARY:IEEE VTS APWCS 2014 Deadline
DESCRIPTION:The 11th IEEE Vehicular Technology Society Asia Pacific Wirel
 ess Communications Symposium
URL:http://www.wikicfp.com/cfp/servlet/event.showcfp?eventid=35703&copyow
 nerid=46872
UID:cfp441786-D@wikicfp.com
END:VEVENT
BEGIN:VEVENT
DTSTAMP:20260424T010134Z
DTSTART;VALUE=DATE:20140621
SUMMARY:IEEE VTS APWCS 2014 Notification Due
DESCRIPTION:The 11th IEEE Vehicular Technology Society Asia Pacific Wirel
 ess Communications Symposium
URL:http://www.wikicfp.com/cfp/servlet/event.showcfp?eventid=35703&copyow
 nerid=46872
UID:cfp441786-N@wikicfp.com
END:VEVENT
BEGIN:VEVENT
DTSTAMP:20260424T010134Z
DTSTART;VALUE=DATE:20140721
SUMMARY:IEEE VTS APWCS 2014 Final Version Due
DESCRIPTION:The 11th IEEE Vehicular Technology Society Asia Pacific Wirel
 ess Communications Symposium
URL:http://www.wikicfp.com/cfp/servlet/event.showcfp?eventid=35703&copyow
 nerid=46872
UID:cfp441786-N@wikicfp.com
END:VEVENT
BEGIN:VEVENT
DTSTAMP:20260424T010134Z
DTSTART;VALUE=DATE:20140829
DTEND;VALUE=DATE:20140831
SUMMARY:IWMSN 2014
DESCRIPTION:International Workshop on Wireless\, Mobile and Sensor Networ
 ks
URL:http://www.wikicfp.com/cfp/servlet/event.showcfp?eventid=35554&copyow
 nerid=46872
UID:cfp441785-E@wikicfp.com
END:VEVENT
BEGIN:VEVENT
DTSTAMP:20260424T010134Z
DTSTART;VALUE=DATE:20140620
SUMMARY:IWMSN 2014 Deadline
DESCRIPTION:International Workshop on Wireless\, Mobile and Sensor Networ
 ks
URL:http://www.wikicfp.com/cfp/servlet/event.showcfp?eventid=35554&copyow
 nerid=46872
UID:cfp441785-D@wikicfp.com
END:VEVENT
BEGIN:VEVENT
DTSTAMP:20260424T010134Z
DTSTART;VALUE=DATE:20140710
SUMMARY:IWMSN 2014 Notification Due
DESCRIPTION:International Workshop on Wireless\, Mobile and Sensor Networ
 ks
URL:http://www.wikicfp.com/cfp/servlet/event.showcfp?eventid=35554&copyow
 nerid=46872
UID:cfp441785-N@wikicfp.com
END:VEVENT
BEGIN:VEVENT
DTSTAMP:20260424T010134Z
DTSTART;VALUE=DATE:20140720
SUMMARY:IWMSN 2014 Final Version Due
DESCRIPTION:International Workshop on Wireless\, Mobile and Sensor Networ
 ks
URL:http://www.wikicfp.com/cfp/servlet/event.showcfp?eventid=35554&copyow
 nerid=46872
UID:cfp441785-N@wikicfp.com
END:VEVENT
BEGIN:VEVENT
DTSTAMP:20260424T010134Z
DTSTART;VALUE=DATE:20150426
DTEND;VALUE=DATE:20150502
SUMMARY:INFOCOM 2015
DESCRIPTION:IEEE Conference on Computer Communications
URL:http://www.wikicfp.com/cfp/servlet/event.showcfp?eventid=36501&copyow
 nerid=46872
UID:cfp447394-E@wikicfp.com
END:VEVENT
BEGIN:VEVENT
DTSTAMP:20260424T010134Z
DTSTART;VALUE=DATE:20140723
SUMMARY:INFOCOM 2015 Abstract Due
DESCRIPTION:IEEE Conference on Computer Communications
URL:http://www.wikicfp.com/cfp/servlet/event.showcfp?eventid=36501&copyow
 nerid=46872
UID:cfp447394-A@wikicfp.com
END:VEVENT
BEGIN:VEVENT
DTSTAMP:20260424T010134Z
DTSTART;VALUE=DATE:20140730
SUMMARY:INFOCOM 2015 Deadline
DESCRIPTION:IEEE Conference on Computer Communications
URL:http://www.wikicfp.com/cfp/servlet/event.showcfp?eventid=36501&copyow
 nerid=46872
UID:cfp447394-D@wikicfp.com
END:VEVENT
BEGIN:VEVENT
DTSTAMP:20260424T010134Z
DTSTART;VALUE=DATE:20141117
SUMMARY:INFOCOM 2015 Notification Due
DESCRIPTION:IEEE Conference on Computer Communications
URL:http://www.wikicfp.com/cfp/servlet/event.showcfp?eventid=36501&copyow
 nerid=46872
UID:cfp447394-N@wikicfp.com
END:VEVENT
BEGIN:VEVENT
DTSTAMP:20260424T010134Z
DTSTART;VALUE=DATE:20150608
DTEND;VALUE=DATE:20150613
SUMMARY:ICC 2015
DESCRIPTION:IEEE International Conference on Communications
URL:http://www.wikicfp.com/cfp/servlet/event.showcfp?eventid=37101&copyow
 nerid=46872
UID:cfp441784-E@wikicfp.com
END:VEVENT
BEGIN:VEVENT
DTSTAMP:20260424T010134Z
DTSTART;VALUE=DATE:20141015
SUMMARY:ICC 2015 Deadline
DESCRIPTION:IEEE International Conference on Communications
URL:http://www.wikicfp.com/cfp/servlet/event.showcfp?eventid=37101&copyow
 nerid=46872
UID:cfp441784-D@wikicfp.com
END:VEVENT
END:VCALENDAR
