BEGIN:VCALENDAR
PRODID:-//WikiCFP//childochild123 1.0//EN
VERSION:2.0
CALSCALE:GREGORIAN
BEGIN:VEVENT
DTSTAMP:20260419T132651Z
DTSTART;VALUE=DATE:20130616
DTEND;VALUE=DATE:20130621
SUMMARY:ISC 2013
DESCRIPTION:International Supercomputing Conference 2013
URL:http://www.wikicfp.com/cfp/servlet/event.showcfp?eventid=27759&copyow
 nerid=45894
UID:cfp322289-E@wikicfp.com
END:VEVENT
BEGIN:VEVENT
DTSTAMP:20260419T132651Z
DTSTART;VALUE=DATE:20130110
SUMMARY:ISC 2013 Abstract Due
DESCRIPTION:International Supercomputing Conference 2013
URL:http://www.wikicfp.com/cfp/servlet/event.showcfp?eventid=27759&copyow
 nerid=45894
UID:cfp322289-A@wikicfp.com
END:VEVENT
BEGIN:VEVENT
DTSTAMP:20260419T132651Z
DTSTART;VALUE=DATE:20130127
SUMMARY:ISC 2013 Deadline
DESCRIPTION:International Supercomputing Conference 2013
URL:http://www.wikicfp.com/cfp/servlet/event.showcfp?eventid=27759&copyow
 nerid=45894
UID:cfp322289-D@wikicfp.com
END:VEVENT
BEGIN:VEVENT
DTSTAMP:20260419T132651Z
DTSTART;VALUE=DATE:20130322
SUMMARY:ISC 2013 Notification Due
DESCRIPTION:International Supercomputing Conference 2013
URL:http://www.wikicfp.com/cfp/servlet/event.showcfp?eventid=27759&copyow
 nerid=45894
UID:cfp322289-N@wikicfp.com
END:VEVENT
BEGIN:VEVENT
DTSTAMP:20260419T132651Z
DTSTART;VALUE=DATE:20130407
SUMMARY:ISC 2013 Final Version Due
DESCRIPTION:International Supercomputing Conference 2013
URL:http://www.wikicfp.com/cfp/servlet/event.showcfp?eventid=27759&copyow
 nerid=45894
UID:cfp322289-N@wikicfp.com
END:VEVENT
BEGIN:VEVENT
DTSTAMP:20260419T132651Z
DTSTART;VALUE=DATE:20130411
DTEND;VALUE=DATE:20130414
SUMMARY:Intellectbase San Antonio 2013
DESCRIPTION:Intellectbase Multi-Disciplinary Academic Conference 
URL:http://www.wikicfp.com/cfp/servlet/event.showcfp?eventid=22252&copyow
 nerid=45894
UID:cfp322290-E@wikicfp.com
END:VEVENT
BEGIN:VEVENT
DTSTAMP:20260419T132651Z
DTSTART;VALUE=DATE:20130110
SUMMARY:Intellectbase San Antonio 2013 Abstract Due
DESCRIPTION:Intellectbase Multi-Disciplinary Academic Conference 
URL:http://www.wikicfp.com/cfp/servlet/event.showcfp?eventid=22252&copyow
 nerid=45894
UID:cfp322290-A@wikicfp.com
END:VEVENT
BEGIN:VEVENT
DTSTAMP:20260419T132651Z
DTSTART;VALUE=DATE:20130316
SUMMARY:Intellectbase San Antonio 2013 Deadline
DESCRIPTION:Intellectbase Multi-Disciplinary Academic Conference 
URL:http://www.wikicfp.com/cfp/servlet/event.showcfp?eventid=22252&copyow
 nerid=45894
UID:cfp322290-D@wikicfp.com
END:VEVENT
BEGIN:VEVENT
DTSTAMP:20260419T132651Z
DTSTART;VALUE=DATE:20130405
SUMMARY:Intellectbase San Antonio 2013 Notification Due
DESCRIPTION:Intellectbase Multi-Disciplinary Academic Conference 
URL:http://www.wikicfp.com/cfp/servlet/event.showcfp?eventid=22252&copyow
 nerid=45894
UID:cfp322290-N@wikicfp.com
END:VEVENT
BEGIN:VEVENT
DTSTAMP:20260419T132651Z
DTSTART;VALUE=DATE:20130316
SUMMARY:Intellectbase San Antonio 2013 Final Version Due
DESCRIPTION:Intellectbase Multi-Disciplinary Academic Conference 
URL:http://www.wikicfp.com/cfp/servlet/event.showcfp?eventid=22252&copyow
 nerid=45894
UID:cfp322290-N@wikicfp.com
END:VEVENT
BEGIN:VEVENT
DTSTAMP:20260419T132651Z
DTSTART;VALUE=DATE:20130523
DTEND;VALUE=DATE:20130526
SUMMARY:Intellectbase Nashville 2013
DESCRIPTION:Intellectbase Multi-Disciplinary Academic Conference
URL:http://www.wikicfp.com/cfp/servlet/event.showcfp?eventid=22255&copyow
 nerid=45894
UID:cfp322291-E@wikicfp.com
END:VEVENT
BEGIN:VEVENT
DTSTAMP:20260419T132651Z
DTSTART;VALUE=DATE:20130110
SUMMARY:Intellectbase Nashville 2013 Abstract Due
DESCRIPTION:Intellectbase Multi-Disciplinary Academic Conference
URL:http://www.wikicfp.com/cfp/servlet/event.showcfp?eventid=22255&copyow
 nerid=45894
UID:cfp322291-A@wikicfp.com
END:VEVENT
BEGIN:VEVENT
DTSTAMP:20260419T132651Z
DTSTART;VALUE=DATE:20130428
SUMMARY:Intellectbase Nashville 2013 Deadline
DESCRIPTION:Intellectbase Multi-Disciplinary Academic Conference
URL:http://www.wikicfp.com/cfp/servlet/event.showcfp?eventid=22255&copyow
 nerid=45894
UID:cfp322291-D@wikicfp.com
END:VEVENT
BEGIN:VEVENT
DTSTAMP:20260419T132651Z
DTSTART;VALUE=DATE:20130511
SUMMARY:Intellectbase Nashville 2013 Notification Due
DESCRIPTION:Intellectbase Multi-Disciplinary Academic Conference
URL:http://www.wikicfp.com/cfp/servlet/event.showcfp?eventid=22255&copyow
 nerid=45894
UID:cfp322291-N@wikicfp.com
END:VEVENT
BEGIN:VEVENT
DTSTAMP:20260419T132651Z
DTSTART;VALUE=DATE:20130428
SUMMARY:Intellectbase Nashville 2013 Final Version Due
DESCRIPTION:Intellectbase Multi-Disciplinary Academic Conference
URL:http://www.wikicfp.com/cfp/servlet/event.showcfp?eventid=22255&copyow
 nerid=45894
UID:cfp322291-N@wikicfp.com
END:VEVENT
BEGIN:VEVENT
DTSTAMP:20260419T132651Z
DTSTART;VALUE=DATE:20130923
DTEND;VALUE=DATE:20130926
SUMMARY:Las Vegas 2013
DESCRIPTION:2013 Las Vegas International Academic Conference
URL:http://www.wikicfp.com/cfp/servlet/event.showcfp?eventid=27544&copyow
 nerid=45894
UID:cfp322292-E@wikicfp.com
END:VEVENT
BEGIN:VEVENT
DTSTAMP:20260419T132651Z
DTSTART;VALUE=DATE:20130110
SUMMARY:Las Vegas 2013 Abstract Due
DESCRIPTION:2013 Las Vegas International Academic Conference
URL:http://www.wikicfp.com/cfp/servlet/event.showcfp?eventid=27544&copyow
 nerid=45894
UID:cfp322292-A@wikicfp.com
END:VEVENT
BEGIN:VEVENT
DTSTAMP:20260419T132651Z
DTSTART;VALUE=DATE:20130829
SUMMARY:Las Vegas 2013 Deadline
DESCRIPTION:2013 Las Vegas International Academic Conference
URL:http://www.wikicfp.com/cfp/servlet/event.showcfp?eventid=27544&copyow
 nerid=45894
UID:cfp322292-D@wikicfp.com
END:VEVENT
BEGIN:VEVENT
DTSTAMP:20260419T132651Z
DTSTART;VALUE=DATE:20131017
DTEND;VALUE=DATE:20131020
SUMMARY:Intellectbase Atlanta 2013
DESCRIPTION:Intellectbase Multi-Disciplinary Academic Conference 
URL:http://www.wikicfp.com/cfp/servlet/event.showcfp?eventid=23335&copyow
 nerid=45894
UID:cfp322294-E@wikicfp.com
END:VEVENT
BEGIN:VEVENT
DTSTAMP:20260419T132651Z
DTSTART;VALUE=DATE:20130110
SUMMARY:Intellectbase Atlanta 2013 Abstract Due
DESCRIPTION:Intellectbase Multi-Disciplinary Academic Conference 
URL:http://www.wikicfp.com/cfp/servlet/event.showcfp?eventid=23335&copyow
 nerid=45894
UID:cfp322294-A@wikicfp.com
END:VEVENT
BEGIN:VEVENT
DTSTAMP:20260419T132651Z
DTSTART;VALUE=DATE:20130922
SUMMARY:Intellectbase Atlanta 2013 Deadline
DESCRIPTION:Intellectbase Multi-Disciplinary Academic Conference 
URL:http://www.wikicfp.com/cfp/servlet/event.showcfp?eventid=23335&copyow
 nerid=45894
UID:cfp322294-D@wikicfp.com
END:VEVENT
BEGIN:VEVENT
DTSTAMP:20260419T132651Z
DTSTART;VALUE=DATE:20130930
SUMMARY:Intellectbase Atlanta 2013 Notification Due
DESCRIPTION:Intellectbase Multi-Disciplinary Academic Conference 
URL:http://www.wikicfp.com/cfp/servlet/event.showcfp?eventid=23335&copyow
 nerid=45894
UID:cfp322294-N@wikicfp.com
END:VEVENT
BEGIN:VEVENT
DTSTAMP:20260419T132651Z
DTSTART;VALUE=DATE:20130922
SUMMARY:Intellectbase Atlanta 2013 Final Version Due
DESCRIPTION:Intellectbase Multi-Disciplinary Academic Conference 
URL:http://www.wikicfp.com/cfp/servlet/event.showcfp?eventid=23335&copyow
 nerid=45894
UID:cfp322294-N@wikicfp.com
END:VEVENT
END:VCALENDAR
