BEGIN:VCALENDAR
PRODID:-//WikiCFP//tjs 1.0//EN
VERSION:2.0
CALSCALE:GREGORIAN
BEGIN:VEVENT
DTSTAMP:20260422T235857Z
DTSTART;VALUE=DATE:20090116
DTEND;VALUE=DATE:20090119
SUMMARY:IHCI 2010
DESCRIPTION:Second IEEE International Conference on Intelligent Human Com
 puter Interaction (IHCI 2010) 
URL:http://www.wikicfp.com/cfp/servlet/event.showcfp?eventid=5428&copyown
 erid=4566
UID:cfp36309-E@wikicfp.com
END:VEVENT
BEGIN:VEVENT
DTSTAMP:20260422T235857Z
DTSTART;VALUE=DATE:20090901
SUMMARY:IHCI 2010 Deadline
DESCRIPTION:Second IEEE International Conference on Intelligent Human Com
 puter Interaction (IHCI 2010) 
URL:http://www.wikicfp.com/cfp/servlet/event.showcfp?eventid=5428&copyown
 erid=4566
UID:cfp36309-D@wikicfp.com
END:VEVENT
BEGIN:VEVENT
DTSTAMP:20260422T235857Z
DTSTART;VALUE=DATE:20091015
SUMMARY:IHCI 2010 Notification Due
DESCRIPTION:Second IEEE International Conference on Intelligent Human Com
 puter Interaction (IHCI 2010) 
URL:http://www.wikicfp.com/cfp/servlet/event.showcfp?eventid=5428&copyown
 erid=4566
UID:cfp36309-N@wikicfp.com
END:VEVENT
BEGIN:VEVENT
DTSTAMP:20260422T235857Z
DTSTART;VALUE=DATE:20091115
SUMMARY:IHCI 2010 Final Version Due
DESCRIPTION:Second IEEE International Conference on Intelligent Human Com
 puter Interaction (IHCI 2010) 
URL:http://www.wikicfp.com/cfp/servlet/event.showcfp?eventid=5428&copyown
 erid=4566
UID:cfp36309-N@wikicfp.com
END:VEVENT
BEGIN:VEVENT
DTSTAMP:20260422T235857Z
DTSTART;VALUE=DATE:20110410
SUMMARY:IGI Book Chapter 2011 Deadline
DESCRIPTION:Speech\, Image and Language Processing for Human Computer Int
 eraction: Multi-modal Advancements
URL:http://www.wikicfp.com/cfp/servlet/event.showcfp?eventid=15814&copyow
 nerid=4566
UID:cfp165298-D@wikicfp.com
END:VEVENT
BEGIN:VEVENT
DTSTAMP:20260422T235857Z
DTSTART;VALUE=DATE:20110829
DTEND;VALUE=DATE:20110901
SUMMARY:IHCI 2011
DESCRIPTION:Third International Conference on Intelligent Human Computer 
 Interaction
URL:http://www.wikicfp.com/cfp/servlet/event.showcfp?eventid=16718&copyow
 nerid=4566
UID:cfp178537-E@wikicfp.com
END:VEVENT
BEGIN:VEVENT
DTSTAMP:20260422T235857Z
DTSTART;VALUE=DATE:20110613
SUMMARY:IHCI 2011 Deadline
DESCRIPTION:Third International Conference on Intelligent Human Computer 
 Interaction
URL:http://www.wikicfp.com/cfp/servlet/event.showcfp?eventid=16718&copyow
 nerid=4566
UID:cfp178537-D@wikicfp.com
END:VEVENT
BEGIN:VEVENT
DTSTAMP:20260422T235857Z
DTSTART;VALUE=DATE:20110620
SUMMARY:IHCI 2011 Notification Due
DESCRIPTION:Third International Conference on Intelligent Human Computer 
 Interaction
URL:http://www.wikicfp.com/cfp/servlet/event.showcfp?eventid=16718&copyow
 nerid=4566
UID:cfp178537-N@wikicfp.com
END:VEVENT
BEGIN:VEVENT
DTSTAMP:20260422T235857Z
DTSTART;VALUE=DATE:20110630
SUMMARY:IHCI 2011 Final Version Due
DESCRIPTION:Third International Conference on Intelligent Human Computer 
 Interaction
URL:http://www.wikicfp.com/cfp/servlet/event.showcfp?eventid=16718&copyow
 nerid=4566
UID:cfp178537-N@wikicfp.com
END:VEVENT
BEGIN:VEVENT
DTSTAMP:20260422T235857Z
DTSTART;VALUE=DATE:20120214
DTEND;VALUE=DATE:20120215
SUMMARY:IUI workshop 2012
DESCRIPTION:Workshop on Developing IUI for e-Accessibility  
URL:http://www.wikicfp.com/cfp/servlet/event.showcfp?eventid=19076&copyow
 nerid=4566
UID:cfp215418-E@wikicfp.com
END:VEVENT
BEGIN:VEVENT
DTSTAMP:20260422T235857Z
DTSTART;VALUE=DATE:20121130
SUMMARY:IUI workshop 2012 Deadline
DESCRIPTION:Workshop on Developing IUI for e-Accessibility  
URL:http://www.wikicfp.com/cfp/servlet/event.showcfp?eventid=19076&copyow
 nerid=4566
UID:cfp215418-D@wikicfp.com
END:VEVENT
BEGIN:VEVENT
DTSTAMP:20260422T235857Z
DTSTART;VALUE=DATE:20120115
SUMMARY:IUI workshop 2012 Notification Due
DESCRIPTION:Workshop on Developing IUI for e-Accessibility  
URL:http://www.wikicfp.com/cfp/servlet/event.showcfp?eventid=19076&copyow
 nerid=4566
UID:cfp215418-N@wikicfp.com
END:VEVENT
BEGIN:VEVENT
DTSTAMP:20260422T235857Z
DTSTART;VALUE=DATE:20120115
SUMMARY:IUI workshop 2012 Final Version Due
DESCRIPTION:Workshop on Developing IUI for e-Accessibility  
URL:http://www.wikicfp.com/cfp/servlet/event.showcfp?eventid=19076&copyow
 nerid=4566
UID:cfp215418-N@wikicfp.com
END:VEVENT
END:VCALENDAR
