BEGIN:VCALENDAR
PRODID:-//WikiCFP//astray0924 1.0//EN
VERSION:2.0
CALSCALE:GREGORIAN
BEGIN:VEVENT
DTSTAMP:20260419T130617Z
DTSTART;VALUE=DATE:20131027
DTEND;VALUE=DATE:20131102
SUMMARY:CIKM 2013
DESCRIPTION:ACM Conference of Information and Knowledge Management
URL:http://www.wikicfp.com/cfp/servlet/event.showcfp?eventid=25339&copyow
 nerid=45207
UID:cfp316733-E@wikicfp.com
END:VEVENT
BEGIN:VEVENT
DTSTAMP:20260419T130617Z
DTSTART;VALUE=DATE:20130510
SUMMARY:CIKM 2013 Abstract Due
DESCRIPTION:ACM Conference of Information and Knowledge Management
URL:http://www.wikicfp.com/cfp/servlet/event.showcfp?eventid=25339&copyow
 nerid=45207
UID:cfp316733-A@wikicfp.com
END:VEVENT
BEGIN:VEVENT
DTSTAMP:20260419T130617Z
DTSTART;VALUE=DATE:20130517
SUMMARY:CIKM 2013 Deadline
DESCRIPTION:ACM Conference of Information and Knowledge Management
URL:http://www.wikicfp.com/cfp/servlet/event.showcfp?eventid=25339&copyow
 nerid=45207
UID:cfp316733-D@wikicfp.com
END:VEVENT
BEGIN:VEVENT
DTSTAMP:20260419T130617Z
DTSTART;VALUE=DATE:20130715
SUMMARY:CIKM 2013 Notification Due
DESCRIPTION:ACM Conference of Information and Knowledge Management
URL:http://www.wikicfp.com/cfp/servlet/event.showcfp?eventid=25339&copyow
 nerid=45207
UID:cfp316733-N@wikicfp.com
END:VEVENT
BEGIN:VEVENT
DTSTAMP:20260419T130617Z
DTSTART;VALUE=DATE:20130811
SUMMARY:CIKM 2013 Final Version Due
DESCRIPTION:ACM Conference of Information and Knowledge Management
URL:http://www.wikicfp.com/cfp/servlet/event.showcfp?eventid=25339&copyow
 nerid=45207
UID:cfp316733-N@wikicfp.com
END:VEVENT
BEGIN:VEVENT
DTSTAMP:20260419T130617Z
DTSTART;VALUE=DATE:20140224
DTEND;VALUE=DATE:20140301
SUMMARY:WSDM 2014
DESCRIPTION:Seventh ACM International Conference on Web Search and Data M
 ining
URL:http://www.wikicfp.com/cfp/servlet/event.showcfp?eventid=30751&copyow
 nerid=45207
UID:cfp377464-E@wikicfp.com
END:VEVENT
BEGIN:VEVENT
DTSTAMP:20260419T130617Z
DTSTART;VALUE=DATE:20130821
SUMMARY:WSDM 2014 Abstract Due
DESCRIPTION:Seventh ACM International Conference on Web Search and Data M
 ining
URL:http://www.wikicfp.com/cfp/servlet/event.showcfp?eventid=30751&copyow
 nerid=45207
UID:cfp377464-A@wikicfp.com
END:VEVENT
BEGIN:VEVENT
DTSTAMP:20260419T130617Z
DTSTART;VALUE=DATE:20130828
SUMMARY:WSDM 2014 Deadline
DESCRIPTION:Seventh ACM International Conference on Web Search and Data M
 ining
URL:http://www.wikicfp.com/cfp/servlet/event.showcfp?eventid=30751&copyow
 nerid=45207
UID:cfp377464-D@wikicfp.com
END:VEVENT
BEGIN:VEVENT
DTSTAMP:20260419T130617Z
DTSTART;VALUE=DATE:20131125
SUMMARY:WSDM 2014 Notification Due
DESCRIPTION:Seventh ACM International Conference on Web Search and Data M
 ining
URL:http://www.wikicfp.com/cfp/servlet/event.showcfp?eventid=30751&copyow
 nerid=45207
UID:cfp377464-N@wikicfp.com
END:VEVENT
END:VCALENDAR
