BEGIN:VCALENDAR
PRODID:-//WikiCFP//adonis2126 1.0//EN
VERSION:2.0
CALSCALE:GREGORIAN
BEGIN:VEVENT
DTSTAMP:20260419T205701Z
DTSTART;VALUE=DATE:20130227
DTEND;VALUE=DATE:20130302
SUMMARY:RehabTech Asia 2013
DESCRIPTION:RehabTech Asia- International Exhibition & Conference on Assi
 stive Technology\, Integrated Care & Rehabilitation Engineering
URL:http://www.wikicfp.com/cfp/servlet/event.showcfp?eventid=22384&copyow
 nerid=44494
UID:cfp311830-E@wikicfp.com
END:VEVENT
BEGIN:VEVENT
DTSTAMP:20260419T205701Z
DTSTART;VALUE=DATE:20120731
SUMMARY:RehabTech Asia 2013 Deadline
DESCRIPTION:RehabTech Asia- International Exhibition & Conference on Assi
 stive Technology\, Integrated Care & Rehabilitation Engineering
URL:http://www.wikicfp.com/cfp/servlet/event.showcfp?eventid=22384&copyow
 nerid=44494
UID:cfp311830-D@wikicfp.com
END:VEVENT
BEGIN:VEVENT
DTSTAMP:20260419T205701Z
DTSTART;VALUE=DATE:20121001
SUMMARY:RehabTech Asia 2013 Notification Due
DESCRIPTION:RehabTech Asia- International Exhibition & Conference on Assi
 stive Technology\, Integrated Care & Rehabilitation Engineering
URL:http://www.wikicfp.com/cfp/servlet/event.showcfp?eventid=22384&copyow
 nerid=44494
UID:cfp311830-N@wikicfp.com
END:VEVENT
BEGIN:VEVENT
DTSTAMP:20260419T205701Z
DTSTART;VALUE=DATE:20121101
SUMMARY:RehabTech Asia 2013 Final Version Due
DESCRIPTION:RehabTech Asia- International Exhibition & Conference on Assi
 stive Technology\, Integrated Care & Rehabilitation Engineering
URL:http://www.wikicfp.com/cfp/servlet/event.showcfp?eventid=22384&copyow
 nerid=44494
UID:cfp311830-N@wikicfp.com
END:VEVENT
BEGIN:VEVENT
DTSTAMP:20260419T205701Z
DTSTART;VALUE=DATE:20130306
DTEND;VALUE=DATE:20130309
SUMMARY:ISMICT 2013
DESCRIPTION:7th International Symposium on Medical Information and Commun
 ication Technology (ISMICT)
URL:http://www.wikicfp.com/cfp/servlet/event.showcfp?eventid=25831&copyow
 nerid=44494
UID:cfp311829-E@wikicfp.com
END:VEVENT
BEGIN:VEVENT
DTSTAMP:20260419T205701Z
DTSTART;VALUE=DATE:20121031
SUMMARY:ISMICT 2013 Deadline
DESCRIPTION:7th International Symposium on Medical Information and Commun
 ication Technology (ISMICT)
URL:http://www.wikicfp.com/cfp/servlet/event.showcfp?eventid=25831&copyow
 nerid=44494
UID:cfp311829-D@wikicfp.com
END:VEVENT
BEGIN:VEVENT
DTSTAMP:20260419T205701Z
DTSTART;VALUE=DATE:20121215
SUMMARY:ISMICT 2013 Notification Due
DESCRIPTION:7th International Symposium on Medical Information and Commun
 ication Technology (ISMICT)
URL:http://www.wikicfp.com/cfp/servlet/event.showcfp?eventid=25831&copyow
 nerid=44494
UID:cfp311829-N@wikicfp.com
END:VEVENT
BEGIN:VEVENT
DTSTAMP:20260419T205701Z
DTSTART;VALUE=DATE:20130107
SUMMARY:ISMICT 2013 Final Version Due
DESCRIPTION:7th International Symposium on Medical Information and Commun
 ication Technology (ISMICT)
URL:http://www.wikicfp.com/cfp/servlet/event.showcfp?eventid=25831&copyow
 nerid=44494
UID:cfp311829-N@wikicfp.com
END:VEVENT
BEGIN:VEVENT
DTSTAMP:20260419T205701Z
DTSTART;VALUE=DATE:20130315
DTEND;VALUE=DATE:20130318
SUMMARY:ACME 2013
DESCRIPTION:ACMEâ2013 Asian Conference on Civil\, Material and Environm
 ental Sciences
URL:http://www.wikicfp.com/cfp/servlet/event.showcfp?eventid=25035&copyow
 nerid=44494
UID:cfp311826-E@wikicfp.com
END:VEVENT
BEGIN:VEVENT
DTSTAMP:20260419T205701Z
DTSTART;VALUE=DATE:20121120
SUMMARY:ACME 2013 Abstract Due
DESCRIPTION:ACMEâ2013 Asian Conference on Civil\, Material and Environm
 ental Sciences
URL:http://www.wikicfp.com/cfp/servlet/event.showcfp?eventid=25035&copyow
 nerid=44494
UID:cfp311826-A@wikicfp.com
END:VEVENT
BEGIN:VEVENT
DTSTAMP:20260419T205701Z
DTSTART;VALUE=DATE:20121231
SUMMARY:ACME 2013 Deadline
DESCRIPTION:ACMEâ2013 Asian Conference on Civil\, Material and Environm
 ental Sciences
URL:http://www.wikicfp.com/cfp/servlet/event.showcfp?eventid=25035&copyow
 nerid=44494
UID:cfp311826-D@wikicfp.com
END:VEVENT
BEGIN:VEVENT
DTSTAMP:20260419T205701Z
DTSTART;VALUE=DATE:20121205
SUMMARY:ACME 2013 Notification Due
DESCRIPTION:ACMEâ2013 Asian Conference on Civil\, Material and Environm
 ental Sciences
URL:http://www.wikicfp.com/cfp/servlet/event.showcfp?eventid=25035&copyow
 nerid=44494
UID:cfp311826-N@wikicfp.com
END:VEVENT
BEGIN:VEVENT
DTSTAMP:20260419T205701Z
DTSTART;VALUE=DATE:20121231
SUMMARY:ACME 2013 Final Version Due
DESCRIPTION:ACMEâ2013 Asian Conference on Civil\, Material and Environm
 ental Sciences
URL:http://www.wikicfp.com/cfp/servlet/event.showcfp?eventid=25035&copyow
 nerid=44494
UID:cfp311826-N@wikicfp.com
END:VEVENT
BEGIN:VEVENT
DTSTAMP:20260419T205701Z
DTSTART;VALUE=DATE:20130323
DTEND;VALUE=DATE:20130325
SUMMARY:ICMIB 2013
DESCRIPTION:2013 2nd International Conference on Medical Information and 
 Bioengineering
URL:http://www.wikicfp.com/cfp/servlet/event.showcfp?eventid=25713&copyow
 nerid=44494
UID:cfp311828-E@wikicfp.com
END:VEVENT
BEGIN:VEVENT
DTSTAMP:20260419T205701Z
DTSTART;VALUE=DATE:20130115
SUMMARY:ICMIB 2013 Deadline
DESCRIPTION:2013 2nd International Conference on Medical Information and 
 Bioengineering
URL:http://www.wikicfp.com/cfp/servlet/event.showcfp?eventid=25713&copyow
 nerid=44494
UID:cfp311828-D@wikicfp.com
END:VEVENT
BEGIN:VEVENT
DTSTAMP:20260419T205701Z
DTSTART;VALUE=DATE:20130205
SUMMARY:ICMIB 2013 Notification Due
DESCRIPTION:2013 2nd International Conference on Medical Information and 
 Bioengineering
URL:http://www.wikicfp.com/cfp/servlet/event.showcfp?eventid=25713&copyow
 nerid=44494
UID:cfp311828-N@wikicfp.com
END:VEVENT
BEGIN:VEVENT
DTSTAMP:20260419T205701Z
DTSTART;VALUE=DATE:20130220
SUMMARY:ICMIB 2013 Final Version Due
DESCRIPTION:2013 2nd International Conference on Medical Information and 
 Bioengineering
URL:http://www.wikicfp.com/cfp/servlet/event.showcfp?eventid=25713&copyow
 nerid=44494
UID:cfp311828-N@wikicfp.com
END:VEVENT
BEGIN:VEVENT
DTSTAMP:20260419T205701Z
DTSTART;VALUE=DATE:20130312
DTEND;VALUE=DATE:20130317
SUMMARY:ICOT 2013
DESCRIPTION:2013 IEEE International Conference on Orange Technologies
URL:http://www.wikicfp.com/cfp/servlet/event.showcfp?eventid=24943&copyow
 nerid=44494
UID:cfp311827-E@wikicfp.com
END:VEVENT
BEGIN:VEVENT
DTSTAMP:20260419T205701Z
DTSTART;VALUE=DATE:20131125
SUMMARY:ICOT 2013 Deadline
DESCRIPTION:2013 IEEE International Conference on Orange Technologies
URL:http://www.wikicfp.com/cfp/servlet/event.showcfp?eventid=24943&copyow
 nerid=44494
UID:cfp311827-D@wikicfp.com
END:VEVENT
END:VCALENDAR
